BEGIN:VCALENDAR
VERSION:2.0
PRODID:-//bc magazine - ECPv6.15.20//NONSGML v1.0//EN
CALSCALE:GREGORIAN
METHOD:PUBLISH
X-WR-CALNAME:bc magazine
X-ORIGINAL-URL:https://www.bcmagazine.net
X-WR-CALDESC:Events for bc magazine
REFRESH-INTERVAL;VALUE=DURATION:PT1H
X-Robots-Tag:noindex
X-PUBLISHED-TTL:PT1H
BEGIN:VTIMEZONE
TZID:Asia/Hong_Kong
BEGIN:STANDARD
TZOFFSETFROM:+0800
TZOFFSETTO:+0800
TZNAME:HKT
DTSTART:20150101T000000
END:STANDARD
END:VTIMEZONE
BEGIN:VEVENT
DTSTART;TZID=Asia/Hong_Kong:20161211T200000
DTEND;TZID=Asia/Hong_Kong:20161211T200000
DTSTAMP:20260421T143701
CREATED:19161017T174615Z
LAST-MODIFIED:20161017T175143Z
UID:10002280-1481486400-1481486400@www.bcmagazine.net
SUMMARY:People’s Hero
DESCRIPTION:People’s Hero\nOx Warehouse\nDate: 8pm\, 9-11 December\, 2016\nVenue: Armazem do Boi\nTickets: $160 from MacauTicket
URL:https://www.bcmagazine.net/event/peoples-hero-2016/2016-12-11/
LOCATION:Armazem do Boi\, Avenida do Almirante Lacerda\, Macau
CATEGORIES:2016,Macau,Performing Arts,Theatre
GEO:22.2081149;113.5462201
X-APPLE-STRUCTURED-LOCATION;VALUE=URI;X-ADDRESS=Armazem do Boi Avenida do Almirante Lacerda Macau;X-APPLE-RADIUS=500;X-TITLE=Avenida do Almirante Lacerda:geo:113.5462201,22.2081149
END:VEVENT
BEGIN:VEVENT
DTSTART;TZID=Asia/Hong_Kong:20161210T200000
DTEND;TZID=Asia/Hong_Kong:20161210T200000
DTSTAMP:20260421T143701
CREATED:19161017T174615Z
LAST-MODIFIED:20161017T175143Z
UID:10002279-1481400000-1481400000@www.bcmagazine.net
SUMMARY:People’s Hero
DESCRIPTION:People’s Hero\nOx Warehouse\nDate: 8pm\, 9-11 December\, 2016\nVenue: Armazem do Boi\nTickets: $160 from MacauTicket
URL:https://www.bcmagazine.net/event/peoples-hero-2016/2016-12-10/
LOCATION:Armazem do Boi\, Avenida do Almirante Lacerda\, Macau
CATEGORIES:2016,Macau,Performing Arts,Theatre
GEO:22.2081149;113.5462201
X-APPLE-STRUCTURED-LOCATION;VALUE=URI;X-ADDRESS=Armazem do Boi Avenida do Almirante Lacerda Macau;X-APPLE-RADIUS=500;X-TITLE=Avenida do Almirante Lacerda:geo:113.5462201,22.2081149
END:VEVENT
BEGIN:VEVENT
DTSTART;TZID=Asia/Hong_Kong:20161209T200000
DTEND;TZID=Asia/Hong_Kong:20161209T200000
DTSTAMP:20260421T143701
CREATED:19161017T174615Z
LAST-MODIFIED:20161017T175143Z
UID:10002278-1481313600-1481313600@www.bcmagazine.net
SUMMARY:People’s Hero
DESCRIPTION:People’s Hero\nOx Warehouse\nDate: 8pm\, 9-11 December\, 2016\nVenue: Armazem do Boi\nTickets: $160 from MacauTicket
URL:https://www.bcmagazine.net/event/peoples-hero-2016/2016-12-09/
LOCATION:Armazem do Boi\, Avenida do Almirante Lacerda\, Macau
CATEGORIES:2016,Macau,Performing Arts,Theatre
GEO:22.2081149;113.5462201
X-APPLE-STRUCTURED-LOCATION;VALUE=URI;X-ADDRESS=Armazem do Boi Avenida do Almirante Lacerda Macau;X-APPLE-RADIUS=500;X-TITLE=Avenida do Almirante Lacerda:geo:113.5462201,22.2081149
END:VEVENT
END:VCALENDAR