BEGIN:VCALENDAR
VERSION:2.0
PRODID:-//bc magazine - ECPv6.15.20//NONSGML v1.0//EN
CALSCALE:GREGORIAN
METHOD:PUBLISH
X-WR-CALNAME:bc magazine
X-ORIGINAL-URL:https://www.bcmagazine.net
X-WR-CALDESC:Events for bc magazine
REFRESH-INTERVAL;VALUE=DURATION:PT1H
X-Robots-Tag:noindex
X-PUBLISHED-TTL:PT1H
BEGIN:VTIMEZONE
TZID:Asia/Hong_Kong
BEGIN:STANDARD
TZOFFSETFROM:+0800
TZOFFSETTO:+0800
TZNAME:HKT
DTSTART:20160101T000000
END:STANDARD
END:VTIMEZONE
BEGIN:VEVENT
DTSTART;TZID=Asia/Hong_Kong:20170917T150000
DTEND;TZID=Asia/Hong_Kong:20170917T150000
DTSTAMP:20260421T184127
CREATED:19170807T083751Z
LAST-MODIFIED:20170807T120541Z
UID:10003135-1505660400-1505660400@www.bcmagazine.net
SUMMARY:The Nether
DESCRIPTION:The Nether\nPaprika Studio\nDate: 15-17 September\, 2017\nVenue: Ngau Chi Wan Civic Centre\, Theatre\nTickets: $280\, $220 from Urbtix\nMore info:\nCantonese Drama
URL:https://www.bcmagazine.net/event/the-nether-paprika-studio-17-09-2017/
LOCATION:Ngau Chi Wan Civic Centre\, Theatre\, 2/F & 3/F\, Ngau Chi Wan Municipal Services Building\, 11 Clear Water Bay Road\, Kowloon\, Hong Kong
CATEGORIES:2017,Cantonese drama,Performing Arts,Theatre
GEO:22.3345215;114.2089915
X-APPLE-STRUCTURED-LOCATION;VALUE=URI;X-ADDRESS=Ngau Chi Wan Civic Centre Theatre 2/F & 3/F Ngau Chi Wan Municipal Services Building 11 Clear Water Bay Road Kowloon Hong Kong;X-APPLE-RADIUS=500;X-TITLE=2/F & 3/F\, Ngau Chi Wan Municipal Services Building\, 11 Clear Water Bay Road:geo:114.2089915,22.3345215
END:VEVENT
BEGIN:VEVENT
DTSTART;TZID=Asia/Hong_Kong:20170916T200000
DTEND;TZID=Asia/Hong_Kong:20170916T200000
DTSTAMP:20260421T184127
CREATED:19170807T083751Z
LAST-MODIFIED:20170807T120551Z
UID:10003134-1505592000-1505592000@www.bcmagazine.net
SUMMARY:The Nether
DESCRIPTION:The Nether\nPaprika Studio\nDate: 15-17 September\, 2017\nVenue: Ngau Chi Wan Civic Centre\, Theatre\nTickets: $280\, $220 from Urbtix\nMore info:\nCantonese Drama
URL:https://www.bcmagazine.net/event/the-nether-paprika-studio-16-09-2017/
LOCATION:Ngau Chi Wan Civic Centre\, Theatre\, 2/F & 3/F\, Ngau Chi Wan Municipal Services Building\, 11 Clear Water Bay Road\, Kowloon\, Hong Kong
CATEGORIES:2017,Cantonese drama,Performing Arts,Theatre
GEO:22.3345215;114.2089915
X-APPLE-STRUCTURED-LOCATION;VALUE=URI;X-ADDRESS=Ngau Chi Wan Civic Centre Theatre 2/F & 3/F Ngau Chi Wan Municipal Services Building 11 Clear Water Bay Road Kowloon Hong Kong;X-APPLE-RADIUS=500;X-TITLE=2/F & 3/F\, Ngau Chi Wan Municipal Services Building\, 11 Clear Water Bay Road:geo:114.2089915,22.3345215
END:VEVENT
BEGIN:VEVENT
DTSTART;TZID=Asia/Hong_Kong:20170915T200000
DTEND;TZID=Asia/Hong_Kong:20170915T200000
DTSTAMP:20260421T184127
CREATED:19170807T083751Z
LAST-MODIFIED:20170807T120602Z
UID:10003133-1505505600-1505505600@www.bcmagazine.net
SUMMARY:The Nether
DESCRIPTION:The Nether\nPaprika Studio\nDate: 15-17 September\, 2017\nVenue: Ngau Chi Wan Civic Centre\, Theatre\nTickets: $280\, $220 from Urbtix\nMore info:\nCantonese Drama
URL:https://www.bcmagazine.net/event/the-nether-paprika-studio-15-09-2017/
LOCATION:Ngau Chi Wan Civic Centre\, Theatre\, 2/F & 3/F\, Ngau Chi Wan Municipal Services Building\, 11 Clear Water Bay Road\, Kowloon\, Hong Kong
CATEGORIES:2017,Cantonese drama,Performing Arts,Theatre
GEO:22.3345215;114.2089915
X-APPLE-STRUCTURED-LOCATION;VALUE=URI;X-ADDRESS=Ngau Chi Wan Civic Centre Theatre 2/F & 3/F Ngau Chi Wan Municipal Services Building 11 Clear Water Bay Road Kowloon Hong Kong;X-APPLE-RADIUS=500;X-TITLE=2/F & 3/F\, Ngau Chi Wan Municipal Services Building\, 11 Clear Water Bay Road:geo:114.2089915,22.3345215
END:VEVENT
END:VCALENDAR