BEGIN:VCALENDAR
VERSION:2.0
PRODID:-//bc magazine - ECPv6.15.20//NONSGML v1.0//EN
CALSCALE:GREGORIAN
METHOD:PUBLISH
X-WR-CALNAME:bc magazine
X-ORIGINAL-URL:https://www.bcmagazine.net
X-WR-CALDESC:Events for bc magazine
REFRESH-INTERVAL;VALUE=DURATION:PT1H
X-Robots-Tag:noindex
X-PUBLISHED-TTL:PT1H
BEGIN:VTIMEZONE
TZID:Asia/Hong_Kong
BEGIN:STANDARD
TZOFFSETFROM:+0800
TZOFFSETTO:+0800
TZNAME:HKT
DTSTART:20150101T000000
END:STANDARD
END:VTIMEZONE
BEGIN:VEVENT
DTSTART;TZID=Asia/Hong_Kong:20190220T200000
DTEND;TZID=Asia/Hong_Kong:20190220T200000
DTSTAMP:20260424T102957
CREATED:19181115T145036Z
LAST-MODIFIED:20181119T074918Z
UID:10004580-1550692800-1550692800@www.bcmagazine.net
SUMMARY:SID
DESCRIPTION:SID – 15th Anniversary Tour: The Place Where We Love Most\nDate: 8pm\, 20 February\, 2019\nVenue: MacPherson\nTickets: $1\,100\, $890\, $690\, $490\, $390 from Cityline
URL:https://www.bcmagazine.net/event/sid/
LOCATION:MacPherson Stadium\, 38 Nelson Street\, Mongkok\, Hong Kong
CATEGORIES:2019,Concert,Music,Performing Arts
ATTACH;FMTTYPE=image/jpeg:https://www.bcmagazine.net/wp-content/uploads/1918/11/SID-15th-Anniversary-2019-hk.jpg
GEO:22.3188457;114.1728403
X-APPLE-STRUCTURED-LOCATION;VALUE=URI;X-ADDRESS=MacPherson Stadium 38 Nelson Street Mongkok Hong Kong;X-APPLE-RADIUS=500;X-TITLE=38 Nelson Street:geo:114.1728403,22.3188457
END:VEVENT
BEGIN:VEVENT
DTSTART;TZID=Asia/Hong_Kong:20190126T200000
DTEND;TZID=Asia/Hong_Kong:20190126T200000
DTSTAMP:20260424T102957
CREATED:19181115T145036Z
LAST-MODIFIED:20181119T073953Z
UID:10004578-1548532800-1548532800@www.bcmagazine.net
SUMMARY:Hiroshi Fujiwara
DESCRIPTION:Hiroshi Fujiwara – Slumbers Tour\nDate: 8pm\, 26 January\, 2019\nVenue: 1563 at the East\nTickets: $890\, $690 from Cityline
URL:https://www.bcmagazine.net/event/hiroshi-fujiwara-2019/
LOCATION:1563 at The East\, 6/F Hopewell Centre\, 183 Queen's Road East\, Wanchai\, Hong Kong
CATEGORIES:2019,Concert,Music,Performing Arts
ATTACH;FMTTYPE=image/jpeg:https://www.bcmagazine.net/wp-content/uploads/1918/11/Hiroshi-Fujiwara-hk-2019.jpg
GEO:22.396428;114.109497
X-APPLE-STRUCTURED-LOCATION;VALUE=URI;X-ADDRESS=1563 at The East 6/F Hopewell Centre 183 Queen's Road East Wanchai Hong Kong;X-APPLE-RADIUS=500;X-TITLE=6/F Hopewell Centre\, 183 Queen's Road East:geo:114.109497,22.396428
END:VEVENT
BEGIN:VEVENT
DTSTART;TZID=Asia/Hong_Kong:20181202T200000
DTEND;TZID=Asia/Hong_Kong:20181202T200000
DTSTAMP:20260424T102957
CREATED:19181115T145036Z
LAST-MODIFIED:20181119T074623Z
UID:10004579-1543780800-1543780800@www.bcmagazine.net
SUMMARY:Mio Yamaza
DESCRIPTION:Mio Yamaza\nDate: 8pm\, 2 December\, 2018\nVenue: Kitec\, Music Zone@E-Max\nTickets: $580\, $380 from Cityline
URL:https://www.bcmagazine.net/event/mio-yamaza-2018/
LOCATION:KITEC\, Music Zone@E-Max\, KITEC\,‎ 1 Trademart Drive\, Kowloon Bay\, Hong Kong
CATEGORIES:2018,Concert,Music,Performing Arts
ATTACH;FMTTYPE=image/jpeg:https://www.bcmagazine.net/wp-content/uploads/1918/11/Mio-Yamaza-2019-HK.jpg
GEO:22.3239575;114.2037608
X-APPLE-STRUCTURED-LOCATION;VALUE=URI;X-ADDRESS=KITEC Music Zone@E-Max KITEC‎ 1 Trademart Drive Kowloon Bay Hong Kong;X-APPLE-RADIUS=500;X-TITLE=KITEC\,‎ 1 Trademart Drive:geo:114.2037608,22.3239575
END:VEVENT
BEGIN:VEVENT
DTSTART;TZID=Asia/Hong_Kong:20180618T200000
DTEND;TZID=Asia/Hong_Kong:20180618T201500
DTSTAMP:20260424T102957
CREATED:19180505T081708Z
LAST-MODIFIED:20180505T085808Z
UID:10004016-1529352000-1529352900@www.bcmagazine.net
SUMMARY:Lisa Ono
DESCRIPTION:Lisa Ono – 30th Anniversary Tour\nDate: 8pm\, 18 June\, 2018\nVenue: MacPherson Stadium\nTickets: $890\, $790\, $690\, $490\, $390 from Cityline
URL:https://www.bcmagazine.net/event/lisa-ono-2018/
LOCATION:MacPherson Stadium\, 38 Nelson Street\, Mongkok\, Hong Kong
CATEGORIES:2018,Concert,Music,Performing Arts
GEO:22.3188457;114.1728403
X-APPLE-STRUCTURED-LOCATION;VALUE=URI;X-ADDRESS=MacPherson Stadium 38 Nelson Street Mongkok Hong Kong;X-APPLE-RADIUS=500;X-TITLE=38 Nelson Street:geo:114.1728403,22.3188457
END:VEVENT
BEGIN:VEVENT
DTSTART;TZID=Asia/Hong_Kong:20180506T150000
DTEND;TZID=Asia/Hong_Kong:20180506T150000
DTSTAMP:20260424T102957
CREATED:19180505T081708Z
LAST-MODIFIED:20180505T082618Z
UID:10003980-1525618800-1525618800@www.bcmagazine.net
SUMMARY:G Karina
DESCRIPTION:G Karina – Photo Book Release\nDate: 3pm\, May\, 2018\nVenue: Kitec\, Music Zone@E-Max\nTickets: $480 from Cityline
URL:https://www.bcmagazine.net/event/g-karina-2018/
LOCATION:KITEC\, Music Zone@E-Max\, KITEC\,‎ 1 Trademart Drive\, Kowloon Bay\, Hong Kong
CATEGORIES:2018,Concert,Music,Performing Arts
GEO:22.3239575;114.2037608
X-APPLE-STRUCTURED-LOCATION;VALUE=URI;X-ADDRESS=KITEC Music Zone@E-Max KITEC‎ 1 Trademart Drive Kowloon Bay Hong Kong;X-APPLE-RADIUS=500;X-TITLE=KITEC\,‎ 1 Trademart Drive:geo:114.2037608,22.3239575
END:VEVENT
BEGIN:VEVENT
DTSTART;TZID=Asia/Hong_Kong:20170415T200000
DTEND;TZID=Asia/Hong_Kong:20170415T200000
DTSTAMP:20260424T102957
CREATED:19170320T162356Z
LAST-MODIFIED:20170320T162622Z
UID:10001124-1492286400-1492286400@www.bcmagazine.net
SUMMARY:Orange Range
DESCRIPTION:Orange Range\nDate: 8pm\, 15 April\, 2017\nVenue: Kitec\, Music Zone@E-Max\nTickets: $680\, $480 from Cityline
URL:https://www.bcmagazine.net/event/orange-range-2017/
LOCATION:KITEC\, Music Zone@E-Max\, KITEC\,‎ 1 Trademart Drive\, Kowloon Bay\, Hong Kong
CATEGORIES:2017,Concert,Music
GEO:22.3239575;114.2037608
X-APPLE-STRUCTURED-LOCATION;VALUE=URI;X-ADDRESS=KITEC Music Zone@E-Max KITEC‎ 1 Trademart Drive Kowloon Bay Hong Kong;X-APPLE-RADIUS=500;X-TITLE=KITEC\,‎ 1 Trademart Drive:geo:114.2037608,22.3239575
END:VEVENT
BEGIN:VEVENT
DTSTART;TZID=Asia/Hong_Kong:20160709T190000
DTEND;TZID=Asia/Hong_Kong:20160709T190000
DTSTAMP:20260424T102957
CREATED:19160429T213055Z
LAST-MODIFIED:20160429T232645Z
UID:10001589-1468090800-1468090800@www.bcmagazine.net
SUMMARY:Kana-Boon
DESCRIPTION:Kana-Boon\nDate: 7pm\, 9 July\, 2016\nVenue: Music Zone@E-Max\nTickets: $480\, $380 from Cityline
URL:https://www.bcmagazine.net/event/kana-boon-2016/
LOCATION:KITEC\, Music Zone@E-Max\, KITEC\,‎ 1 Trademart Drive\, Kowloon Bay\, Hong Kong
CATEGORIES:2016,Concert,Music
GEO:22.3239575;114.2037608
X-APPLE-STRUCTURED-LOCATION;VALUE=URI;X-ADDRESS=KITEC Music Zone@E-Max KITEC‎ 1 Trademart Drive Kowloon Bay Hong Kong;X-APPLE-RADIUS=500;X-TITLE=KITEC\,‎ 1 Trademart Drive:geo:114.2037608,22.3239575
END:VEVENT
END:VCALENDAR