BEGIN:VCALENDAR
VERSION:2.0
PRODID:-//bc magazine - ECPv6.15.20//NONSGML v1.0//EN
CALSCALE:GREGORIAN
METHOD:PUBLISH
X-WR-CALNAME:bc magazine
X-ORIGINAL-URL:https://www.bcmagazine.net
X-WR-CALDESC:Events for bc magazine
REFRESH-INTERVAL;VALUE=DURATION:PT1H
X-Robots-Tag:noindex
X-PUBLISHED-TTL:PT1H
BEGIN:VTIMEZONE
TZID:Asia/Hong_Kong
BEGIN:STANDARD
TZOFFSETFROM:+0800
TZOFFSETTO:+0800
TZNAME:HKT
DTSTART:20170101T000000
END:STANDARD
END:VTIMEZONE
BEGIN:VEVENT
DTSTART;TZID=Asia/Hong_Kong:20180519T193000
DTEND;TZID=Asia/Hong_Kong:20180519T193000
DTSTAMP:20260421T102955
CREATED:19180223T071624Z
LAST-MODIFIED:20180223T120245Z
UID:10003862-1526758200-1526758200@www.bcmagazine.net
SUMMARY:Sunwolves v Stormers
DESCRIPTION:Sunwolves v Stormers\nDate: 19 May\, 2018\nVenue: Mongkok Stadium\nTickets: tbc
URL:https://www.bcmagazine.net/event/sunwolves-v-stormers-2018/
LOCATION:Mongkok Stadium\, 37 Flower Street\, Yau Ma Tai\, Prince Edward (Exit A)\, United States
CATEGORIES:2018,Rugby,Sport
END:VEVENT
END:VCALENDAR