BEGIN:VCALENDAR
VERSION:2.0
PRODID:-//bc magazine - ECPv6.15.20//NONSGML v1.0//EN
CALSCALE:GREGORIAN
METHOD:PUBLISH
X-ORIGINAL-URL:https://www.bcmagazine.net
X-WR-CALDESC:Events for bc magazine
REFRESH-INTERVAL;VALUE=DURATION:PT1H
X-Robots-Tag:noindex
X-PUBLISHED-TTL:PT1H
BEGIN:VTIMEZONE
TZID:Asia/Hong_Kong
BEGIN:STANDARD
TZOFFSETFROM:+0800
TZOFFSETTO:+0800
TZNAME:HKT
DTSTART:20200101T000000
END:STANDARD
END:VTIMEZONE
BEGIN:VEVENT
DTSTART;TZID=Asia/Hong_Kong:20211205T200000
DTEND;TZID=Asia/Hong_Kong:20211205T200000
DTSTAMP:20260423T114835
CREATED:19211104T034537Z
LAST-MODIFIED:20211110T113457Z
UID:10005333-1638734400-1638734400@www.bcmagazine.net
SUMMARY:Singingholic
DESCRIPTION:Singingholic\nDate: 4-5 December\, 2021\nVenue: HK Cultural Centre\, Studio Theatre\nTickets: $200 from Urbtix
URL:https://www.bcmagazine.net/event/singingholic/2021-12-05/
LOCATION:HK Cultural Centre\, Studio Theatre\, 10 Salisbury Road\, Tsim Sha Tsui\, Hong Kong
CATEGORIES:2021,Cantonese drama,Music,Musical,Performing Arts,Theatre
ATTACH;FMTTYPE=image/png:https://www.bcmagazine.net/wp-content/uploads/1921/11/Singingholic-2021.png
END:VEVENT
BEGIN:VEVENT
DTSTART;TZID=Asia/Hong_Kong:20211204T200000
DTEND;TZID=Asia/Hong_Kong:20211204T200000
DTSTAMP:20260423T114835
CREATED:19211104T034537Z
LAST-MODIFIED:20211110T113457Z
UID:10005332-1638648000-1638648000@www.bcmagazine.net
SUMMARY:Singingholic
DESCRIPTION:Singingholic\nDate: 4-5 December\, 2021\nVenue: HK Cultural Centre\, Studio Theatre\nTickets: $200 from Urbtix
URL:https://www.bcmagazine.net/event/singingholic/2021-12-04/
LOCATION:HK Cultural Centre\, Studio Theatre\, 10 Salisbury Road\, Tsim Sha Tsui\, Hong Kong
CATEGORIES:2021,Cantonese drama,Music,Musical,Performing Arts,Theatre
ATTACH;FMTTYPE=image/png:https://www.bcmagazine.net/wp-content/uploads/1921/11/Singingholic-2021.png
END:VEVENT
END:VCALENDAR