BEGIN:VCALENDAR
VERSION:2.0
PRODID:-//bc magazine - ECPv6.15.20//NONSGML v1.0//EN
CALSCALE:GREGORIAN
METHOD:PUBLISH
X-WR-CALNAME:bc magazine
X-ORIGINAL-URL:https://www.bcmagazine.net
X-WR-CALDESC:Events for bc magazine
REFRESH-INTERVAL;VALUE=DURATION:PT1H
X-Robots-Tag:noindex
X-PUBLISHED-TTL:PT1H
BEGIN:VTIMEZONE
TZID:Asia/Hong_Kong
BEGIN:STANDARD
TZOFFSETFROM:+0800
TZOFFSETTO:+0800
TZNAME:HKT
DTSTART:20140101T000000
END:STANDARD
END:VTIMEZONE
BEGIN:VEVENT
DTSTART;TZID=Asia/Hong_Kong:20180520T193000
DTEND;TZID=Asia/Hong_Kong:20180520T193000
DTSTAMP:20260424T034946
CREATED:19170720T083647Z
LAST-MODIFIED:20180416T160513Z
UID:10003046-1526844600-1526844600@www.bcmagazine.net
SUMMARY:The Unknown Soldier
DESCRIPTION:The Unknown Soldier\nDate: 18-20 May\, 2018\nVenue: HKAC\, McAulay Studio Theatre\nTickets: $200\, $150 from Urbtix
URL:https://www.bcmagazine.net/event/the-unknown-soldier-20-05-2018/
LOCATION:HK Arts Centre\, McAulay Studio\, 2 Harbour Road\, Wanchai\, Hong Kong
CATEGORIES:2018,Performing Arts,Theatre
GEO:22.280173;114.1708144
X-APPLE-STRUCTURED-LOCATION;VALUE=URI;X-ADDRESS=HK Arts Centre McAulay Studio 2 Harbour Road Wanchai Hong Kong;X-APPLE-RADIUS=500;X-TITLE=2 Harbour Road:geo:114.1708144,22.280173
END:VEVENT
BEGIN:VEVENT
DTSTART;TZID=Asia/Hong_Kong:20180519T200000
DTEND;TZID=Asia/Hong_Kong:20180519T200000
DTSTAMP:20260424T034946
CREATED:19170720T083647Z
LAST-MODIFIED:20180416T160543Z
UID:10003045-1526760000-1526760000@www.bcmagazine.net
SUMMARY:The Unknown Soldier
DESCRIPTION:The Unknown Soldier\nDate: 18-20 May\, 2018\nVenue: HKAC\, McAulay Studio Theatre\nTickets: $200\, $150 from Urbtix
URL:https://www.bcmagazine.net/event/the-unknown-soldier-19-05-2018/
LOCATION:HK Arts Centre\, McAulay Studio\, 2 Harbour Road\, Wanchai\, Hong Kong
CATEGORIES:2018,Performing Arts,Theatre
GEO:22.280173;114.1708144
X-APPLE-STRUCTURED-LOCATION;VALUE=URI;X-ADDRESS=HK Arts Centre McAulay Studio 2 Harbour Road Wanchai Hong Kong;X-APPLE-RADIUS=500;X-TITLE=2 Harbour Road:geo:114.1708144,22.280173
END:VEVENT
BEGIN:VEVENT
DTSTART;TZID=Asia/Hong_Kong:20180518T200000
DTEND;TZID=Asia/Hong_Kong:20180518T200000
DTSTAMP:20260424T034946
CREATED:19170720T083647Z
LAST-MODIFIED:20180416T160645Z
UID:10003044-1526673600-1526673600@www.bcmagazine.net
SUMMARY:The Unknown Soldier
DESCRIPTION:The Unknown Soldier\nDate: 18-20 May\, 2018\nVenue: HKAC\, McAulay Studio Theatre\nTickets: $200\, $150 from Urbtix
URL:https://www.bcmagazine.net/event/the-unknown-soldier-18-05-2018/
LOCATION:HK Arts Centre\, McAulay Studio\, 2 Harbour Road\, Wanchai\, Hong Kong
CATEGORIES:2018,Performing Arts,Theatre
GEO:22.280173;114.1708144
X-APPLE-STRUCTURED-LOCATION;VALUE=URI;X-ADDRESS=HK Arts Centre McAulay Studio 2 Harbour Road Wanchai Hong Kong;X-APPLE-RADIUS=500;X-TITLE=2 Harbour Road:geo:114.1708144,22.280173
END:VEVENT
BEGIN:VEVENT
DTSTART;TZID=Asia/Hong_Kong:20160317T200000
DTEND;TZID=Asia/Hong_Kong:20160317T200000
DTSTAMP:20260424T034946
CREATED:19160222T095044Z
LAST-MODIFIED:20160225T092531Z
UID:10000345-1458244800-1458244800@www.bcmagazine.net
SUMMARY:Kennedy
DESCRIPTION:Written by the award-winning Spanish poet José Manuel Sevilla who penned the Hong Kong production of The Bridge in 2011\, Kennedy is a noirish tale of loss and redemption set in late 20th Century Barcelona. Recently released from prison\, Kennedy seeks his sister\, Beatriz. Both escape from the reality of their lives into philosophical flights of fancy that keep the shadows at bay. \nThis Stylus Productions staging of Kennedy is the world premiere of Sevilla’s latest work. \nJosé Manuel Sevilla is a Barcelona born poet living in Hong Kong who has published several volumes of poetry including From the Limits of Paradise (1991)\, Contiguous Traject (1993)\, Alicia in Ikea’s Catalogue (2004) and Ashes of Auschwitz and Eighteen Dogs (2009). He founded ‘Poets against AIDS’ in Spain and\, while living in Mexico\, Sevilla started the photograph collection Street Language\, which was exhibited at the Fringe Club in 2004. \nStylus Productions was founded in 2006 by Adam Harris; their previous shows include The Rocky Horror Show (2006 & 2010)\, the world premiere in English of The Bridge (2011\, also by the award-winning Spanish poet José Manuel Sevilla)\, Macbeth (2014)\, Chimes of Freedom (2009) and last year’s Medea. \nWARNING: This show includes adult language and themes. \nKennedy\nDate: 8pm\, 17-19 March\, 2016\nVenue: HK Arts Centre\, McAulay Studio\nTickets: $200/$180 from Urbtix
URL:https://www.bcmagazine.net/event/kennedy-2016/2016-03-17/
LOCATION:HK Arts Centre\, McAulay Studio\, 2 Harbour Road\, Wanchai\, Hong Kong
CATEGORIES:2016,Performing Arts,Theatre
GEO:22.280173;114.1708144
X-APPLE-STRUCTURED-LOCATION;VALUE=URI;X-ADDRESS=HK Arts Centre McAulay Studio 2 Harbour Road Wanchai Hong Kong;X-APPLE-RADIUS=500;X-TITLE=2 Harbour Road:geo:114.1708144,22.280173
END:VEVENT
BEGIN:VEVENT
DTSTART;TZID=Asia/Hong_Kong:20150304T200000
DTEND;TZID=Asia/Hong_Kong:20150307T230000
DTSTAMP:20260424T034946
CREATED:20150122T064815Z
LAST-MODIFIED:20160219T081819Z
UID:10005555-1425499200-1425769200@www.bcmagazine.net
SUMMARY:Medea
DESCRIPTION:Medea\nWhen: 8pm\, 4-7 March\, 2015\nWhere: McAulay Studio\, Hong Kong Arts Centre\nTickets: $220 ($180 concessions) from URBTIX
URL:https://www.bcmagazine.net/event/medea/
LOCATION:HK Arts Centre\, McAulay Studio\, 2 Harbour Road\, Wanchai\, Hong Kong
CATEGORIES:Performing Arts,Theatre,Theatre
GEO:22.280173;114.1708144
X-APPLE-STRUCTURED-LOCATION;VALUE=URI;X-ADDRESS=HK Arts Centre McAulay Studio 2 Harbour Road Wanchai Hong Kong;X-APPLE-RADIUS=500;X-TITLE=2 Harbour Road:geo:114.1708144,22.280173
END:VEVENT
END:VCALENDAR