BEGIN:VCALENDAR
VERSION:2.0
PRODID:-//bc magazine - ECPv6.15.20//NONSGML v1.0//EN
CALSCALE:GREGORIAN
METHOD:PUBLISH
X-WR-CALNAME:bc magazine
X-ORIGINAL-URL:https://www.bcmagazine.net
X-WR-CALDESC:Events for bc magazine
REFRESH-INTERVAL;VALUE=DURATION:PT1H
X-Robots-Tag:noindex
X-PUBLISHED-TTL:PT1H
BEGIN:VTIMEZONE
TZID:Asia/Hong_Kong
BEGIN:STANDARD
TZOFFSETFROM:+0800
TZOFFSETTO:+0800
TZNAME:HKT
DTSTART:20150101T000000
END:STANDARD
END:VTIMEZONE
BEGIN:VEVENT
DTSTART;TZID=Asia/Hong_Kong:20161002T150000
DTEND;TZID=Asia/Hong_Kong:20161002T170000
DTSTAMP:20260423T204134
CREATED:19160912T061622Z
LAST-MODIFIED:20160912T062011Z
UID:10002115-1475420400-1475427600@www.bcmagazine.net
SUMMARY:Neighbourhood
DESCRIPTION:Neighbourhood\nTalents World\nDate: 1-2 October\, 2016\nVenue: Sheung Wan Civic Centre\, Lecture Hall\nTickets: $150 from Urbtix
URL:https://www.bcmagazine.net/event/neighbourhood/2016-10-02/
LOCATION:Sheung Wan Civic Centre\, Lecture Hall\, 345 Queen's Road Central\, Sheung Wan\, Hong Kong
CATEGORIES:2016,Performing Arts,Theatre
GEO:22.286086;114.149854
X-APPLE-STRUCTURED-LOCATION;VALUE=URI;X-ADDRESS=Sheung Wan Civic Centre Lecture Hall 345 Queen's Road Central Sheung Wan Hong Kong;X-APPLE-RADIUS=500;X-TITLE=345 Queen's Road Central:geo:114.149854,22.286086
END:VEVENT
BEGIN:VEVENT
DTSTART;TZID=Asia/Hong_Kong:20161001T150000
DTEND;TZID=Asia/Hong_Kong:20161001T170000
DTSTAMP:20260423T204134
CREATED:19160912T061622Z
LAST-MODIFIED:20160912T062011Z
UID:10002114-1475334000-1475341200@www.bcmagazine.net
SUMMARY:Neighbourhood
DESCRIPTION:Neighbourhood\nTalents World\nDate: 1-2 October\, 2016\nVenue: Sheung Wan Civic Centre\, Lecture Hall\nTickets: $150 from Urbtix
URL:https://www.bcmagazine.net/event/neighbourhood/2016-10-01/
LOCATION:Sheung Wan Civic Centre\, Lecture Hall\, 345 Queen's Road Central\, Sheung Wan\, Hong Kong
CATEGORIES:2016,Performing Arts,Theatre
GEO:22.286086;114.149854
X-APPLE-STRUCTURED-LOCATION;VALUE=URI;X-ADDRESS=Sheung Wan Civic Centre Lecture Hall 345 Queen's Road Central Sheung Wan Hong Kong;X-APPLE-RADIUS=500;X-TITLE=345 Queen's Road Central:geo:114.149854,22.286086
END:VEVENT
END:VCALENDAR