BEGIN:VCALENDAR
VERSION:2.0
PRODID:-//bc magazine - ECPv6.15.20//NONSGML v1.0//EN
CALSCALE:GREGORIAN
METHOD:PUBLISH
X-WR-CALNAME:bc magazine
X-ORIGINAL-URL:https://www.bcmagazine.net
X-WR-CALDESC:Events for bc magazine
REFRESH-INTERVAL;VALUE=DURATION:PT1H
X-Robots-Tag:noindex
X-PUBLISHED-TTL:PT1H
BEGIN:VTIMEZONE
TZID:Asia/Hong_Kong
BEGIN:STANDARD
TZOFFSETFROM:+0800
TZOFFSETTO:+0800
TZNAME:HKT
DTSTART:20150101T000000
END:STANDARD
END:VTIMEZONE
BEGIN:VEVENT
DTSTART;TZID=Asia/Hong_Kong:20161203T140000
DTEND;TZID=Asia/Hong_Kong:20161203T170000
DTSTAMP:20260423T114646
CREATED:19161108T144118Z
LAST-MODIFIED:20161108T145014Z
UID:10002345-1480773600-1480784400@www.bcmagazine.net
SUMMARY:TEDx Hong Kong 2016: Plasmatic
DESCRIPTION:TEDx Hong Kong 2016: Plasmatic\nDate: 3 December\, 2016\nVenue: HK Convention and Exhibition Centre\nTickets: $450\, $350\, $250
URL:https://www.bcmagazine.net/event/tedx-hong-kong-2016-plasmatic/
LOCATION:HK Convention and Exhibition Centre\, 1 Expo Drive\, Wanchai\, Hong Kong
CATEGORIES:2016,Other
END:VEVENT
BEGIN:VEVENT
DTSTART;TZID=Asia/Hong_Kong:20161112T200000
DTEND;TZID=Asia/Hong_Kong:20161112T200000
DTSTAMP:20260423T114646
CREATED:19161108T145037Z
LAST-MODIFIED:20161108T145353Z
UID:10002346-1478980800-1478980800@www.bcmagazine.net
SUMMARY:TEDx Hong Kong Salon: Edible Ideas
DESCRIPTION:TEDx Hong Kong Salon: Edible Ideas\nDate: 2pm\, 12 November\, 2016\nVenue: HK Convention and Exhibition Centre\nTickets: $200
URL:https://www.bcmagazine.net/event/tedx-hong-kong-salon-edible-ideas/
LOCATION:HK Convention and Exhibition Centre\, 1 Expo Drive\, Wanchai\, Hong Kong
CATEGORIES:2016,Other
END:VEVENT
END:VCALENDAR