BEGIN:VCALENDAR
VERSION:2.0
PRODID:-//bc magazine - ECPv6.15.20//NONSGML v1.0//EN
CALSCALE:GREGORIAN
METHOD:PUBLISH
X-WR-CALNAME:bc magazine
X-ORIGINAL-URL:https://www.bcmagazine.net
X-WR-CALDESC:Events for bc magazine
REFRESH-INTERVAL;VALUE=DURATION:PT1H
X-Robots-Tag:noindex
X-PUBLISHED-TTL:PT1H
BEGIN:VTIMEZONE
TZID:Asia/Hong_Kong
BEGIN:STANDARD
TZOFFSETFROM:+0800
TZOFFSETTO:+0800
TZNAME:HKT
DTSTART:20140101T000000
END:STANDARD
END:VTIMEZONE
BEGIN:VEVENT
DTSTART;TZID=Asia/Hong_Kong:20260416T193000
DTEND;TZID=Asia/Hong_Kong:20260416T193000
DTSTAMP:20260423T084054
CREATED:20260309T104206Z
LAST-MODIFIED:20260309T112024Z
UID:10013096-1776367800-1776367800@www.bcmagazine.net
SUMMARY:The Bollands
DESCRIPTION:The Bollands\nSupport: Fish Godmother\, The Young Bucks\nDate: 7:30pm\, 16 April 2026\nVenue:  The Aftermath\nTickets: tbc
URL:https://www.bcmagazine.net/event/the-bollands-hk-2026/
LOCATION:The Aftermath\, 57 Wyndham Street\, Central\, Hong Kong
CATEGORIES:2026,Concert,Music
ATTACH;FMTTYPE=image/jpeg:https://www.bcmagazine.net/wp-content/uploads/2016/05/The-Bollands-HK-2026.jpg
END:VEVENT
BEGIN:VEVENT
DTSTART;TZID=Asia/Hong_Kong:20260317T163000
DTEND;TZID=Asia/Hong_Kong:20260317T163000
DTSTAMP:20260423T084054
CREATED:20260302T104206Z
LAST-MODIFIED:20260316T040719Z
UID:10013097-1773765000-1773765000@www.bcmagazine.net
SUMMARY:Distinguished Lecture Series 2025-26: Greg Eldridge
DESCRIPTION:Distinguished Lecture Series 2025-26: Greg Eldridge\nDate: 4:30pm\, 17 March 2026\nVenue: HKU Black Box\, Room 54\, LG/F\, Centennial Campus\nTickets: Free with registration here
URL:https://www.bcmagazine.net/event/distinguished-lecture-series-2025-26-greg-eldridge/
LOCATION:HKU Black Box\, Room 54\, LG/F\, Centennial Campus\, Hong Kong University\, Hong Kong
CATEGORIES:2026,Concert,Music
ATTACH;FMTTYPE=image/jpeg:https://www.bcmagazine.net/wp-content/uploads/2026/03/Greg-Eldridge-2026.jpg
END:VEVENT
BEGIN:VEVENT
DTSTART;TZID=Asia/Hong_Kong:20160625T200000
DTEND;TZID=Asia/Hong_Kong:20160625T200000
DTSTAMP:20260423T084054
CREATED:20160511T065206Z
LAST-MODIFIED:20160911T081024Z
UID:10006109-1466884800-1466884800@www.bcmagazine.net
SUMMARY:The Bollands
DESCRIPTION:The Bollands return from New Zealand with a host of new songs for a gig at the HK Brewhouse on the 25 June. The indie folk duo\, who have a reputation for their passion filled live shows\, have been performing together since 2011 when Joyce\, a classically trained pianist\, met Christian\, a hairy folk singer\, at a campfire jam on a remote beach in their home country. They clicked instantly. Since that fate filled night\, they have been playing their passion filled and heartfelt songs across the globe. \nThe Bollands\nSupport: Tango and Snatch\nDate: 25 June\, 2016\nVenue: HK Brewhouse\nTickets: $100
URL:https://www.bcmagazine.net/event/the-bollands-25-june-2016/
LOCATION:HK Brewhouse\, 21 D'Aguilar Street\, Lan Kwai Fong\, Hong Kong
CATEGORIES:2016,Concert,Music
GEO:22.2804909;114.155283
X-APPLE-STRUCTURED-LOCATION;VALUE=URI;X-ADDRESS=HK Brewhouse 21 D'Aguilar Street Lan Kwai Fong Hong Kong;X-APPLE-RADIUS=500;X-TITLE=21 D'Aguilar Street:geo:114.155283,22.2804909
END:VEVENT
BEGIN:VEVENT
DTSTART;TZID=Asia/Hong_Kong:20150228T220000
DTEND;TZID=Asia/Hong_Kong:20150228T233000
DTSTAMP:20260423T084054
CREATED:20150122T033058Z
LAST-MODIFIED:20160911T081129Z
UID:10005553-1425160800-1425166200@www.bcmagazine.net
SUMMARY:The Bollands - Farewell Hong Kong @ Backstage Live - 10pm\, 28 February\, 2015
DESCRIPTION:The Bollands wish Hong Kong adieu with a final gig at Backstage Live. The New Zealand folk duo\, who have gained a well earned reputation for their passion filled live shows\, have been performing together since 2011 when Joyce\, a classically trained pianist\, met Christian\, a hairy folk singer\, at a campfire jam on a remote beach in their home country. They clicked instantly. Since that fate filled night\, they have been playing their passion filled and heartfelt songs across the globe. \nThe Bollands – Farewell Hong Kong\nSpecial Guests: The Privateers\, Rich Phipson\nWhen: 10pm\, 28 February\, 2015\nWhere: Backstage Live Restaurant\nHow Much: $100\nMore info: www.thebollands.com
URL:https://www.bcmagazine.net/event/the-bollands-farewell-hong-kong-backstage-live-10pm-28-february-2015/
LOCATION:Backstage Live Restaurant\, 1/F Somptueux Central\, 52-54 Wellington Street\, Central\, Hong Kong
CATEGORIES:Concert,Music
GEO:22.2818279;114.155339
X-APPLE-STRUCTURED-LOCATION;VALUE=URI;X-ADDRESS=Backstage Live Restaurant 1/F Somptueux Central 52-54 Wellington Street Central Hong Kong;X-APPLE-RADIUS=500;X-TITLE=1/F Somptueux Central\, 52-54 Wellington Street:geo:114.155339,22.2818279
END:VEVENT
END:VCALENDAR