BEGIN:VCALENDAR
VERSION:2.0
PRODID:-//bc magazine - ECPv6.15.20//NONSGML v1.0//EN
CALSCALE:GREGORIAN
METHOD:PUBLISH
X-WR-CALNAME:bc magazine
X-ORIGINAL-URL:https://www.bcmagazine.net
X-WR-CALDESC:Events for bc magazine
REFRESH-INTERVAL;VALUE=DURATION:PT1H
X-Robots-Tag:noindex
X-PUBLISHED-TTL:PT1H
BEGIN:VTIMEZONE
TZID:Asia/Hong_Kong
BEGIN:STANDARD
TZOFFSETFROM:+0800
TZOFFSETTO:+0800
TZNAME:HKT
DTSTART:20200101T000000
END:STANDARD
END:VTIMEZONE
BEGIN:VEVENT
DTSTART;TZID=Asia/Hong_Kong:20210523T200000
DTEND;TZID=Asia/Hong_Kong:20210523T200000
DTSTAMP:20260426T105323
CREATED:19210409T085402Z
LAST-MODIFIED:20210504T153940Z
UID:10005104-1621800000-1621800000@www.bcmagazine.net
SUMMARY:The Lost Adults
DESCRIPTION:The Lost Adults\nTheatre de la Feuille\nDate: 8pm\, 20-23 May\, 2021\nVenue: HK Cultural Centre\, Studio Theatre\nTickets: $320 from Urbtix
URL:https://www.bcmagazine.net/event/the-lost-adults/2021-05-23/2/
LOCATION:HK Cultural Centre\, Studio Theatre\, 10 Salisbury Road\, Tsim Sha Tsui\, Hong Kong
CATEGORIES:2021,Cantonese drama,Performing Arts,Theatre
ATTACH;FMTTYPE=image/jpeg:https://www.bcmagazine.net/wp-content/uploads/1921/04/lost-adults.jpeg
END:VEVENT
BEGIN:VEVENT
DTSTART;TZID=Asia/Hong_Kong:20210523T150000
DTEND;TZID=Asia/Hong_Kong:20210523T150000
DTSTAMP:20260426T105323
CREATED:19210409T085402Z
LAST-MODIFIED:20210504T153940Z
UID:10005103-1621782000-1621782000@www.bcmagazine.net
SUMMARY:The Lost Adults
DESCRIPTION:The Lost Adults\nTheatre de la Feuille\nDate: 8pm\, 20-23 May\, 2021\nVenue: HK Cultural Centre\, Studio Theatre\nTickets: $320 from Urbtix
URL:https://www.bcmagazine.net/event/the-lost-adults/2021-05-23/1/
LOCATION:HK Cultural Centre\, Studio Theatre\, 10 Salisbury Road\, Tsim Sha Tsui\, Hong Kong
CATEGORIES:2021,Cantonese drama,Performing Arts,Theatre
ATTACH;FMTTYPE=image/jpeg:https://www.bcmagazine.net/wp-content/uploads/1921/04/lost-adults.jpeg
END:VEVENT
BEGIN:VEVENT
DTSTART;TZID=Asia/Hong_Kong:20210522T200000
DTEND;TZID=Asia/Hong_Kong:20210522T200000
DTSTAMP:20260426T105323
CREATED:19210409T085402Z
LAST-MODIFIED:20210504T153940Z
UID:10005102-1621713600-1621713600@www.bcmagazine.net
SUMMARY:The Lost Adults
DESCRIPTION:The Lost Adults\nTheatre de la Feuille\nDate: 8pm\, 20-23 May\, 2021\nVenue: HK Cultural Centre\, Studio Theatre\nTickets: $320 from Urbtix
URL:https://www.bcmagazine.net/event/the-lost-adults/2021-05-22/2/
LOCATION:HK Cultural Centre\, Studio Theatre\, 10 Salisbury Road\, Tsim Sha Tsui\, Hong Kong
CATEGORIES:2021,Cantonese drama,Performing Arts,Theatre
ATTACH;FMTTYPE=image/jpeg:https://www.bcmagazine.net/wp-content/uploads/1921/04/lost-adults.jpeg
END:VEVENT
BEGIN:VEVENT
DTSTART;TZID=Asia/Hong_Kong:20210522T150000
DTEND;TZID=Asia/Hong_Kong:20210522T150000
DTSTAMP:20260426T105323
CREATED:19210409T085402Z
LAST-MODIFIED:20210504T153940Z
UID:10005101-1621695600-1621695600@www.bcmagazine.net
SUMMARY:The Lost Adults
DESCRIPTION:The Lost Adults\nTheatre de la Feuille\nDate: 8pm\, 20-23 May\, 2021\nVenue: HK Cultural Centre\, Studio Theatre\nTickets: $320 from Urbtix
URL:https://www.bcmagazine.net/event/the-lost-adults/2021-05-22/1/
LOCATION:HK Cultural Centre\, Studio Theatre\, 10 Salisbury Road\, Tsim Sha Tsui\, Hong Kong
CATEGORIES:2021,Cantonese drama,Performing Arts,Theatre
ATTACH;FMTTYPE=image/jpeg:https://www.bcmagazine.net/wp-content/uploads/1921/04/lost-adults.jpeg
END:VEVENT
BEGIN:VEVENT
DTSTART;TZID=Asia/Hong_Kong:20210521T200000
DTEND;TZID=Asia/Hong_Kong:20210521T200000
DTSTAMP:20260426T105323
CREATED:19210409T085402Z
LAST-MODIFIED:20210504T153940Z
UID:10005100-1621627200-1621627200@www.bcmagazine.net
SUMMARY:The Lost Adults
DESCRIPTION:The Lost Adults\nTheatre de la Feuille\nDate: 8pm\, 20-23 May\, 2021\nVenue: HK Cultural Centre\, Studio Theatre\nTickets: $320 from Urbtix
URL:https://www.bcmagazine.net/event/the-lost-adults/2021-05-21/
LOCATION:HK Cultural Centre\, Studio Theatre\, 10 Salisbury Road\, Tsim Sha Tsui\, Hong Kong
CATEGORIES:2021,Cantonese drama,Performing Arts,Theatre
ATTACH;FMTTYPE=image/jpeg:https://www.bcmagazine.net/wp-content/uploads/1921/04/lost-adults.jpeg
END:VEVENT
BEGIN:VEVENT
DTSTART;TZID=Asia/Hong_Kong:20210520T200000
DTEND;TZID=Asia/Hong_Kong:20210520T200000
DTSTAMP:20260426T105323
CREATED:19210409T085402Z
LAST-MODIFIED:20210504T153940Z
UID:10005099-1621540800-1621540800@www.bcmagazine.net
SUMMARY:The Lost Adults
DESCRIPTION:The Lost Adults\nTheatre de la Feuille\nDate: 8pm\, 20-23 May\, 2021\nVenue: HK Cultural Centre\, Studio Theatre\nTickets: $320 from Urbtix
URL:https://www.bcmagazine.net/event/the-lost-adults/2021-05-20/
LOCATION:HK Cultural Centre\, Studio Theatre\, 10 Salisbury Road\, Tsim Sha Tsui\, Hong Kong
CATEGORIES:2021,Cantonese drama,Performing Arts,Theatre
ATTACH;FMTTYPE=image/jpeg:https://www.bcmagazine.net/wp-content/uploads/1921/04/lost-adults.jpeg
END:VEVENT
END:VCALENDAR