BEGIN:VCALENDAR
VERSION:2.0
PRODID:-//bc magazine - ECPv6.15.20//NONSGML v1.0//EN
CALSCALE:GREGORIAN
METHOD:PUBLISH
X-WR-CALNAME:bc magazine
X-ORIGINAL-URL:https://www.bcmagazine.net
X-WR-CALDESC:Events for bc magazine
REFRESH-INTERVAL;VALUE=DURATION:PT1H
X-Robots-Tag:noindex
X-PUBLISHED-TTL:PT1H
BEGIN:VTIMEZONE
TZID:Asia/Hong_Kong
BEGIN:STANDARD
TZOFFSETFROM:+0800
TZOFFSETTO:+0800
TZNAME:HKT
DTSTART:20150101T000000
END:STANDARD
END:VTIMEZONE
BEGIN:VEVENT
DTSTART;TZID=Asia/Hong_Kong:20170106T200000
DTEND;TZID=Asia/Hong_Kong:20170106T200000
DTSTAMP:20260424T221106
CREATED:19160602T064824Z
LAST-MODIFIED:20220925T012124Z
UID:10001748-1483732800-1483732800@www.bcmagazine.net
SUMMARY:Frankenstein
DESCRIPTION:Frankenstein\nTheatre Dojo\nDate: 6-7\, 12-15 January\, 2017\nVenue: Sheung Wan Civic Centre\, Theatre\nTickets: $240\, $200 from Urbtix\nMore info:\nIn Cantonese
URL:https://www.bcmagazine.net/event/frankenstein-2017/
LOCATION:Sheung Wan Civic Centre\, Theatre\, 345 Queen's Road Central\, Sheung Wan\, Hong Kong
CATEGORIES:2017,Performing Arts,Theatre
GEO:22.2861929;114.1497606
X-APPLE-STRUCTURED-LOCATION;VALUE=URI;X-ADDRESS=Sheung Wan Civic Centre Theatre 345 Queen's Road Central Sheung Wan Hong Kong;X-APPLE-RADIUS=500;X-TITLE=345 Queen's Road Central:geo:114.1497606,22.2861929
END:VEVENT
BEGIN:VEVENT
DTSTART;TZID=Asia/Hong_Kong:20160925T200000
DTEND;TZID=Asia/Hong_Kong:20160925T200000
DTSTAMP:20260424T221106
CREATED:20230114T093538Z
LAST-MODIFIED:20230114T093538Z
UID:10001752-1474833600-1474833600@www.bcmagazine.net
SUMMARY:Jeanne d'Arc
DESCRIPTION:Jeanne d’Arc\nTheatre Dojo\nDate: 22-25 September\, 2016\nVenue: Sheung Wan Civic Centre\, Theatre\nTickets: $240\, $200 from Urbtix\nMore info:\nIn Cantonese
URL:https://www.bcmagazine.net/event/jeanne-darc-2016/2016-09-25/
LOCATION:Sheung Wan Civic Centre\, Theatre\, 345 Queen's Road Central\, Sheung Wan\, Hong Kong
CATEGORIES:2016,Performing Arts,Theatre
GEO:22.2861929;114.1497606
X-APPLE-STRUCTURED-LOCATION;VALUE=URI;X-ADDRESS=Sheung Wan Civic Centre Theatre 345 Queen's Road Central Sheung Wan Hong Kong;X-APPLE-RADIUS=500;X-TITLE=345 Queen's Road Central:geo:114.1497606,22.2861929
END:VEVENT
BEGIN:VEVENT
DTSTART;TZID=Asia/Hong_Kong:20160924T200000
DTEND;TZID=Asia/Hong_Kong:20160924T200000
DTSTAMP:20260424T221106
CREATED:19160602T065313Z
LAST-MODIFIED:20160602T070440Z
UID:10001751-1474747200-1474747200@www.bcmagazine.net
SUMMARY:Jeanne d'Arc
DESCRIPTION:Jeanne d’Arc\nTheatre Dojo\nDate: 22-25 September\, 2016\nVenue: Sheung Wan Civic Centre\, Theatre\nTickets: $240\, $200 from Urbtix\nMore info:\nIn Cantonese
URL:https://www.bcmagazine.net/event/jeanne-darc-2016/2016-09-24/
LOCATION:Sheung Wan Civic Centre\, Theatre\, 345 Queen's Road Central\, Sheung Wan\, Hong Kong
CATEGORIES:2016,Performing Arts,Theatre
GEO:22.2861929;114.1497606
X-APPLE-STRUCTURED-LOCATION;VALUE=URI;X-ADDRESS=Sheung Wan Civic Centre Theatre 345 Queen's Road Central Sheung Wan Hong Kong;X-APPLE-RADIUS=500;X-TITLE=345 Queen's Road Central:geo:114.1497606,22.2861929
END:VEVENT
BEGIN:VEVENT
DTSTART;TZID=Asia/Hong_Kong:20160923T200000
DTEND;TZID=Asia/Hong_Kong:20160923T200000
DTSTAMP:20260424T221106
CREATED:19160602T065313Z
LAST-MODIFIED:20160602T070440Z
UID:10001750-1474660800-1474660800@www.bcmagazine.net
SUMMARY:Jeanne d'Arc
DESCRIPTION:Jeanne d’Arc\nTheatre Dojo\nDate: 22-25 September\, 2016\nVenue: Sheung Wan Civic Centre\, Theatre\nTickets: $240\, $200 from Urbtix\nMore info:\nIn Cantonese
URL:https://www.bcmagazine.net/event/jeanne-darc-2016/2016-09-23/
LOCATION:Sheung Wan Civic Centre\, Theatre\, 345 Queen's Road Central\, Sheung Wan\, Hong Kong
CATEGORIES:2016,Performing Arts,Theatre
GEO:22.2861929;114.1497606
X-APPLE-STRUCTURED-LOCATION;VALUE=URI;X-ADDRESS=Sheung Wan Civic Centre Theatre 345 Queen's Road Central Sheung Wan Hong Kong;X-APPLE-RADIUS=500;X-TITLE=345 Queen's Road Central:geo:114.1497606,22.2861929
END:VEVENT
BEGIN:VEVENT
DTSTART;TZID=Asia/Hong_Kong:20160922T200000
DTEND;TZID=Asia/Hong_Kong:20160922T200000
DTSTAMP:20260424T221106
CREATED:19160602T065313Z
LAST-MODIFIED:20160602T070440Z
UID:10001749-1474574400-1474574400@www.bcmagazine.net
SUMMARY:Jeanne d'Arc
DESCRIPTION:Jeanne d’Arc\nTheatre Dojo\nDate: 22-25 September\, 2016\nVenue: Sheung Wan Civic Centre\, Theatre\nTickets: $240\, $200 from Urbtix\nMore info:\nIn Cantonese
URL:https://www.bcmagazine.net/event/jeanne-darc-2016/2016-09-22/
LOCATION:Sheung Wan Civic Centre\, Theatre\, 345 Queen's Road Central\, Sheung Wan\, Hong Kong
CATEGORIES:2016,Performing Arts,Theatre
GEO:22.2861929;114.1497606
X-APPLE-STRUCTURED-LOCATION;VALUE=URI;X-ADDRESS=Sheung Wan Civic Centre Theatre 345 Queen's Road Central Sheung Wan Hong Kong;X-APPLE-RADIUS=500;X-TITLE=345 Queen's Road Central:geo:114.1497606,22.2861929
END:VEVENT
END:VCALENDAR