BEGIN:VCALENDAR
VERSION:2.0
PRODID:-//bc magazine - ECPv6.15.20//NONSGML v1.0//EN
CALSCALE:GREGORIAN
METHOD:PUBLISH
X-WR-CALNAME:bc magazine
X-ORIGINAL-URL:https://www.bcmagazine.net
X-WR-CALDESC:Events for bc magazine
REFRESH-INTERVAL;VALUE=DURATION:PT1H
X-Robots-Tag:noindex
X-PUBLISHED-TTL:PT1H
BEGIN:VTIMEZONE
TZID:Asia/Hong_Kong
BEGIN:STANDARD
TZOFFSETFROM:+0800
TZOFFSETTO:+0800
TZNAME:HKT
DTSTART:20160101T000000
END:STANDARD
END:VTIMEZONE
BEGIN:VEVENT
DTSTART;TZID=Asia/Hong_Kong:20170618T200000
DTEND;TZID=Asia/Hong_Kong:20170618T200000
DTSTAMP:20260421T144235
CREATED:19170613T025351Z
LAST-MODIFIED:20170613T031218Z
UID:10002854-1497816000-1497816000@www.bcmagazine.net
SUMMARY:Best Before
DESCRIPTION:Best Before\nTheatre Formula\nDate: 16-18 June\, 2017\nVenue: Jockey Club Creative Arts Centre\, Black Box Theatre\nTickets: $150 from Urbtix
URL:https://www.bcmagazine.net/event/best-before-2017/2017-06-18/
LOCATION:Jockey Club Creative Arts Centre\, Black Box Theatre\, 30 Pak Tin Street\, Shek Kip Mei\, Hong Kong
CATEGORIES:2017,Musical,Performing Arts,Theatre
GEO:22.3346654;114.1657188
X-APPLE-STRUCTURED-LOCATION;VALUE=URI;X-ADDRESS=Jockey Club Creative Arts Centre Black Box Theatre 30 Pak Tin Street Shek Kip Mei Hong Kong;X-APPLE-RADIUS=500;X-TITLE=30 Pak Tin Street:geo:114.1657188,22.3346654
END:VEVENT
BEGIN:VEVENT
DTSTART;TZID=Asia/Hong_Kong:20170617T200000
DTEND;TZID=Asia/Hong_Kong:20170617T200000
DTSTAMP:20260421T144235
CREATED:19170613T025351Z
LAST-MODIFIED:20170613T031218Z
UID:10002853-1497729600-1497729600@www.bcmagazine.net
SUMMARY:Best Before
DESCRIPTION:Best Before\nTheatre Formula\nDate: 16-18 June\, 2017\nVenue: Jockey Club Creative Arts Centre\, Black Box Theatre\nTickets: $150 from Urbtix
URL:https://www.bcmagazine.net/event/best-before-2017/2017-06-17/
LOCATION:Jockey Club Creative Arts Centre\, Black Box Theatre\, 30 Pak Tin Street\, Shek Kip Mei\, Hong Kong
CATEGORIES:2017,Musical,Performing Arts,Theatre
GEO:22.3346654;114.1657188
X-APPLE-STRUCTURED-LOCATION;VALUE=URI;X-ADDRESS=Jockey Club Creative Arts Centre Black Box Theatre 30 Pak Tin Street Shek Kip Mei Hong Kong;X-APPLE-RADIUS=500;X-TITLE=30 Pak Tin Street:geo:114.1657188,22.3346654
END:VEVENT
BEGIN:VEVENT
DTSTART;TZID=Asia/Hong_Kong:20170616T200000
DTEND;TZID=Asia/Hong_Kong:20170616T200000
DTSTAMP:20260421T144235
CREATED:19170613T025351Z
LAST-MODIFIED:20170613T031218Z
UID:10002852-1497643200-1497643200@www.bcmagazine.net
SUMMARY:Best Before
DESCRIPTION:Best Before\nTheatre Formula\nDate: 16-18 June\, 2017\nVenue: Jockey Club Creative Arts Centre\, Black Box Theatre\nTickets: $150 from Urbtix
URL:https://www.bcmagazine.net/event/best-before-2017/2017-06-16/
LOCATION:Jockey Club Creative Arts Centre\, Black Box Theatre\, 30 Pak Tin Street\, Shek Kip Mei\, Hong Kong
CATEGORIES:2017,Musical,Performing Arts,Theatre
GEO:22.3346654;114.1657188
X-APPLE-STRUCTURED-LOCATION;VALUE=URI;X-ADDRESS=Jockey Club Creative Arts Centre Black Box Theatre 30 Pak Tin Street Shek Kip Mei Hong Kong;X-APPLE-RADIUS=500;X-TITLE=30 Pak Tin Street:geo:114.1657188,22.3346654
END:VEVENT
END:VCALENDAR