BEGIN:VCALENDAR
VERSION:2.0
PRODID:-//bc magazine - ECPv6.15.20//NONSGML v1.0//EN
CALSCALE:GREGORIAN
METHOD:PUBLISH
X-WR-CALNAME:bc magazine
X-ORIGINAL-URL:https://www.bcmagazine.net
X-WR-CALDESC:Events for bc magazine
REFRESH-INTERVAL;VALUE=DURATION:PT1H
X-Robots-Tag:noindex
X-PUBLISHED-TTL:PT1H
BEGIN:VTIMEZONE
TZID:Asia/Hong_Kong
BEGIN:STANDARD
TZOFFSETFROM:+0800
TZOFFSETTO:+0800
TZNAME:HKT
DTSTART:20160101T000000
END:STANDARD
END:VTIMEZONE
BEGIN:VEVENT
DTSTART;TZID=Asia/Hong_Kong:20170602T200000
DTEND;TZID=Asia/Hong_Kong:20170602T200000
DTSTAMP:20260422T143623
CREATED:19170421T051838Z
LAST-MODIFIED:20221004T135650Z
UID:10002577-1496433600-1496433600@www.bcmagazine.net
SUMMARY:Simon Says
DESCRIPTION:Simon Says\nLe French May\, Unlock Dancing Plaza\nDate: 2-4 June\, 2017\nVenue: HK Cultural Centre\, Studio Theatre\nTickets: $220\, $180 from Urbtix
URL:https://www.bcmagazine.net/event/simon-says-unlock-dancing-plaza-2017/
LOCATION:HK Cultural Centre\, Studio Theatre\, 10 Salisbury Road\, Tsim Sha Tsui\, Hong Kong
CATEGORIES:2017,Cultural Festival,Dance,Performing Arts
END:VEVENT
END:VCALENDAR