BEGIN:VCALENDAR
VERSION:2.0
PRODID:-//bc magazine - ECPv6.15.20//NONSGML v1.0//EN
CALSCALE:GREGORIAN
METHOD:PUBLISH
X-WR-CALNAME:bc magazine
X-ORIGINAL-URL:https://www.bcmagazine.net
X-WR-CALDESC:Events for bc magazine
REFRESH-INTERVAL;VALUE=DURATION:PT1H
X-Robots-Tag:noindex
X-PUBLISHED-TTL:PT1H
BEGIN:VTIMEZONE
TZID:Asia/Hong_Kong
BEGIN:STANDARD
TZOFFSETFROM:+0800
TZOFFSETTO:+0800
TZNAME:HKT
DTSTART:20150101T000000
END:STANDARD
END:VTIMEZONE
BEGIN:VEVENT
DTSTART;TZID=Asia/Hong_Kong:20190523T190000
DTEND;TZID=Asia/Hong_Kong:20190523T190000
DTSTAMP:20260418T091358
CREATED:19180802T094055Z
LAST-MODIFIED:20181218T102350Z
UID:10004381-1558638000-1558638000@www.bcmagazine.net
SUMMARY:Lauv
DESCRIPTION:Lauv\nDate: 7pm\, 23 May\, 2019\nVenue: The Vine\nTickets: $450 from Ticketflap
URL:https://www.bcmagazine.net/event/lauv-hk-2019/
LOCATION:The Vine Centre\, 29 Burrows Street\, Wanchai\, Hong Kong
CATEGORIES:2019,concert,Concert,Music,Performing Arts
ATTACH;FMTTYPE=image/jpeg:https://www.bcmagazine.net/wp-content/uploads/1918/08/lauv-hk-2019.jpg
GEO:22.2762216;114.1763629
X-APPLE-STRUCTURED-LOCATION;VALUE=URI;X-ADDRESS=The Vine Centre 29 Burrows Street Wanchai Hong Kong;X-APPLE-RADIUS=500;X-TITLE=29 Burrows Street:geo:114.1763629,22.2762216
END:VEVENT
BEGIN:VEVENT
DTSTART;TZID=Asia/Hong_Kong:20190313T193000
DTEND;TZID=Asia/Hong_Kong:20190313T193000
DTSTAMP:20260418T091358
CREATED:19180802T094055Z
LAST-MODIFIED:20181218T101711Z
UID:10004364-1552505400-1552505400@www.bcmagazine.net
SUMMARY:Clairo
DESCRIPTION:Clairo\nDate: 7:30pm\, 13 March\, 2019\nVenue: This Town Needs (TTN)\nTickets: $380 from Ticketflap
URL:https://www.bcmagazine.net/event/clairo-hk-2019/
LOCATION:This Town Needs (TTN)\, 1/F Ocean One\, 6 Shung Shun Street\, Yau Tong\, Hong Kong
CATEGORIES:2019,concert,Concert,Music,Performing Arts
ATTACH;FMTTYPE=image/jpeg:https://www.bcmagazine.net/wp-content/uploads/1918/08/clairo-hk-2019.jpg
GEO:22.292861;114.23782
X-APPLE-STRUCTURED-LOCATION;VALUE=URI;X-ADDRESS=This Town Needs (TTN) 1/F Ocean One 6 Shung Shun Street Yau Tong Hong Kong;X-APPLE-RADIUS=500;X-TITLE=1/F Ocean One\, 6 Shung Shun Street:geo:114.23782,22.292861
END:VEVENT
BEGIN:VEVENT
DTSTART;TZID=Asia/Hong_Kong:20190305T200000
DTEND;TZID=Asia/Hong_Kong:20190305T200000
DTSTAMP:20260418T091358
CREATED:19181213T044512Z
LAST-MODIFIED:20190122T115118Z
UID:10004674-1551816000-1551816000@www.bcmagazine.net
SUMMARY:Masego
DESCRIPTION:Masego\nDate: 8pm\, 5 March\, 2019\nVenue: This Town Needs (TTN)\nTickets: $480\, $420 (advance) from Ticketflap
URL:https://www.bcmagazine.net/event/masego/
LOCATION:This Town Needs (TTN)\, 1/F Ocean One\, 6 Shung Shun Street\, Yau Tong\, Hong Kong
CATEGORIES:2019,Concert,Music,Performing Arts
ATTACH;FMTTYPE=image/jpeg:https://www.bcmagazine.net/wp-content/uploads/1918/12/Masego-hk-2019.jpg
GEO:22.292861;114.23782
X-APPLE-STRUCTURED-LOCATION;VALUE=URI;X-ADDRESS=This Town Needs (TTN) 1/F Ocean One 6 Shung Shun Street Yau Tong Hong Kong;X-APPLE-RADIUS=500;X-TITLE=1/F Ocean One\, 6 Shung Shun Street:geo:114.23782,22.292861
END:VEVENT
BEGIN:VEVENT
DTSTART;TZID=Asia/Hong_Kong:20190221T230000
DTEND;TZID=Asia/Hong_Kong:20190221T230000
DTSTAMP:20260418T091358
CREATED:19181213T044512Z
LAST-MODIFIED:20190122T114627Z
UID:10004673-1550790000-1550790000@www.bcmagazine.net
SUMMARY:Craig David Presents TS5
DESCRIPTION:Craig David Presents TS5\nDate: 11pm\, 21 February\, 2019\nVenue: Play\nTickets: $490 from Ticketflap
URL:https://www.bcmagazine.net/event/craig-david-ts5-hk-2019/
LOCATION:Play\, 1/F On Hing Building\, 1 On Hing Terrace\, Central\, Hong Kong
CATEGORIES:2019,Concert,DJ,Music,Performing Arts
ATTACH;FMTTYPE=image/jpeg:https://www.bcmagazine.net/wp-content/uploads/1918/12/craig-david-hk-2019.jpg
GEO:22.2805487;114.1564993
X-APPLE-STRUCTURED-LOCATION;VALUE=URI;X-ADDRESS=Play 1/F On Hing Building 1 On Hing Terrace Central Hong Kong;X-APPLE-RADIUS=500;X-TITLE=1/F On Hing Building\, 1 On Hing Terrace:geo:114.1564993,22.2805487
END:VEVENT
BEGIN:VEVENT
DTSTART;TZID=Asia/Hong_Kong:20181025T201500
DTEND;TZID=Asia/Hong_Kong:20181025T201500
DTSTAMP:20260418T091358
CREATED:19181002T010042Z
LAST-MODIFIED:20181003T110515Z
UID:10004450-1540498500-1540498500@www.bcmagazine.net
SUMMARY:Hyukoh
DESCRIPTION:Hyukoh\, How To Find True Love and Happiness\nDate: 8:15pm\, 24-25 October\, 2018\nVenues: Kitec\, Rotunda 2\nTickets: $730\, $580 from Ticketflap
URL:https://www.bcmagazine.net/event/hyukoh-25-10-2018/
LOCATION:KITEC\, Rotunda 2\, Hong Kong
CATEGORIES:2018,Concert,Music,Performing Arts
ATTACH;FMTTYPE=image/jpeg:https://www.bcmagazine.net/wp-content/uploads/1918/10/Hyukoh-2018.jpg
GEO:22.396428;114.109497
END:VEVENT
BEGIN:VEVENT
DTSTART;TZID=Asia/Hong_Kong:20181024T201500
DTEND;TZID=Asia/Hong_Kong:20181024T201500
DTSTAMP:20260418T091358
CREATED:19181002T010042Z
LAST-MODIFIED:20181003T110435Z
UID:10004449-1540412100-1540412100@www.bcmagazine.net
SUMMARY:Hyukoh
DESCRIPTION:Hyukoh\, How To Find True Love and Happiness\nDate: 8:15pm\, 24-25 October\, 2018\nVenues: Kitec\, Rotunda 2\nTickets: $730\, $580 from Ticketflap
URL:https://www.bcmagazine.net/event/hyukoh-24-10-2018/
LOCATION:KITEC\, Rotunda 2\, Hong Kong
CATEGORIES:2018,Concert,Music,Performing Arts
ATTACH;FMTTYPE=image/jpeg:https://www.bcmagazine.net/wp-content/uploads/1918/10/Hyukoh-2018.jpg
GEO:22.396428;114.109497
END:VEVENT
BEGIN:VEVENT
DTSTART;TZID=Asia/Hong_Kong:20181012T193000
DTEND;TZID=Asia/Hong_Kong:20181012T200000
DTSTAMP:20260418T091358
CREATED:19180620T094055Z
LAST-MODIFIED:20180723T055601Z
UID:10004249-1539372600-1539374400@www.bcmagazine.net
SUMMARY:Wednesday Campanella
DESCRIPTION:Wednesday Campanella\nDate: 7:30pm\, 12 October\, 2018\nVenue: Kitec\, Music Zone@E-Max\nTickets: $590\, $490 from Ticketflap
URL:https://www.bcmagazine.net/event/wednesday-campanella-2018/
LOCATION:KITEC\, Music Zone@E-Max\, KITEC\,‎ 1 Trademart Drive\, Kowloon Bay\, Hong Kong
CATEGORIES:2018,Concert,Music,Performing Arts
GEO:22.3239575;114.2037608
X-APPLE-STRUCTURED-LOCATION;VALUE=URI;X-ADDRESS=KITEC Music Zone@E-Max KITEC‎ 1 Trademart Drive Kowloon Bay Hong Kong;X-APPLE-RADIUS=500;X-TITLE=KITEC\,‎ 1 Trademart Drive:geo:114.2037608,22.3239575
END:VEVENT
BEGIN:VEVENT
DTSTART;TZID=Asia/Hong_Kong:20180921T200000
DTEND;TZID=Asia/Hong_Kong:20180921T200000
DTSTAMP:20260418T091358
CREATED:19180620T094055Z
LAST-MODIFIED:20180723T030309Z
UID:10004244-1537560000-1537560000@www.bcmagazine.net
SUMMARY:Unknown Mortal Orchestra
DESCRIPTION:Unknown Mortal Orchestra\nDate: 8pm\, 21 September\, 2018\nVenue: TTN\nTickets: $390 from Ticketflap
URL:https://www.bcmagazine.net/event/unknown-mortal-orchestra-2018/
LOCATION:This Town Needs (TTN)\, 1/F Ocean One\, 6 Shung Shun Street\, Yau Tong\, Hong Kong
CATEGORIES:2018,Concert,Music,Performing Arts
GEO:22.292861;114.23782
X-APPLE-STRUCTURED-LOCATION;VALUE=URI;X-ADDRESS=This Town Needs (TTN) 1/F Ocean One 6 Shung Shun Street Yau Tong Hong Kong;X-APPLE-RADIUS=500;X-TITLE=1/F Ocean One\, 6 Shung Shun Street:geo:114.23782,22.292861
END:VEVENT
BEGIN:VEVENT
DTSTART;TZID=Asia/Hong_Kong:20180913T200000
DTEND;TZID=Asia/Hong_Kong:20180913T200000
DTSTAMP:20260418T091358
CREATED:19180620T094055Z
LAST-MODIFIED:20180723T030636Z
UID:10004245-1536868800-1536868800@www.bcmagazine.net
SUMMARY:Intervals
DESCRIPTION:Intervals\nSupport: Qollision\nDate: 8pm\, 13 September\, 2018\nVenue: TTN\nTickets: $420\, $390 from Ticketflap
URL:https://www.bcmagazine.net/event/intervals-2018/
LOCATION:This Town Needs (TTN)\, 1/F Ocean One\, 6 Shung Shun Street\, Yau Tong\, Hong Kong
CATEGORIES:2018,Concert,Music,Performing Arts
ATTACH;FMTTYPE=image/jpeg:https://www.bcmagazine.net/wp-content/uploads/1918/06/intervals-2018.jpg
GEO:22.292861;114.23782
X-APPLE-STRUCTURED-LOCATION;VALUE=URI;X-ADDRESS=This Town Needs (TTN) 1/F Ocean One 6 Shung Shun Street Yau Tong Hong Kong;X-APPLE-RADIUS=500;X-TITLE=1/F Ocean One\, 6 Shung Shun Street:geo:114.23782,22.292861
END:VEVENT
BEGIN:VEVENT
DTSTART;TZID=Asia/Hong_Kong:20180424T193000
DTEND;TZID=Asia/Hong_Kong:20180424T193000
DTSTAMP:20260418T091358
CREATED:19180311T094055Z
LAST-MODIFIED:20180311T105105Z
UID:10003919-1524598200-1524598200@www.bcmagazine.net
SUMMARY:Die Toten Hosen
DESCRIPTION:Die Toten Hosen \nDate: 7:30pm\, 24 April\, 2018\nVenue: Kitec\, Music Zone@E-Max\nTickets: $490 from Ticketflap
URL:https://www.bcmagazine.net/event/die-toten-hosen-2018/
LOCATION:KITEC\, Music Zone@E-Max\, KITEC\,‎ 1 Trademart Drive\, Kowloon Bay\, Hong Kong
CATEGORIES:2018,Concert,Music,Performing Arts
GEO:22.3239575;114.2037608
X-APPLE-STRUCTURED-LOCATION;VALUE=URI;X-ADDRESS=KITEC Music Zone@E-Max KITEC‎ 1 Trademart Drive Kowloon Bay Hong Kong;X-APPLE-RADIUS=500;X-TITLE=KITEC\,‎ 1 Trademart Drive:geo:114.2037608,22.3239575
END:VEVENT
BEGIN:VEVENT
DTSTART;TZID=Asia/Hong_Kong:20180419T193000
DTEND;TZID=Asia/Hong_Kong:20180419T193000
DTSTAMP:20260418T091358
CREATED:19180205T073000Z
LAST-MODIFIED:20180205T075818Z
UID:10003751-1524166200-1524166200@www.bcmagazine.net
SUMMARY:The Notwist
DESCRIPTION:The Notwist\nDate: 7:30pm\, 19 April\, 2018\nVenue: This Town Needs (TTN)\nTickets: $320 from Ticketflap
URL:https://www.bcmagazine.net/event/the-notwist-2018/
LOCATION:This Town Needs (TTN)\, 1/F Ocean One\, 6 Shung Shun Street\, Yau Tong\, Hong Kong
CATEGORIES:2018,Concert,Music,Performing Arts
GEO:22.292861;114.23782
X-APPLE-STRUCTURED-LOCATION;VALUE=URI;X-ADDRESS=This Town Needs (TTN) 1/F Ocean One 6 Shung Shun Street Yau Tong Hong Kong;X-APPLE-RADIUS=500;X-TITLE=1/F Ocean One\, 6 Shung Shun Street:geo:114.23782,22.292861
END:VEVENT
BEGIN:VEVENT
DTSTART;TZID=Asia/Hong_Kong:20180414T193000
DTEND;TZID=Asia/Hong_Kong:20180414T193000
DTSTAMP:20260418T091358
CREATED:19180205T073000Z
LAST-MODIFIED:20180205T073816Z
UID:10003750-1523734200-1523734200@www.bcmagazine.net
SUMMARY:The Wedding Present
DESCRIPTION:The Wedding Present\nDate: 7:30pm\, 14 April\, 2018\nVenue: Grappa’s Cellar\nTickets: $390 from Ticketflap
URL:https://www.bcmagazine.net/event/the-wedding-present-2018/
LOCATION:Grappa’s Cellar\, 1 Connaught Place\, Central\, Hong Kong
CATEGORIES:2018,Concert,Music,Performing Arts
GEO:22.2830124;114.1591644
X-APPLE-STRUCTURED-LOCATION;VALUE=URI;X-ADDRESS=Grappa’s Cellar 1 Connaught Place Central Hong Kong;X-APPLE-RADIUS=500;X-TITLE=1 Connaught Place:geo:114.1591644,22.2830124
END:VEVENT
BEGIN:VEVENT
DTSTART;TZID=Asia/Hong_Kong:20180226T193000
DTEND;TZID=Asia/Hong_Kong:20180226T193000
DTSTAMP:20260418T091358
CREATED:19171225T085402Z
LAST-MODIFIED:20180205T074206Z
UID:10003700-1519673400-1519673400@www.bcmagazine.net
SUMMARY:Ride
DESCRIPTION:Ride\n Date: 7:30pm\, 26 February\, 2018\nVenue: MacPherson Stadium\nTickets: $560\, $530 from Ticketflap
URL:https://www.bcmagazine.net/event/ride-2018/
LOCATION:MacPherson Stadium\, 38 Nelson Street\, Mongkok\, Hong Kong
CATEGORIES:2018,Concert,Music,Performing Arts
GEO:22.3188457;114.1728403
X-APPLE-STRUCTURED-LOCATION;VALUE=URI;X-ADDRESS=MacPherson Stadium 38 Nelson Street Mongkok Hong Kong;X-APPLE-RADIUS=500;X-TITLE=38 Nelson Street:geo:114.1728403,22.3188457
END:VEVENT
BEGIN:VEVENT
DTSTART;TZID=Asia/Hong_Kong:20180201T193000
DTEND;TZID=Asia/Hong_Kong:20180201T193000
DTSTAMP:20260418T091358
CREATED:20171014T045803Z
LAST-MODIFIED:20171014T045803Z
UID:10006452-1517513400-1517513400@www.bcmagazine.net
SUMMARY:The XX
DESCRIPTION:The XX\nDate: 7:30pm\, 1 February\, 2018\nVenue: AsiaWorld Expo\nTickets: tbc
URL:https://www.bcmagazine.net/event/the-xx-2018/
LOCATION:AsiaWorld-Expo\, Cheong Wing Road\, Chek Lap Kok\, Lantau\, Hong Kong
CATEGORIES:2018,Concert,Music,Performing Arts
GEO:22.3217383;113.9402012
X-APPLE-STRUCTURED-LOCATION;VALUE=URI;X-ADDRESS=AsiaWorld-Expo Cheong Wing Road Chek Lap Kok Lantau Hong Kong;X-APPLE-RADIUS=500;X-TITLE=Cheong Wing Road\, Chek Lap Kok:geo:113.9402012,22.3217383
END:VEVENT
BEGIN:VEVENT
DTSTART;TZID=Asia/Hong_Kong:20180124T193000
DTEND;TZID=Asia/Hong_Kong:20180126T153000
DTSTAMP:20260418T091358
CREATED:19171225T085402Z
LAST-MODIFIED:20171222T112751Z
UID:10003699-1516822200-1516980600@www.bcmagazine.net
SUMMARY:The Pains Of Being Pure At Heart
DESCRIPTION:The Pains Of Being Pure At Heart\n Date: 7:30pm\, 24 January\, 2018\nVenue: Kitec\, Music Zone@E-Max\nTickets: $490 from Ticketflap
URL:https://www.bcmagazine.net/event/the-pains-of-being-pure-at-heart/
LOCATION:KITEC\, Music Zone@E-Max\, KITEC\,‎ 1 Trademart Drive\, Kowloon Bay\, Hong Kong
CATEGORIES:2018,Concert,Music,Performing Arts
GEO:22.3239575;114.2037608
X-APPLE-STRUCTURED-LOCATION;VALUE=URI;X-ADDRESS=KITEC Music Zone@E-Max KITEC‎ 1 Trademart Drive Kowloon Bay Hong Kong;X-APPLE-RADIUS=500;X-TITLE=KITEC\,‎ 1 Trademart Drive:geo:114.2037608,22.3239575
END:VEVENT
BEGIN:VEVENT
DTSTART;TZID=Asia/Hong_Kong:20170804T193000
DTEND;TZID=Asia/Hong_Kong:20170804T193000
DTSTAMP:20260418T091358
CREATED:20170619T033714Z
LAST-MODIFIED:20170619T050056Z
UID:10006404-1501875000-1501875000@www.bcmagazine.net
SUMMARY:Oh Wonder
DESCRIPTION:Oh Wonder\nDate: 7:30pm\, 4 August\, 2017\nVenue: Kitec\, Music Zone@E-Max\nTickets: $420 from Ticketflap
URL:https://www.bcmagazine.net/event/oh-wonder-2017/
LOCATION:KITEC\, Music Zone@E-Max\, KITEC\,‎ 1 Trademart Drive\, Kowloon Bay\, Hong Kong
CATEGORIES:2017,Concert,Music,Performing Arts
GEO:22.3239575;114.2037608
X-APPLE-STRUCTURED-LOCATION;VALUE=URI;X-ADDRESS=KITEC Music Zone@E-Max KITEC‎ 1 Trademart Drive Kowloon Bay Hong Kong;X-APPLE-RADIUS=500;X-TITLE=KITEC\,‎ 1 Trademart Drive:geo:114.2037608,22.3239575
END:VEVENT
BEGIN:VEVENT
DTSTART;TZID=Asia/Hong_Kong:20170713T200000
DTEND;TZID=Asia/Hong_Kong:20170713T200000
DTSTAMP:20260418T091358
CREATED:20170303T044803Z
LAST-MODIFIED:20170303T115208Z
UID:10006382-1499976000-1499976000@www.bcmagazine.net
SUMMARY:Banks
DESCRIPTION:Banks\nDate: 13 July\, 2017\nVenue: Kitec Music Zone@E-Max\nTickets: $510 from Ticketflap
URL:https://www.bcmagazine.net/event/banks-2017/
LOCATION:KITEC\, Music Zone@E-Max\, KITEC\,‎ 1 Trademart Drive\, Kowloon Bay\, Hong Kong
CATEGORIES:2017,Concert,Music
GEO:22.3239575;114.2037608
X-APPLE-STRUCTURED-LOCATION;VALUE=URI;X-ADDRESS=KITEC Music Zone@E-Max KITEC‎ 1 Trademart Drive Kowloon Bay Hong Kong;X-APPLE-RADIUS=500;X-TITLE=KITEC\,‎ 1 Trademart Drive:geo:114.2037608,22.3239575
END:VEVENT
BEGIN:VEVENT
DTSTART;TZID=Asia/Hong_Kong:20170622T193000
DTEND;TZID=Asia/Hong_Kong:20170622T193000
DTSTAMP:20260418T091358
CREATED:19170505T081942Z
LAST-MODIFIED:20170516T022940Z
UID:10001197-1498159800-1498159800@www.bcmagazine.net
SUMMARY:Hyukoh
DESCRIPTION:Hyukoh\nDate: 7:30pm\, 21-22 June\, 2017\nVenue: Kitec Music Zone@E-Max\nTickets: $490 from Ticketflap
URL:https://www.bcmagazine.net/event/hyukoh-2017/2017-06-22/
LOCATION:KITEC\, Music Zone@E-Max\, KITEC\,‎ 1 Trademart Drive\, Kowloon Bay\, Hong Kong
CATEGORIES:2017,Concert,Music
GEO:22.3239575;114.2037608
X-APPLE-STRUCTURED-LOCATION;VALUE=URI;X-ADDRESS=KITEC Music Zone@E-Max KITEC‎ 1 Trademart Drive Kowloon Bay Hong Kong;X-APPLE-RADIUS=500;X-TITLE=KITEC\,‎ 1 Trademart Drive:geo:114.2037608,22.3239575
END:VEVENT
BEGIN:VEVENT
DTSTART;TZID=Asia/Hong_Kong:20170621T193000
DTEND;TZID=Asia/Hong_Kong:20170621T193000
DTSTAMP:20260418T091358
CREATED:19170505T081942Z
LAST-MODIFIED:20170516T022940Z
UID:10001196-1498073400-1498073400@www.bcmagazine.net
SUMMARY:Hyukoh
DESCRIPTION:Hyukoh\nDate: 7:30pm\, 21-22 June\, 2017\nVenue: Kitec Music Zone@E-Max\nTickets: $490 from Ticketflap
URL:https://www.bcmagazine.net/event/hyukoh-2017/2017-06-21/
LOCATION:KITEC\, Music Zone@E-Max\, KITEC\,‎ 1 Trademart Drive\, Kowloon Bay\, Hong Kong
CATEGORIES:2017,Concert,Music
GEO:22.3239575;114.2037608
X-APPLE-STRUCTURED-LOCATION;VALUE=URI;X-ADDRESS=KITEC Music Zone@E-Max KITEC‎ 1 Trademart Drive Kowloon Bay Hong Kong;X-APPLE-RADIUS=500;X-TITLE=KITEC\,‎ 1 Trademart Drive:geo:114.2037608,22.3239575
END:VEVENT
BEGIN:VEVENT
DTSTART;TZID=Asia/Hong_Kong:20170512T193000
DTEND;TZID=Asia/Hong_Kong:20170512T193000
DTSTAMP:20260418T091358
CREATED:20170331T010828Z
LAST-MODIFIED:20170331T031215Z
UID:10006388-1494617400-1494617400@www.bcmagazine.net
SUMMARY:Cigarettes After Sex
DESCRIPTION:Cigarettes After Sex\nDate: 7:30pm\, 12 May\, 2017\nVenue: Kitec\, Music Zone@E-Max\nTickets: $490 from Ticketflap
URL:https://www.bcmagazine.net/event/cigarettes-after-sex-2017/
LOCATION:KITEC\, Music Zone@E-Max\, KITEC\,‎ 1 Trademart Drive\, Kowloon Bay\, Hong Kong
CATEGORIES:2017,Concert,Music
GEO:22.3239575;114.2037608
X-APPLE-STRUCTURED-LOCATION;VALUE=URI;X-ADDRESS=KITEC Music Zone@E-Max KITEC‎ 1 Trademart Drive Kowloon Bay Hong Kong;X-APPLE-RADIUS=500;X-TITLE=KITEC\,‎ 1 Trademart Drive:geo:114.2037608,22.3239575
END:VEVENT
BEGIN:VEVENT
DTSTART;TZID=Asia/Hong_Kong:20170323T193000
DTEND;TZID=Asia/Hong_Kong:20170323T193000
DTSTAMP:20260418T091358
CREATED:19170215T105024Z
LAST-MODIFIED:20170215T105300Z
UID:10002463-1490297400-1490297400@www.bcmagazine.net
SUMMARY:Bo Ningen
DESCRIPTION:Bo Ningen\nDate: 7:30pm\, 23 March\, 2017\nVenue: Kitec\, Music Zone@E-Max\nTickets: $320 from Ticketflap
URL:https://www.bcmagazine.net/event/bo-ningen-2017/
LOCATION:KITEC\, Music Zone@E-Max\, KITEC\,‎ 1 Trademart Drive\, Kowloon Bay\, Hong Kong
CATEGORIES:2017,Concert,Music
GEO:22.3239575;114.2037608
X-APPLE-STRUCTURED-LOCATION;VALUE=URI;X-ADDRESS=KITEC Music Zone@E-Max KITEC‎ 1 Trademart Drive Kowloon Bay Hong Kong;X-APPLE-RADIUS=500;X-TITLE=KITEC\,‎ 1 Trademart Drive:geo:114.2037608,22.3239575
END:VEVENT
BEGIN:VEVENT
DTSTART;TZID=Asia/Hong_Kong:20170228T193000
DTEND;TZID=Asia/Hong_Kong:20170228T193000
DTSTAMP:20260418T091358
CREATED:19170117T223120Z
LAST-MODIFIED:20170117T223639Z
UID:10001063-1488310200-1488310200@www.bcmagazine.net
SUMMARY:The Kills
DESCRIPTION:The Kills\nDate: 7:30pm\, 28 February\, 2017\nVenue: MacPherson Stadium\nTickets: $590\, $530 from Ticketflap
URL:https://www.bcmagazine.net/event/the-kills-2017/
LOCATION:MacPherson Stadium\, 38 Nelson Street\, Mongkok\, Hong Kong
CATEGORIES:2017,Concert,Music
GEO:22.3188457;114.1728403
X-APPLE-STRUCTURED-LOCATION;VALUE=URI;X-ADDRESS=MacPherson Stadium 38 Nelson Street Mongkok Hong Kong;X-APPLE-RADIUS=500;X-TITLE=38 Nelson Street:geo:114.1728403,22.3188457
END:VEVENT
BEGIN:VEVENT
DTSTART;TZID=Asia/Hong_Kong:20161015T203000
DTEND;TZID=Asia/Hong_Kong:20161015T203000
DTSTAMP:20260418T091358
CREATED:19160730T023253Z
LAST-MODIFIED:20161008T054522Z
UID:10000661-1476563400-1476563400@www.bcmagazine.net
SUMMARY:Daniela Andrade
DESCRIPTION:Daniela Andrade\nDate: 8:30pm\, 15 October\, 2016\nVenue: Music Zone@E-Max\nTickets: $330 from Ticketflap
URL:https://www.bcmagazine.net/event/daniela-andrade-2016/
LOCATION:KITEC\, Music Zone@E-Max\, KITEC\,‎ 1 Trademart Drive\, Kowloon Bay\, Hong Kong
CATEGORIES:2016,Concert,Music
GEO:22.3239575;114.2037608
X-APPLE-STRUCTURED-LOCATION;VALUE=URI;X-ADDRESS=KITEC Music Zone@E-Max KITEC‎ 1 Trademart Drive Kowloon Bay Hong Kong;X-APPLE-RADIUS=500;X-TITLE=KITEC\,‎ 1 Trademart Drive:geo:114.2037608,22.3239575
END:VEVENT
BEGIN:VEVENT
DTSTART;TZID=Asia/Hong_Kong:20160916T200000
DTEND;TZID=Asia/Hong_Kong:20160916T200000
DTSTAMP:20260418T091358
CREATED:20160621T084603Z
LAST-MODIFIED:20160911T064715Z
UID:10006118-1474056000-1474056000@www.bcmagazine.net
SUMMARY:Yumi Zouma
DESCRIPTION:Yumi Zouma\nSupport: Yuki Lovey\, Merry Lamb Lamb\nDate: 8pm\, 16 September\, 2016\nVenue: Focal Fair\nTickets: $280 from Ticketflap
URL:https://www.bcmagazine.net/event/yumi-zouma-2016/
LOCATION:Focal Fair\, 8/F Park Avenue Tower\, 5 Moreton Terrance\, Causeway Bay\, Hong Kong
CATEGORIES:2016,Concert,Music
GEO:22.279023;114.1891741
X-APPLE-STRUCTURED-LOCATION;VALUE=URI;X-ADDRESS=Focal Fair 8/F Park Avenue Tower 5 Moreton Terrance Causeway Bay Hong Kong;X-APPLE-RADIUS=500;X-TITLE=8/F Park Avenue Tower\, 5 Moreton Terrance:geo:114.1891741,22.279023
END:VEVENT
BEGIN:VEVENT
DTSTART;TZID=Asia/Hong_Kong:20160726T200000
DTEND;TZID=Asia/Hong_Kong:20160726T200000
DTSTAMP:20260418T091358
CREATED:19160601T033321Z
LAST-MODIFIED:20160716T162031Z
UID:10000576-1469563200-1469563200@www.bcmagazine.net
SUMMARY:Birdy
DESCRIPTION:Birdy\nDate: 8pm\, 26 July\, 2016\nVenue: Music Zone@E-Max\nTickets: $420 from Ticketflap
URL:https://www.bcmagazine.net/event/birdy-2016/
LOCATION:KITEC\, Music Zone@E-Max\, KITEC\,‎ 1 Trademart Drive\, Kowloon Bay\, Hong Kong
CATEGORIES:2016,Concert,Music
GEO:22.3239575;114.2037608
X-APPLE-STRUCTURED-LOCATION;VALUE=URI;X-ADDRESS=KITEC Music Zone@E-Max KITEC‎ 1 Trademart Drive Kowloon Bay Hong Kong;X-APPLE-RADIUS=500;X-TITLE=KITEC\,‎ 1 Trademart Drive:geo:114.2037608,22.3239575
END:VEVENT
END:VCALENDAR