BEGIN:VCALENDAR
VERSION:2.0
PRODID:-//bc magazine - ECPv6.15.20//NONSGML v1.0//EN
CALSCALE:GREGORIAN
METHOD:PUBLISH
X-ORIGINAL-URL:https://www.bcmagazine.net
X-WR-CALDESC:Events for bc magazine
REFRESH-INTERVAL;VALUE=DURATION:PT1H
X-Robots-Tag:noindex
X-PUBLISHED-TTL:PT1H
BEGIN:VTIMEZONE
TZID:Asia/Hong_Kong
BEGIN:STANDARD
TZOFFSETFROM:+0800
TZOFFSETTO:+0800
TZNAME:HKT
DTSTART:20160101T000000
END:STANDARD
END:VTIMEZONE
BEGIN:VEVENT
DTSTART;TZID=Asia/Hong_Kong:20170210T230000
DTEND;TZID=Asia/Hong_Kong:20170210T230000
DTSTAMP:20260424T072537
CREATED:20170206T031940Z
LAST-MODIFIED:20170206T031940Z
UID:10006373-1486767600-1486767600@www.bcmagazine.net
SUMMARY:Paramida\, Mister Ho\, Miya
DESCRIPTION:Paramida\, Mister Ho\, Miya\nCliche Records\nDate: 11pm\, 10 February\, 2017\nVenue: Acadana\nTickets: $150
URL:https://www.bcmagazine.net/event/paramida-mister-ho-miya/
LOCATION:Acadana\, 41 Shan Mei Street\, Fo Tan\, Hong Kong
CATEGORIES:2017,Concert,Music
GEO:22.398719;114.191047
X-APPLE-STRUCTURED-LOCATION;VALUE=URI;X-ADDRESS=Acadana 41 Shan Mei Street Fo Tan Hong Kong;X-APPLE-RADIUS=500;X-TITLE=41 Shan Mei Street:geo:114.191047,22.398719
END:VEVENT
END:VCALENDAR