BEGIN:VCALENDAR
VERSION:2.0
PRODID:-//bc magazine - ECPv6.15.20//NONSGML v1.0//EN
CALSCALE:GREGORIAN
METHOD:PUBLISH
X-WR-CALNAME:bc magazine
X-ORIGINAL-URL:https://www.bcmagazine.net
X-WR-CALDESC:Events for bc magazine
REFRESH-INTERVAL;VALUE=DURATION:PT1H
X-Robots-Tag:noindex
X-PUBLISHED-TTL:PT1H
BEGIN:VTIMEZONE
TZID:Asia/Hong_Kong
BEGIN:STANDARD
TZOFFSETFROM:+0800
TZOFFSETTO:+0800
TZNAME:HKT
DTSTART:20150101T000000
END:STANDARD
END:VTIMEZONE
BEGIN:VEVENT
DTSTART;TZID=Asia/Hong_Kong:20160731T193000
DTEND;TZID=Asia/Hong_Kong:20160731T193000
DTSTAMP:20260419T142226
CREATED:20160625T233445Z
LAST-MODIFIED:20160625T234224Z
UID:10006119-1469993400-1469993400@www.bcmagazine.net
SUMMARY:Jabin Law
DESCRIPTION:The Suns: Jabin Law CD Release Concert\nDate: 7:30pm\, 31 July\, 2016\nVenue: ACO\nTickets: $220 (CD + Limited T-shirt + Advanced ticket)\, $120\, $100 (Advance)
URL:https://www.bcmagazine.net/event/jabin-law-07-2016/
LOCATION:ACO\, 14/F\, Foo Tak Building\, 365-367 Hennessy Road\, Wanchai\, Hong Kong
CATEGORIES:2016,Concert,Music
GEO:22.2789654;114.1794155
X-APPLE-STRUCTURED-LOCATION;VALUE=URI;X-ADDRESS=ACO 14/F Foo Tak Building 365-367 Hennessy Road Wanchai Hong Kong;X-APPLE-RADIUS=500;X-TITLE=14/F\, Foo Tak Building\, 365-367 Hennessy Road:geo:114.1794155,22.2789654
END:VEVENT
END:VCALENDAR