BEGIN:VCALENDAR
VERSION:2.0
PRODID:-//bc magazine - ECPv6.15.20//NONSGML v1.0//EN
CALSCALE:GREGORIAN
METHOD:PUBLISH
X-WR-CALNAME:bc magazine
X-ORIGINAL-URL:https://www.bcmagazine.net
X-WR-CALDESC:Events for bc magazine
REFRESH-INTERVAL;VALUE=DURATION:PT1H
X-Robots-Tag:noindex
X-PUBLISHED-TTL:PT1H
BEGIN:VTIMEZONE
TZID:Asia/Hong_Kong
BEGIN:STANDARD
TZOFFSETFROM:+0800
TZOFFSETTO:+0800
TZNAME:HKT
DTSTART:20180101T000000
END:STANDARD
END:VTIMEZONE
BEGIN:VEVENT
DTSTART;TZID=Asia/Hong_Kong:20190330T170000
DTEND;TZID=Asia/Hong_Kong:20190330T170000
DTSTAMP:20260421T172726
CREATED:19190226T065612Z
LAST-MODIFIED:20190227T030024Z
UID:10004739-1553965200-1553965200@www.bcmagazine.net
SUMMARY:Tu Seras un Homme Papa
DESCRIPTION:Tu Seras un Homme Papa\nHong Kong French Theatre Festival\, Gael Leiblang\nDate: 5pm\, 30 March\, 2019\nVenue: Bulle d’Art\nTickets: $300 from Ticketflap
URL:https://www.bcmagazine.net/event/tu-seras-un-homme-papa/
LOCATION:Bulle d’Art\, Kwai Bo Industrial Building\, Space 8A\, 40 Wong Chuk Hang Road\, Aberdeen\, Hong Kong
CATEGORIES:2019,Cultural Festival,Performing Arts,Theatre
ATTACH;FMTTYPE=image/jpeg:https://www.bcmagazine.net/wp-content/uploads/2019/02/The-Hong-Kong-French-Theater-Festival-2019.jpg
END:VEVENT
BEGIN:VEVENT
DTSTART;TZID=Asia/Hong_Kong:20190216T200000
DTEND;TZID=Asia/Hong_Kong:20190216T200000
DTSTAMP:20260421T172726
CREATED:20190125T044512Z
LAST-MODIFIED:20190125T174845Z
UID:10006562-1550347200-1550347200@www.bcmagazine.net
SUMMARY:DragJam2
DESCRIPTION:DragJam2\nDate: 8pm\, 16 February\, 2019\nVenue: Bulle d’Art\nTickets: $100
URL:https://www.bcmagazine.net/event/dragjam2/
LOCATION:Bulle d’Art\, Kwai Bo Industrial Building\, Space 8A\, 40 Wong Chuk Hang Road\, Aberdeen\, Hong Kong
CATEGORIES:2019,LGBT,Lifestyle,Music,Nightlife,Performing Arts,Theatre
ATTACH;FMTTYPE=image/jpeg:https://www.bcmagazine.net/wp-content/uploads/1918/12/dragjam2-2019.jpg
END:VEVENT
END:VCALENDAR