BEGIN:VCALENDAR
VERSION:2.0
PRODID:-//bc magazine - ECPv6.15.20//NONSGML v1.0//EN
CALSCALE:GREGORIAN
METHOD:PUBLISH
X-WR-CALNAME:bc magazine
X-ORIGINAL-URL:https://www.bcmagazine.net
X-WR-CALDESC:Events for bc magazine
REFRESH-INTERVAL;VALUE=DURATION:PT1H
X-Robots-Tag:noindex
X-PUBLISHED-TTL:PT1H
BEGIN:VTIMEZONE
TZID:Asia/Hong_Kong
BEGIN:STANDARD
TZOFFSETFROM:+0800
TZOFFSETTO:+0800
TZNAME:HKT
DTSTART:20150101T000000
END:STANDARD
END:VTIMEZONE
BEGIN:VEVENT
DTSTART;TZID=Asia/Hong_Kong:20160915T220000
DTEND;TZID=Asia/Hong_Kong:20160915T220000
DTSTAMP:20260423T111054
CREATED:19160826T053631Z
LAST-MODIFIED:20160826T054245Z
UID:10000707-1473976800-1473976800@www.bcmagazine.net
SUMMARY:Machindrum
DESCRIPTION:Machindrum\nDate: 10pm\, 15 September\, 2016\nVenue: Cafe Hillwoood\nTickets: $260 from Ticketflap
URL:https://www.bcmagazine.net/event/machindrum-2016/
LOCATION:Café Hillywood\, L/G\, 152 Austin Road\, Tsim Sha Tsui\, Hong Kong
CATEGORIES:2016,Concert,Music
GEO:22.303183;114.175112
X-APPLE-STRUCTURED-LOCATION;VALUE=URI;X-ADDRESS=Café Hillywood L/G 152 Austin Road Tsim Sha Tsui Hong Kong;X-APPLE-RADIUS=500;X-TITLE=L/G\, 152 Austin Road:geo:114.175112,22.303183
END:VEVENT
END:VCALENDAR