BEGIN:VCALENDAR
VERSION:2.0
PRODID:-//bc magazine - ECPv6.15.20//NONSGML v1.0//EN
CALSCALE:GREGORIAN
METHOD:PUBLISH
X-WR-CALNAME:bc magazine
X-ORIGINAL-URL:https://www.bcmagazine.net
X-WR-CALDESC:Events for bc magazine
REFRESH-INTERVAL;VALUE=DURATION:PT1H
X-Robots-Tag:noindex
X-PUBLISHED-TTL:PT1H
BEGIN:VTIMEZONE
TZID:Asia/Hong_Kong
BEGIN:STANDARD
TZOFFSETFROM:+0800
TZOFFSETTO:+0800
TZNAME:HKT
DTSTART:20140101T000000
END:STANDARD
END:VTIMEZONE
BEGIN:VEVENT
DTSTART;TZID=Asia/Hong_Kong:20150123T210000
DTEND;TZID=Asia/Hong_Kong:20150124T060000
DTSTAMP:20260423T205648
CREATED:20150122T020825Z
LAST-MODIFIED:20150121T134127Z
UID:10005552-1422046800-1422079200@www.bcmagazine.net
SUMMARY:Sasha @ Club18 - 23 January\, 2015
DESCRIPTION:Sasha\nSupport: Dee Montero\, Sean Rogers\, Zelazowski\nWhen: 9pm\, 23 January\, 2015\nWhere: Club 18\nHow much: $588 (Advance)\, $688 (Door)\n \n 
URL:https://www.bcmagazine.net/event/sasha-club18-23-january-2015/
LOCATION:Club 18\, 18 Lyndhurst Terrace\, Central\, Hong Kong
CATEGORIES:DJ,Music,Nightclub
GEO:22.2822447;114.1545817
X-APPLE-STRUCTURED-LOCATION;VALUE=URI;X-ADDRESS=Club 18 18 Lyndhurst Terrace Central Hong Kong;X-APPLE-RADIUS=500;X-TITLE=18 Lyndhurst Terrace:geo:114.1545817,22.2822447
END:VEVENT
END:VCALENDAR