BEGIN:VCALENDAR
VERSION:2.0
PRODID:-//bc magazine - ECPv6.15.20//NONSGML v1.0//EN
CALSCALE:GREGORIAN
METHOD:PUBLISH
X-WR-CALNAME:bc magazine
X-ORIGINAL-URL:https://www.bcmagazine.net
X-WR-CALDESC:Events for bc magazine
REFRESH-INTERVAL;VALUE=DURATION:PT1H
X-Robots-Tag:noindex
X-PUBLISHED-TTL:PT1H
BEGIN:VTIMEZONE
TZID:Asia/Hong_Kong
BEGIN:STANDARD
TZOFFSETFROM:+0800
TZOFFSETTO:+0800
TZNAME:HKT
DTSTART:20140101T000000
END:STANDARD
END:VTIMEZONE
BEGIN:VEVENT
DTSTART;TZID=Asia/Hong_Kong:20190413T220000
DTEND;TZID=Asia/Hong_Kong:20190413T220000
DTSTAMP:20260422T134225
CREATED:19190226T065612Z
LAST-MODIFIED:20190227T140753Z
UID:10004740-1555192800-1555192800@www.bcmagazine.net
SUMMARY:Tiesto
DESCRIPTION:Tiesto – Club Cubic 8th Anniversary\nDate: 13 April\, 2019\nVenue: Club Cubic\, City of Dreams\nTickets: $680\, $480
URL:https://www.bcmagazine.net/event/tiesto-macau-2019/
LOCATION:Club Cubic\, Macau
CATEGORIES:2019,DJ,Macau,Music,Performing Arts
ATTACH;FMTTYPE=image/jpeg:https://www.bcmagazine.net/wp-content/uploads/2019/02/club-club-tiesto-2019.jpg
END:VEVENT
BEGIN:VEVENT
DTSTART;TZID=Asia/Hong_Kong:20181012T200000
DTEND;TZID=Asia/Hong_Kong:20181012T200000
DTSTAMP:20260422T134225
CREATED:19180903T083647Z
LAST-MODIFIED:20180905T003505Z
UID:10004429-1539374400-1539374400@www.bcmagazine.net
SUMMARY:Yellow Claw
DESCRIPTION:Yellow Claw\nDate: 8pm\, 12 October\, 2018\nVenue: Club Cubic\nTickets: $580\, $480 (Advance)
URL:https://www.bcmagazine.net/event/yellow-claw-macau-2018/
LOCATION:Club Cubic\, Macau
CATEGORIES:2018,Concert,DJ,Macau,Music,Performing Arts
END:VEVENT
BEGIN:VEVENT
DTSTART;TZID=Asia/Hong_Kong:20150808T230000
DTEND;TZID=Asia/Hong_Kong:20150809T050000
DTSTAMP:20260422T134225
CREATED:20150608T093147Z
LAST-MODIFIED:20150709T050015Z
UID:10005964-1439074800-1439096400@www.bcmagazine.net
SUMMARY:OT Genasis
DESCRIPTION:OT Genasis\nDate: 8 August\nVenue: Club Cubic\nTickets: $380
URL:https://www.bcmagazine.net/event/ot-genasis/
LOCATION:Club Cubic\, Macau
CATEGORIES:2015,DJ,Macau,Music,Nightclub,Nightlife
END:VEVENT
BEGIN:VEVENT
DTSTART;TZID=Asia/Hong_Kong:20150724T230000
DTEND;TZID=Asia/Hong_Kong:20150725T050000
DTSTAMP:20260422T134225
CREATED:20150608T092910Z
LAST-MODIFIED:20150708T093138Z
UID:10005962-1437778800-1437800400@www.bcmagazine.net
SUMMARY:Chris Brown
DESCRIPTION:Chris Brown\nDate: 24 July\nVenue: Club Cubic\nTickets: $580
URL:https://www.bcmagazine.net/event/chris-brown/
LOCATION:Club Cubic\, Macau
CATEGORIES:2015,DJ,Macau,Music,Nightclub,Nightlife
END:VEVENT
BEGIN:VEVENT
DTSTART;TZID=Asia/Hong_Kong:20150722T220000
DTEND;TZID=Asia/Hong_Kong:20150723T050000
DTSTAMP:20260422T134225
CREATED:20150608T092344Z
LAST-MODIFIED:20150708T092855Z
UID:10005961-1437602400-1437627600@www.bcmagazine.net
SUMMARY:deadmau5
DESCRIPTION:deadmau5\nDate: 22 July\nVenue: Club Cubic\nTickets: $380
URL:https://www.bcmagazine.net/event/deadmau5/
LOCATION:Club Cubic\, Macau
CATEGORIES:2015,DJ,Macau,Music,Nightclub,Nightlife
END:VEVENT
END:VCALENDAR