BEGIN:VCALENDAR
VERSION:2.0
PRODID:-//bc magazine - ECPv6.15.20//NONSGML v1.0//EN
CALSCALE:GREGORIAN
METHOD:PUBLISH
X-WR-CALNAME:bc magazine
X-ORIGINAL-URL:https://www.bcmagazine.net
X-WR-CALDESC:Events for bc magazine
REFRESH-INTERVAL;VALUE=DURATION:PT1H
X-Robots-Tag:noindex
X-PUBLISHED-TTL:PT1H
BEGIN:VTIMEZONE
TZID:Asia/Hong_Kong
BEGIN:STANDARD
TZOFFSETFROM:+0800
TZOFFSETTO:+0800
TZNAME:HKT
DTSTART:20170101T000000
END:STANDARD
END:VTIMEZONE
BEGIN:VEVENT
DTSTART;TZID=Asia/Hong_Kong:20181103T200000
DTEND;TZID=Asia/Hong_Kong:20181103T200000
DTSTAMP:20260425T060154
CREATED:19181002T010042Z
LAST-MODIFIED:20181004T090816Z
UID:10004462-1541275200-1541275200@www.bcmagazine.net
SUMMARY:Jeff Chang
DESCRIPTION:Jeff Chang Continuum World Tour\nDate: 8pm\, 3 November\, 2018\nVenues: Cotai Arena\nTickets: $1\,680\, $1\,280\, $980\, $680\, $380 from CotaiTicketing
URL:https://www.bcmagazine.net/event/jeff-chang-macau-2018/
LOCATION:Cotai Arena\, Venetian Macao\, Macau
CATEGORIES:2018,Concert,Macau,Music,Performing Arts
ATTACH;FMTTYPE=image/jpeg:https://www.bcmagazine.net/wp-content/uploads/1918/10/Jeff-Chang-Continuum-World-Tour.jpg
END:VEVENT
BEGIN:VEVENT
DTSTART;TZID=Asia/Hong_Kong:20181027T200000
DTEND;TZID=Asia/Hong_Kong:20181027T200000
DTSTAMP:20260425T060154
CREATED:19181002T010042Z
LAST-MODIFIED:20181004T095847Z
UID:10004471-1540670400-1540670400@www.bcmagazine.net
SUMMARY:Leon Metro Live
DESCRIPTION:Leon Metro Live\nDate: 8pm\, 27 October\, 2018\nVenues: Cotai Arena\nTickets: $2\,180\, $1\,580\, $980\, $680\, $480 from CotaiTicketing
URL:https://www.bcmagazine.net/event/leon-metro-live/
LOCATION:Cotai Arena\, Venetian Macao\, Macau
CATEGORIES:2018,Concert,Macau,Music,Performing Arts
ATTACH;FMTTYPE=image/jpeg:https://www.bcmagazine.net/wp-content/uploads/1918/10/Leon-Metro-Live-2018.jpg
END:VEVENT
BEGIN:VEVENT
DTSTART;TZID=Asia/Hong_Kong:20181013T200000
DTEND;TZID=Asia/Hong_Kong:20181013T200000
DTSTAMP:20260425T060154
CREATED:19181002T010042Z
LAST-MODIFIED:20181004T085630Z
UID:10004457-1539460800-1539460800@www.bcmagazine.net
SUMMARY:Twins
DESCRIPTION:Twins – Live Around the World Macao Finale\nDate: 8pm\, 13 October\, 2018\nVenues: Cotai Arena\nTickets: $1\,380\, $880\, $680\, $480\, $280 from CotaiTicketing
URL:https://www.bcmagazine.net/event/twins-macau-2018/
LOCATION:Cotai Arena\, Venetian Macao\, Macau
CATEGORIES:2018,Concert,Macau,Music,Performing Arts
ATTACH;FMTTYPE=image/jpeg:https://www.bcmagazine.net/wp-content/uploads/1918/10/twins683x165-macau2018.jpg
END:VEVENT
BEGIN:VEVENT
DTSTART;TZID=Asia/Hong_Kong:20181006T200000
DTEND;TZID=Asia/Hong_Kong:20181006T200000
DTSTAMP:20260425T060154
CREATED:19181002T010042Z
LAST-MODIFIED:20181004T091151Z
UID:10004463-1538856000-1538856000@www.bcmagazine.net
SUMMARY:EEG All Stars Macau
DESCRIPTION:EEG All Stars Macau\nJoey Yung\, Hacken Lee\, Leo Ku\, Hins Cheung\, Vincy Chan\, Angela Hui\, Ken Hung\, Sherman Chung\, Deep Ng and Adason Lo\nDate: 8pm\, 6 October\, 2018\nVenues: Cotai Arena\nTickets: $1\,880\, $1\,480\, $880\, $580\, $380 from CotaiTicketing
URL:https://www.bcmagazine.net/event/eeg-all-stars-macau-2018/
LOCATION:Cotai Arena\, Venetian Macao\, Macau
CATEGORIES:2018,Concert,Macau,Music,Performing Arts
ATTACH;FMTTYPE=image/jpeg:https://www.bcmagazine.net/wp-content/uploads/1918/10/EEG-all-stars-macau-2018.jpg
END:VEVENT
BEGIN:VEVENT
DTSTART;TZID=Asia/Hong_Kong:20180930T200000
DTEND;TZID=Asia/Hong_Kong:20180930T200000
DTSTAMP:20260425T060154
CREATED:19180720T083647Z
LAST-MODIFIED:20180828T074533Z
UID:10004343-1538337600-1538337600@www.bcmagazine.net
SUMMARY:Joker Xue
DESCRIPTION:Joker Xue – Skyscraper World Tour\nDate: 8pm\, 30 September\, 2018\nVenue: Cotai Arena\nTickets: tbc
URL:https://www.bcmagazine.net/event/joker-xue-macau-2018/
LOCATION:Cotai Arena\, Venetian Macao\, Macau
CATEGORIES:2018,Concert,Macau,Music,Performing Arts
END:VEVENT
END:VCALENDAR