BEGIN:VCALENDAR
VERSION:2.0
PRODID:-//bc magazine - ECPv6.15.20//NONSGML v1.0//EN
CALSCALE:GREGORIAN
METHOD:PUBLISH
X-ORIGINAL-URL:https://www.bcmagazine.net
X-WR-CALDESC:Events for bc magazine
REFRESH-INTERVAL;VALUE=DURATION:PT1H
X-Robots-Tag:noindex
X-PUBLISHED-TTL:PT1H
BEGIN:VTIMEZONE
TZID:Asia/Hong_Kong
BEGIN:STANDARD
TZOFFSETFROM:+0800
TZOFFSETTO:+0800
TZNAME:HKT
DTSTART:20180101T000000
END:STANDARD
END:VTIMEZONE
BEGIN:VEVENT
DTSTART;TZID=Asia/Hong_Kong:20190330T180000
DTEND;TZID=Asia/Hong_Kong:20190330T180000
DTSTAMP:20260426T035940
CREATED:20190313T070812Z
LAST-MODIFIED:20190314T133004Z
UID:10006575-1553968800-1553968800@www.bcmagazine.net
SUMMARY:Bula Fiji
DESCRIPTION:Bula Fiji\nDate: 6pm\, 30 March\, 2019\nVenue: East Ocean/Lafayette\, 15F\, 311 Gloucester Road\, Causeway Bay\nTickets: $15\,000/ table of 12 from lucylui852@gmail.com
URL:https://www.bcmagazine.net/event/bula-fiji-2019/
LOCATION:East Ocean\, 15F\, 311 Gloucester Road\, Causeway Bay\, Hong Kong
CATEGORIES:2019,Nightlife,Rugby,Sport
ATTACH;FMTTYPE=image/jpeg:https://www.bcmagazine.net/wp-content/uploads/2019/03/Bula-Fiji-2019.jpeg
END:VEVENT
END:VCALENDAR