BEGIN:VCALENDAR
VERSION:2.0
PRODID:-//bc magazine - ECPv6.15.20//NONSGML v1.0//EN
CALSCALE:GREGORIAN
METHOD:PUBLISH
X-WR-CALNAME:bc magazine
X-ORIGINAL-URL:https://www.bcmagazine.net
X-WR-CALDESC:Events for bc magazine
REFRESH-INTERVAL;VALUE=DURATION:PT1H
X-Robots-Tag:noindex
X-PUBLISHED-TTL:PT1H
BEGIN:VTIMEZONE
TZID:Asia/Hong_Kong
BEGIN:STANDARD
TZOFFSETFROM:+0800
TZOFFSETTO:+0800
TZNAME:HKT
DTSTART:20170101T000000
END:STANDARD
END:VTIMEZONE
BEGIN:VEVENT
DTSTART;TZID=Asia/Hong_Kong:20180922T233000
DTEND;TZID=Asia/Hong_Kong:20180922T233000
DTSTAMP:20260424T033635
CREATED:19180528T020834Z
LAST-MODIFIED:20180728T055713Z
UID:10004120-1537659000-1537659000@www.bcmagazine.net
SUMMARY:Secret Saturday Show
DESCRIPTION:Secret Saturday Show\nDate: 11:30pm\, 22 September\, 2018\nVenue: FLM\nTickets: Free
URL:https://www.bcmagazine.net/event/secret-saturday-show-22-09-2018/
LOCATION:FLM\, 62 Jervois Street\, Sheung Wan\, Hong Kong
CATEGORIES:2018,Concert,DJ,Free,LGBT,Music,Performing Arts
ATTACH;FMTTYPE=image/jpeg:https://www.bcmagazine.net/wp-content/uploads/1918/05/secret-saturday-flm-2018.jpg
END:VEVENT
BEGIN:VEVENT
DTSTART;TZID=Asia/Hong_Kong:20180908T233000
DTEND;TZID=Asia/Hong_Kong:20180908T233000
DTSTAMP:20260424T033635
CREATED:19180528T020834Z
LAST-MODIFIED:20180728T055718Z
UID:10004119-1536449400-1536449400@www.bcmagazine.net
SUMMARY:Secret Saturday Show
DESCRIPTION:Secret Saturday Show\nDate: 11:30pm\, 8 September\, 2018\nVenue: FLM\nTickets: Free
URL:https://www.bcmagazine.net/event/secret-saturday-show-08-09-2018/
LOCATION:FLM\, 62 Jervois Street\, Sheung Wan\, Hong Kong
CATEGORIES:2018,Concert,DJ,Free,LGBT,Music,Performing Arts
ATTACH;FMTTYPE=image/jpeg:https://www.bcmagazine.net/wp-content/uploads/1918/05/secret-saturday-flm-2018.jpg
END:VEVENT
BEGIN:VEVENT
DTSTART;TZID=Asia/Hong_Kong:20180811T233000
DTEND;TZID=Asia/Hong_Kong:20180811T233000
DTSTAMP:20260424T033635
CREATED:19180528T020834Z
LAST-MODIFIED:20180728T055734Z
UID:10004118-1534030200-1534030200@www.bcmagazine.net
SUMMARY:Secret Saturday Show
DESCRIPTION:Secret Saturday Show\nDate: 11:30pm\, 11 August\, 2018\nVenue: FLM\nTickets: Free
URL:https://www.bcmagazine.net/event/secret-saturday-show-11-08-2018/
LOCATION:FLM\, 62 Jervois Street\, Sheung Wan\, Hong Kong
CATEGORIES:2018,Concert,DJ,Free,LGBT,Music,Performing Arts
ATTACH;FMTTYPE=image/jpeg:https://www.bcmagazine.net/wp-content/uploads/1918/05/secret-saturday-flm-2018.jpg
END:VEVENT
END:VCALENDAR