BEGIN:VCALENDAR
VERSION:2.0
PRODID:-//bc magazine - ECPv6.15.20//NONSGML v1.0//EN
CALSCALE:GREGORIAN
METHOD:PUBLISH
X-WR-CALNAME:bc magazine
X-ORIGINAL-URL:https://www.bcmagazine.net
X-WR-CALDESC:Events for bc magazine
REFRESH-INTERVAL;VALUE=DURATION:PT1H
X-Robots-Tag:noindex
X-PUBLISHED-TTL:PT1H
BEGIN:VTIMEZONE
TZID:Asia/Hong_Kong
BEGIN:STANDARD
TZOFFSETFROM:+0800
TZOFFSETTO:+0800
TZNAME:HKT
DTSTART:20180101T000000
END:STANDARD
END:VTIMEZONE
BEGIN:VEVENT
DTSTART;TZID=Asia/Hong_Kong:20191205T190000
DTEND;TZID=Asia/Hong_Kong:20191205T190000
DTSTAMP:20260420T062022
CREATED:20191117T024216Z
LAST-MODIFIED:20191120T121852Z
UID:10006607-1575572400-1575572400@www.bcmagazine.net
SUMMARY:The Red Stripes
DESCRIPTION:The Red Stripes Live At Franks\nDate: 7pm\, 5 December\, 2019\nVenue: Franks\nTickets: Free
URL:https://www.bcmagazine.net/event/the-red-stripes-live-at-franks-2019/
LOCATION:Franks\, 79 Wyndham Street\, Central\, Hong Kong
CATEGORIES:2019,Concert,Free,Music,Performing Arts
ATTACH;FMTTYPE=image/jpeg:https://www.bcmagazine.net/wp-content/uploads/2019/11/red-stripes-at-franks-2019.jpg
END:VEVENT
END:VCALENDAR