BEGIN:VCALENDAR
VERSION:2.0
PRODID:-//bc magazine - ECPv6.15.20//NONSGML v1.0//EN
CALSCALE:GREGORIAN
METHOD:PUBLISH
X-WR-CALNAME:bc magazine
X-ORIGINAL-URL:https://www.bcmagazine.net
X-WR-CALDESC:Events for bc magazine
REFRESH-INTERVAL;VALUE=DURATION:PT1H
X-Robots-Tag:noindex
X-PUBLISHED-TTL:PT1H
BEGIN:VTIMEZONE
TZID:Asia/Hong_Kong
BEGIN:STANDARD
TZOFFSETFROM:+0800
TZOFFSETTO:+0800
TZNAME:HKT
DTSTART:20150101T000000
END:STANDARD
END:VTIMEZONE
BEGIN:VEVENT
DTSTART;TZID=Asia/Hong_Kong:20171210T193000
DTEND;TZID=Asia/Hong_Kong:20171210T193000
DTSTAMP:20260425T071726
CREATED:19170909T031637Z
LAST-MODIFIED:20160909T032138Z
UID:10003460-1512934200-1512934200@www.bcmagazine.net
SUMMARY:Philosophy Cafe
DESCRIPTION:Philosophy Cafe\nDate: 7:30pm\, 2nd Tuesday of the month\nVenue: Fringe Club\, Colette’s\nTickets: free\nMore info:\nwww.facebook.com/HKPhilosophyCafe
URL:https://www.bcmagazine.net/event/philosophy-cafe-2017/2017-12-10/
LOCATION:Fringe Club\, Colette’s\, 2 Lower Albert Road\, Central\, Hong Kong
CATEGORIES:2017,Free,Other
GEO:22.2803491;114.156067
X-APPLE-STRUCTURED-LOCATION;VALUE=URI;X-ADDRESS=Fringe Club Colette’s 2 Lower Albert Road Central Hong Kong;X-APPLE-RADIUS=500;X-TITLE=2 Lower Albert Road:geo:114.156067,22.2803491
END:VEVENT
BEGIN:VEVENT
DTSTART;TZID=Asia/Hong_Kong:20171204T194500
DTEND;TZID=Asia/Hong_Kong:20171204T194500
DTSTAMP:20260425T071726
CREATED:19160909T015349Z
LAST-MODIFIED:20160909T020238Z
UID:10002090-1512416700-1512416700@www.bcmagazine.net
SUMMARY:Poetry OutLoud
DESCRIPTION:On the first Wednesday of every month\, Poetry OutLoud present a mixed bag of original poetry\, classics\, lesser-known works and music. The format generally consists of a number of featured readers\, plus an open mike section in which audience-members are welcomed and encouraged to read. \nPoetry OutLoud\nDate: 1st Wednesday of the month\nVenue: Fringe Club\, Colette’s\nTickets: Free\nMore info: www.facebook.com/PoetryOutLoudHK
URL:https://www.bcmagazine.net/event/poetry-outloud-2017/2017-12-04/
LOCATION:Fringe Club\, Colette’s\, 2 Lower Albert Road\, Central\, Hong Kong
CATEGORIES:2017,Free,Other,Performing Arts,Poetry
GEO:22.2803491;114.156067
X-APPLE-STRUCTURED-LOCATION;VALUE=URI;X-ADDRESS=Fringe Club Colette’s 2 Lower Albert Road Central Hong Kong;X-APPLE-RADIUS=500;X-TITLE=2 Lower Albert Road:geo:114.156067,22.2803491
END:VEVENT
BEGIN:VEVENT
DTSTART;TZID=Asia/Hong_Kong:20171110T193000
DTEND;TZID=Asia/Hong_Kong:20171110T193000
DTSTAMP:20260425T071726
CREATED:19170909T031637Z
LAST-MODIFIED:20160909T032138Z
UID:10003459-1510342200-1510342200@www.bcmagazine.net
SUMMARY:Philosophy Cafe
DESCRIPTION:Philosophy Cafe\nDate: 7:30pm\, 2nd Tuesday of the month\nVenue: Fringe Club\, Colette’s\nTickets: free\nMore info:\nwww.facebook.com/HKPhilosophyCafe
URL:https://www.bcmagazine.net/event/philosophy-cafe-2017/2017-11-10/
LOCATION:Fringe Club\, Colette’s\, 2 Lower Albert Road\, Central\, Hong Kong
CATEGORIES:2017,Free,Other
GEO:22.2803491;114.156067
X-APPLE-STRUCTURED-LOCATION;VALUE=URI;X-ADDRESS=Fringe Club Colette’s 2 Lower Albert Road Central Hong Kong;X-APPLE-RADIUS=500;X-TITLE=2 Lower Albert Road:geo:114.156067,22.2803491
END:VEVENT
BEGIN:VEVENT
DTSTART;TZID=Asia/Hong_Kong:20171104T194500
DTEND;TZID=Asia/Hong_Kong:20171104T194500
DTSTAMP:20260425T071726
CREATED:19160909T015349Z
LAST-MODIFIED:20160909T020238Z
UID:10002089-1509824700-1509824700@www.bcmagazine.net
SUMMARY:Poetry OutLoud
DESCRIPTION:On the first Wednesday of every month\, Poetry OutLoud present a mixed bag of original poetry\, classics\, lesser-known works and music. The format generally consists of a number of featured readers\, plus an open mike section in which audience-members are welcomed and encouraged to read. \nPoetry OutLoud\nDate: 1st Wednesday of the month\nVenue: Fringe Club\, Colette’s\nTickets: Free\nMore info: www.facebook.com/PoetryOutLoudHK
URL:https://www.bcmagazine.net/event/poetry-outloud-2017/2017-11-04/
LOCATION:Fringe Club\, Colette’s\, 2 Lower Albert Road\, Central\, Hong Kong
CATEGORIES:2017,Free,Other,Performing Arts,Poetry
GEO:22.2803491;114.156067
X-APPLE-STRUCTURED-LOCATION;VALUE=URI;X-ADDRESS=Fringe Club Colette’s 2 Lower Albert Road Central Hong Kong;X-APPLE-RADIUS=500;X-TITLE=2 Lower Albert Road:geo:114.156067,22.2803491
END:VEVENT
BEGIN:VEVENT
DTSTART;TZID=Asia/Hong_Kong:20171010T193000
DTEND;TZID=Asia/Hong_Kong:20171010T193000
DTSTAMP:20260425T071726
CREATED:19170909T031637Z
LAST-MODIFIED:20160909T032138Z
UID:10003458-1507663800-1507663800@www.bcmagazine.net
SUMMARY:Philosophy Cafe
DESCRIPTION:Philosophy Cafe\nDate: 7:30pm\, 2nd Tuesday of the month\nVenue: Fringe Club\, Colette’s\nTickets: free\nMore info:\nwww.facebook.com/HKPhilosophyCafe
URL:https://www.bcmagazine.net/event/philosophy-cafe-2017/2017-10-10/
LOCATION:Fringe Club\, Colette’s\, 2 Lower Albert Road\, Central\, Hong Kong
CATEGORIES:2017,Free,Other
GEO:22.2803491;114.156067
X-APPLE-STRUCTURED-LOCATION;VALUE=URI;X-ADDRESS=Fringe Club Colette’s 2 Lower Albert Road Central Hong Kong;X-APPLE-RADIUS=500;X-TITLE=2 Lower Albert Road:geo:114.156067,22.2803491
END:VEVENT
BEGIN:VEVENT
DTSTART;TZID=Asia/Hong_Kong:20171004T194500
DTEND;TZID=Asia/Hong_Kong:20171004T194500
DTSTAMP:20260425T071726
CREATED:19160909T015349Z
LAST-MODIFIED:20160909T020238Z
UID:10002088-1507146300-1507146300@www.bcmagazine.net
SUMMARY:Poetry OutLoud
DESCRIPTION:On the first Wednesday of every month\, Poetry OutLoud present a mixed bag of original poetry\, classics\, lesser-known works and music. The format generally consists of a number of featured readers\, plus an open mike section in which audience-members are welcomed and encouraged to read. \nPoetry OutLoud\nDate: 1st Wednesday of the month\nVenue: Fringe Club\, Colette’s\nTickets: Free\nMore info: www.facebook.com/PoetryOutLoudHK
URL:https://www.bcmagazine.net/event/poetry-outloud-2017/2017-10-04/
LOCATION:Fringe Club\, Colette’s\, 2 Lower Albert Road\, Central\, Hong Kong
CATEGORIES:2017,Free,Other,Performing Arts,Poetry
GEO:22.2803491;114.156067
X-APPLE-STRUCTURED-LOCATION;VALUE=URI;X-ADDRESS=Fringe Club Colette’s 2 Lower Albert Road Central Hong Kong;X-APPLE-RADIUS=500;X-TITLE=2 Lower Albert Road:geo:114.156067,22.2803491
END:VEVENT
BEGIN:VEVENT
DTSTART;TZID=Asia/Hong_Kong:20170910T193000
DTEND;TZID=Asia/Hong_Kong:20170910T193000
DTSTAMP:20260425T071726
CREATED:19170909T031637Z
LAST-MODIFIED:20160909T032138Z
UID:10003457-1505071800-1505071800@www.bcmagazine.net
SUMMARY:Philosophy Cafe
DESCRIPTION:Philosophy Cafe\nDate: 7:30pm\, 2nd Tuesday of the month\nVenue: Fringe Club\, Colette’s\nTickets: free\nMore info:\nwww.facebook.com/HKPhilosophyCafe
URL:https://www.bcmagazine.net/event/philosophy-cafe-2017/2017-09-10/
LOCATION:Fringe Club\, Colette’s\, 2 Lower Albert Road\, Central\, Hong Kong
CATEGORIES:2017,Free,Other
GEO:22.2803491;114.156067
X-APPLE-STRUCTURED-LOCATION;VALUE=URI;X-ADDRESS=Fringe Club Colette’s 2 Lower Albert Road Central Hong Kong;X-APPLE-RADIUS=500;X-TITLE=2 Lower Albert Road:geo:114.156067,22.2803491
END:VEVENT
BEGIN:VEVENT
DTSTART;TZID=Asia/Hong_Kong:20170904T194500
DTEND;TZID=Asia/Hong_Kong:20170904T194500
DTSTAMP:20260425T071726
CREATED:19160909T015349Z
LAST-MODIFIED:20160909T020238Z
UID:10002087-1504554300-1504554300@www.bcmagazine.net
SUMMARY:Poetry OutLoud
DESCRIPTION:On the first Wednesday of every month\, Poetry OutLoud present a mixed bag of original poetry\, classics\, lesser-known works and music. The format generally consists of a number of featured readers\, plus an open mike section in which audience-members are welcomed and encouraged to read. \nPoetry OutLoud\nDate: 1st Wednesday of the month\nVenue: Fringe Club\, Colette’s\nTickets: Free\nMore info: www.facebook.com/PoetryOutLoudHK
URL:https://www.bcmagazine.net/event/poetry-outloud-2017/2017-09-04/
LOCATION:Fringe Club\, Colette’s\, 2 Lower Albert Road\, Central\, Hong Kong
CATEGORIES:2017,Free,Other,Performing Arts,Poetry
GEO:22.2803491;114.156067
X-APPLE-STRUCTURED-LOCATION;VALUE=URI;X-ADDRESS=Fringe Club Colette’s 2 Lower Albert Road Central Hong Kong;X-APPLE-RADIUS=500;X-TITLE=2 Lower Albert Road:geo:114.156067,22.2803491
END:VEVENT
BEGIN:VEVENT
DTSTART;TZID=Asia/Hong_Kong:20170810T193000
DTEND;TZID=Asia/Hong_Kong:20170810T193000
DTSTAMP:20260425T071726
CREATED:19170909T031637Z
LAST-MODIFIED:20160909T032138Z
UID:10003456-1502393400-1502393400@www.bcmagazine.net
SUMMARY:Philosophy Cafe
DESCRIPTION:Philosophy Cafe\nDate: 7:30pm\, 2nd Tuesday of the month\nVenue: Fringe Club\, Colette’s\nTickets: free\nMore info:\nwww.facebook.com/HKPhilosophyCafe
URL:https://www.bcmagazine.net/event/philosophy-cafe-2017/2017-08-10/
LOCATION:Fringe Club\, Colette’s\, 2 Lower Albert Road\, Central\, Hong Kong
CATEGORIES:2017,Free,Other
GEO:22.2803491;114.156067
X-APPLE-STRUCTURED-LOCATION;VALUE=URI;X-ADDRESS=Fringe Club Colette’s 2 Lower Albert Road Central Hong Kong;X-APPLE-RADIUS=500;X-TITLE=2 Lower Albert Road:geo:114.156067,22.2803491
END:VEVENT
BEGIN:VEVENT
DTSTART;TZID=Asia/Hong_Kong:20170804T194500
DTEND;TZID=Asia/Hong_Kong:20170804T194500
DTSTAMP:20260425T071726
CREATED:19160909T015349Z
LAST-MODIFIED:20160909T020238Z
UID:10002086-1501875900-1501875900@www.bcmagazine.net
SUMMARY:Poetry OutLoud
DESCRIPTION:On the first Wednesday of every month\, Poetry OutLoud present a mixed bag of original poetry\, classics\, lesser-known works and music. The format generally consists of a number of featured readers\, plus an open mike section in which audience-members are welcomed and encouraged to read. \nPoetry OutLoud\nDate: 1st Wednesday of the month\nVenue: Fringe Club\, Colette’s\nTickets: Free\nMore info: www.facebook.com/PoetryOutLoudHK
URL:https://www.bcmagazine.net/event/poetry-outloud-2017/2017-08-04/
LOCATION:Fringe Club\, Colette’s\, 2 Lower Albert Road\, Central\, Hong Kong
CATEGORIES:2017,Free,Other,Performing Arts,Poetry
GEO:22.2803491;114.156067
X-APPLE-STRUCTURED-LOCATION;VALUE=URI;X-ADDRESS=Fringe Club Colette’s 2 Lower Albert Road Central Hong Kong;X-APPLE-RADIUS=500;X-TITLE=2 Lower Albert Road:geo:114.156067,22.2803491
END:VEVENT
BEGIN:VEVENT
DTSTART;TZID=Asia/Hong_Kong:20170710T193000
DTEND;TZID=Asia/Hong_Kong:20170710T193000
DTSTAMP:20260425T071726
CREATED:19170909T031637Z
LAST-MODIFIED:20160909T032138Z
UID:10003455-1499715000-1499715000@www.bcmagazine.net
SUMMARY:Philosophy Cafe
DESCRIPTION:Philosophy Cafe\nDate: 7:30pm\, 2nd Tuesday of the month\nVenue: Fringe Club\, Colette’s\nTickets: free\nMore info:\nwww.facebook.com/HKPhilosophyCafe
URL:https://www.bcmagazine.net/event/philosophy-cafe-2017/2017-07-10/
LOCATION:Fringe Club\, Colette’s\, 2 Lower Albert Road\, Central\, Hong Kong
CATEGORIES:2017,Free,Other
GEO:22.2803491;114.156067
X-APPLE-STRUCTURED-LOCATION;VALUE=URI;X-ADDRESS=Fringe Club Colette’s 2 Lower Albert Road Central Hong Kong;X-APPLE-RADIUS=500;X-TITLE=2 Lower Albert Road:geo:114.156067,22.2803491
END:VEVENT
BEGIN:VEVENT
DTSTART;TZID=Asia/Hong_Kong:20170704T194500
DTEND;TZID=Asia/Hong_Kong:20170704T194500
DTSTAMP:20260425T071726
CREATED:19160909T015349Z
LAST-MODIFIED:20160909T020238Z
UID:10002085-1499197500-1499197500@www.bcmagazine.net
SUMMARY:Poetry OutLoud
DESCRIPTION:On the first Wednesday of every month\, Poetry OutLoud present a mixed bag of original poetry\, classics\, lesser-known works and music. The format generally consists of a number of featured readers\, plus an open mike section in which audience-members are welcomed and encouraged to read. \nPoetry OutLoud\nDate: 1st Wednesday of the month\nVenue: Fringe Club\, Colette’s\nTickets: Free\nMore info: www.facebook.com/PoetryOutLoudHK
URL:https://www.bcmagazine.net/event/poetry-outloud-2017/2017-07-04/
LOCATION:Fringe Club\, Colette’s\, 2 Lower Albert Road\, Central\, Hong Kong
CATEGORIES:2017,Free,Other,Performing Arts,Poetry
GEO:22.2803491;114.156067
X-APPLE-STRUCTURED-LOCATION;VALUE=URI;X-ADDRESS=Fringe Club Colette’s 2 Lower Albert Road Central Hong Kong;X-APPLE-RADIUS=500;X-TITLE=2 Lower Albert Road:geo:114.156067,22.2803491
END:VEVENT
BEGIN:VEVENT
DTSTART;TZID=Asia/Hong_Kong:20170610T193000
DTEND;TZID=Asia/Hong_Kong:20170610T193000
DTSTAMP:20260425T071726
CREATED:19170909T031637Z
LAST-MODIFIED:20160909T032138Z
UID:10003454-1497123000-1497123000@www.bcmagazine.net
SUMMARY:Philosophy Cafe
DESCRIPTION:Philosophy Cafe\nDate: 7:30pm\, 2nd Tuesday of the month\nVenue: Fringe Club\, Colette’s\nTickets: free\nMore info:\nwww.facebook.com/HKPhilosophyCafe
URL:https://www.bcmagazine.net/event/philosophy-cafe-2017/2017-06-10/
LOCATION:Fringe Club\, Colette’s\, 2 Lower Albert Road\, Central\, Hong Kong
CATEGORIES:2017,Free,Other
GEO:22.2803491;114.156067
X-APPLE-STRUCTURED-LOCATION;VALUE=URI;X-ADDRESS=Fringe Club Colette’s 2 Lower Albert Road Central Hong Kong;X-APPLE-RADIUS=500;X-TITLE=2 Lower Albert Road:geo:114.156067,22.2803491
END:VEVENT
BEGIN:VEVENT
DTSTART;TZID=Asia/Hong_Kong:20170604T194500
DTEND;TZID=Asia/Hong_Kong:20170604T194500
DTSTAMP:20260425T071726
CREATED:19160909T015349Z
LAST-MODIFIED:20160909T020238Z
UID:10002084-1496605500-1496605500@www.bcmagazine.net
SUMMARY:Poetry OutLoud
DESCRIPTION:On the first Wednesday of every month\, Poetry OutLoud present a mixed bag of original poetry\, classics\, lesser-known works and music. The format generally consists of a number of featured readers\, plus an open mike section in which audience-members are welcomed and encouraged to read. \nPoetry OutLoud\nDate: 1st Wednesday of the month\nVenue: Fringe Club\, Colette’s\nTickets: Free\nMore info: www.facebook.com/PoetryOutLoudHK
URL:https://www.bcmagazine.net/event/poetry-outloud-2017/2017-06-04/
LOCATION:Fringe Club\, Colette’s\, 2 Lower Albert Road\, Central\, Hong Kong
CATEGORIES:2017,Free,Other,Performing Arts,Poetry
GEO:22.2803491;114.156067
X-APPLE-STRUCTURED-LOCATION;VALUE=URI;X-ADDRESS=Fringe Club Colette’s 2 Lower Albert Road Central Hong Kong;X-APPLE-RADIUS=500;X-TITLE=2 Lower Albert Road:geo:114.156067,22.2803491
END:VEVENT
BEGIN:VEVENT
DTSTART;TZID=Asia/Hong_Kong:20170510T193000
DTEND;TZID=Asia/Hong_Kong:20170510T193000
DTSTAMP:20260425T071726
CREATED:19170909T031637Z
LAST-MODIFIED:20160909T032138Z
UID:10003453-1494444600-1494444600@www.bcmagazine.net
SUMMARY:Philosophy Cafe
DESCRIPTION:Philosophy Cafe\nDate: 7:30pm\, 2nd Tuesday of the month\nVenue: Fringe Club\, Colette’s\nTickets: free\nMore info:\nwww.facebook.com/HKPhilosophyCafe
URL:https://www.bcmagazine.net/event/philosophy-cafe-2017/2017-05-10/
LOCATION:Fringe Club\, Colette’s\, 2 Lower Albert Road\, Central\, Hong Kong
CATEGORIES:2017,Free,Other
GEO:22.2803491;114.156067
X-APPLE-STRUCTURED-LOCATION;VALUE=URI;X-ADDRESS=Fringe Club Colette’s 2 Lower Albert Road Central Hong Kong;X-APPLE-RADIUS=500;X-TITLE=2 Lower Albert Road:geo:114.156067,22.2803491
END:VEVENT
BEGIN:VEVENT
DTSTART;TZID=Asia/Hong_Kong:20170504T194500
DTEND;TZID=Asia/Hong_Kong:20170504T194500
DTSTAMP:20260425T071726
CREATED:19160909T015349Z
LAST-MODIFIED:20160909T020238Z
UID:10002083-1493927100-1493927100@www.bcmagazine.net
SUMMARY:Poetry OutLoud
DESCRIPTION:On the first Wednesday of every month\, Poetry OutLoud present a mixed bag of original poetry\, classics\, lesser-known works and music. The format generally consists of a number of featured readers\, plus an open mike section in which audience-members are welcomed and encouraged to read. \nPoetry OutLoud\nDate: 1st Wednesday of the month\nVenue: Fringe Club\, Colette’s\nTickets: Free\nMore info: www.facebook.com/PoetryOutLoudHK
URL:https://www.bcmagazine.net/event/poetry-outloud-2017/2017-05-04/
LOCATION:Fringe Club\, Colette’s\, 2 Lower Albert Road\, Central\, Hong Kong
CATEGORIES:2017,Free,Other,Performing Arts,Poetry
GEO:22.2803491;114.156067
X-APPLE-STRUCTURED-LOCATION;VALUE=URI;X-ADDRESS=Fringe Club Colette’s 2 Lower Albert Road Central Hong Kong;X-APPLE-RADIUS=500;X-TITLE=2 Lower Albert Road:geo:114.156067,22.2803491
END:VEVENT
BEGIN:VEVENT
DTSTART;TZID=Asia/Hong_Kong:20170410T193000
DTEND;TZID=Asia/Hong_Kong:20170410T193000
DTSTAMP:20260425T071726
CREATED:19170909T031637Z
LAST-MODIFIED:20160909T032138Z
UID:10003452-1491852600-1491852600@www.bcmagazine.net
SUMMARY:Philosophy Cafe
DESCRIPTION:Philosophy Cafe\nDate: 7:30pm\, 2nd Tuesday of the month\nVenue: Fringe Club\, Colette’s\nTickets: free\nMore info:\nwww.facebook.com/HKPhilosophyCafe
URL:https://www.bcmagazine.net/event/philosophy-cafe-2017/2017-04-10/
LOCATION:Fringe Club\, Colette’s\, 2 Lower Albert Road\, Central\, Hong Kong
CATEGORIES:2017,Free,Other
GEO:22.2803491;114.156067
X-APPLE-STRUCTURED-LOCATION;VALUE=URI;X-ADDRESS=Fringe Club Colette’s 2 Lower Albert Road Central Hong Kong;X-APPLE-RADIUS=500;X-TITLE=2 Lower Albert Road:geo:114.156067,22.2803491
END:VEVENT
BEGIN:VEVENT
DTSTART;TZID=Asia/Hong_Kong:20170404T194500
DTEND;TZID=Asia/Hong_Kong:20170404T194500
DTSTAMP:20260425T071726
CREATED:19160909T015349Z
LAST-MODIFIED:20160909T020238Z
UID:10002082-1491335100-1491335100@www.bcmagazine.net
SUMMARY:Poetry OutLoud
DESCRIPTION:On the first Wednesday of every month\, Poetry OutLoud present a mixed bag of original poetry\, classics\, lesser-known works and music. The format generally consists of a number of featured readers\, plus an open mike section in which audience-members are welcomed and encouraged to read. \nPoetry OutLoud\nDate: 1st Wednesday of the month\nVenue: Fringe Club\, Colette’s\nTickets: Free\nMore info: www.facebook.com/PoetryOutLoudHK
URL:https://www.bcmagazine.net/event/poetry-outloud-2017/2017-04-04/
LOCATION:Fringe Club\, Colette’s\, 2 Lower Albert Road\, Central\, Hong Kong
CATEGORIES:2017,Free,Other,Performing Arts,Poetry
GEO:22.2803491;114.156067
X-APPLE-STRUCTURED-LOCATION;VALUE=URI;X-ADDRESS=Fringe Club Colette’s 2 Lower Albert Road Central Hong Kong;X-APPLE-RADIUS=500;X-TITLE=2 Lower Albert Road:geo:114.156067,22.2803491
END:VEVENT
BEGIN:VEVENT
DTSTART;TZID=Asia/Hong_Kong:20170310T193000
DTEND;TZID=Asia/Hong_Kong:20170310T193000
DTSTAMP:20260425T071726
CREATED:19170909T031637Z
LAST-MODIFIED:20160909T032138Z
UID:10003451-1489174200-1489174200@www.bcmagazine.net
SUMMARY:Philosophy Cafe
DESCRIPTION:Philosophy Cafe\nDate: 7:30pm\, 2nd Tuesday of the month\nVenue: Fringe Club\, Colette’s\nTickets: free\nMore info:\nwww.facebook.com/HKPhilosophyCafe
URL:https://www.bcmagazine.net/event/philosophy-cafe-2017/2017-03-10/
LOCATION:Fringe Club\, Colette’s\, 2 Lower Albert Road\, Central\, Hong Kong
CATEGORIES:2017,Free,Other
GEO:22.2803491;114.156067
X-APPLE-STRUCTURED-LOCATION;VALUE=URI;X-ADDRESS=Fringe Club Colette’s 2 Lower Albert Road Central Hong Kong;X-APPLE-RADIUS=500;X-TITLE=2 Lower Albert Road:geo:114.156067,22.2803491
END:VEVENT
BEGIN:VEVENT
DTSTART;TZID=Asia/Hong_Kong:20170304T194500
DTEND;TZID=Asia/Hong_Kong:20170304T194500
DTSTAMP:20260425T071726
CREATED:19160909T015349Z
LAST-MODIFIED:20160909T020238Z
UID:10002081-1488656700-1488656700@www.bcmagazine.net
SUMMARY:Poetry OutLoud
DESCRIPTION:On the first Wednesday of every month\, Poetry OutLoud present a mixed bag of original poetry\, classics\, lesser-known works and music. The format generally consists of a number of featured readers\, plus an open mike section in which audience-members are welcomed and encouraged to read. \nPoetry OutLoud\nDate: 1st Wednesday of the month\nVenue: Fringe Club\, Colette’s\nTickets: Free\nMore info: www.facebook.com/PoetryOutLoudHK
URL:https://www.bcmagazine.net/event/poetry-outloud-2017/2017-03-04/
LOCATION:Fringe Club\, Colette’s\, 2 Lower Albert Road\, Central\, Hong Kong
CATEGORIES:2017,Free,Other,Performing Arts,Poetry
GEO:22.2803491;114.156067
X-APPLE-STRUCTURED-LOCATION;VALUE=URI;X-ADDRESS=Fringe Club Colette’s 2 Lower Albert Road Central Hong Kong;X-APPLE-RADIUS=500;X-TITLE=2 Lower Albert Road:geo:114.156067,22.2803491
END:VEVENT
BEGIN:VEVENT
DTSTART;TZID=Asia/Hong_Kong:20170210T193000
DTEND;TZID=Asia/Hong_Kong:20170210T193000
DTSTAMP:20260425T071726
CREATED:19170909T031637Z
LAST-MODIFIED:20160909T032138Z
UID:10003450-1486755000-1486755000@www.bcmagazine.net
SUMMARY:Philosophy Cafe
DESCRIPTION:Philosophy Cafe\nDate: 7:30pm\, 2nd Tuesday of the month\nVenue: Fringe Club\, Colette’s\nTickets: free\nMore info:\nwww.facebook.com/HKPhilosophyCafe
URL:https://www.bcmagazine.net/event/philosophy-cafe-2017/2017-02-10/
LOCATION:Fringe Club\, Colette’s\, 2 Lower Albert Road\, Central\, Hong Kong
CATEGORIES:2017,Free,Other
GEO:22.2803491;114.156067
X-APPLE-STRUCTURED-LOCATION;VALUE=URI;X-ADDRESS=Fringe Club Colette’s 2 Lower Albert Road Central Hong Kong;X-APPLE-RADIUS=500;X-TITLE=2 Lower Albert Road:geo:114.156067,22.2803491
END:VEVENT
BEGIN:VEVENT
DTSTART;TZID=Asia/Hong_Kong:20170204T194500
DTEND;TZID=Asia/Hong_Kong:20170204T194500
DTSTAMP:20260425T071726
CREATED:19160909T015349Z
LAST-MODIFIED:20160909T020238Z
UID:10002080-1486237500-1486237500@www.bcmagazine.net
SUMMARY:Poetry OutLoud
DESCRIPTION:On the first Wednesday of every month\, Poetry OutLoud present a mixed bag of original poetry\, classics\, lesser-known works and music. The format generally consists of a number of featured readers\, plus an open mike section in which audience-members are welcomed and encouraged to read. \nPoetry OutLoud\nDate: 1st Wednesday of the month\nVenue: Fringe Club\, Colette’s\nTickets: Free\nMore info: www.facebook.com/PoetryOutLoudHK
URL:https://www.bcmagazine.net/event/poetry-outloud-2017/2017-02-04/
LOCATION:Fringe Club\, Colette’s\, 2 Lower Albert Road\, Central\, Hong Kong
CATEGORIES:2017,Free,Other,Performing Arts,Poetry
GEO:22.2803491;114.156067
X-APPLE-STRUCTURED-LOCATION;VALUE=URI;X-ADDRESS=Fringe Club Colette’s 2 Lower Albert Road Central Hong Kong;X-APPLE-RADIUS=500;X-TITLE=2 Lower Albert Road:geo:114.156067,22.2803491
END:VEVENT
BEGIN:VEVENT
DTSTART;TZID=Asia/Hong_Kong:20170110T193000
DTEND;TZID=Asia/Hong_Kong:20170110T193000
DTSTAMP:20260425T071726
CREATED:19170909T031637Z
LAST-MODIFIED:20160909T032138Z
UID:10003449-1484076600-1484076600@www.bcmagazine.net
SUMMARY:Philosophy Cafe
DESCRIPTION:Philosophy Cafe\nDate: 7:30pm\, 2nd Tuesday of the month\nVenue: Fringe Club\, Colette’s\nTickets: free\nMore info:\nwww.facebook.com/HKPhilosophyCafe
URL:https://www.bcmagazine.net/event/philosophy-cafe-2017/2017-01-10/
LOCATION:Fringe Club\, Colette’s\, 2 Lower Albert Road\, Central\, Hong Kong
CATEGORIES:2017,Free,Other
GEO:22.2803491;114.156067
X-APPLE-STRUCTURED-LOCATION;VALUE=URI;X-ADDRESS=Fringe Club Colette’s 2 Lower Albert Road Central Hong Kong;X-APPLE-RADIUS=500;X-TITLE=2 Lower Albert Road:geo:114.156067,22.2803491
END:VEVENT
BEGIN:VEVENT
DTSTART;TZID=Asia/Hong_Kong:20170104T194500
DTEND;TZID=Asia/Hong_Kong:20170104T194500
DTSTAMP:20260425T071726
CREATED:19160909T015349Z
LAST-MODIFIED:20160909T020238Z
UID:10002079-1483559100-1483559100@www.bcmagazine.net
SUMMARY:Poetry OutLoud
DESCRIPTION:On the first Wednesday of every month\, Poetry OutLoud present a mixed bag of original poetry\, classics\, lesser-known works and music. The format generally consists of a number of featured readers\, plus an open mike section in which audience-members are welcomed and encouraged to read. \nPoetry OutLoud\nDate: 1st Wednesday of the month\nVenue: Fringe Club\, Colette’s\nTickets: Free\nMore info: www.facebook.com/PoetryOutLoudHK
URL:https://www.bcmagazine.net/event/poetry-outloud-2017/2017-01-04/
LOCATION:Fringe Club\, Colette’s\, 2 Lower Albert Road\, Central\, Hong Kong
CATEGORIES:2017,Free,Other,Performing Arts,Poetry
GEO:22.2803491;114.156067
X-APPLE-STRUCTURED-LOCATION;VALUE=URI;X-ADDRESS=Fringe Club Colette’s 2 Lower Albert Road Central Hong Kong;X-APPLE-RADIUS=500;X-TITLE=2 Lower Albert Road:geo:114.156067,22.2803491
END:VEVENT
BEGIN:VEVENT
DTSTART;TZID=Asia/Hong_Kong:20161213T193000
DTEND;TZID=Asia/Hong_Kong:20161213T193000
DTSTAMP:20260425T071726
CREATED:19160909T031113Z
LAST-MODIFIED:20160909T032051Z
UID:10002095-1481657400-1481657400@www.bcmagazine.net
SUMMARY:Philosophy Cafe
DESCRIPTION:Philosophy Cafe\nDate: 7:30pm\, 2nd Tuesday of the month\nVenue: Fringe Club\, Colette’s\nTickets: Free\nMore info:\nwww.facebook.com/HKPhilosophyCafe
URL:https://www.bcmagazine.net/event/philosophy-cafe-2016/2016-12-13/
LOCATION:Fringe Club\, Colette’s\, 2 Lower Albert Road\, Central\, Hong Kong
CATEGORIES:2016,Free,Other
GEO:22.2803491;114.156067
X-APPLE-STRUCTURED-LOCATION;VALUE=URI;X-ADDRESS=Fringe Club Colette’s 2 Lower Albert Road Central Hong Kong;X-APPLE-RADIUS=500;X-TITLE=2 Lower Albert Road:geo:114.156067,22.2803491
END:VEVENT
BEGIN:VEVENT
DTSTART;TZID=Asia/Hong_Kong:20161205T194500
DTEND;TZID=Asia/Hong_Kong:20161205T194500
DTSTAMP:20260425T071726
CREATED:19160909T014009Z
LAST-MODIFIED:20160909T015946Z
UID:10002078-1480967100-1480967100@www.bcmagazine.net
SUMMARY:Poetry OutLoud
DESCRIPTION:On the first Wednesday of every month\, Poetry OutLoud present a mixed bag of original poetry\, classics\, lesser-known works and music. The format generally consists of a number of featured readers\, plus an open mike section in which audience-members are welcomed and encouraged to read. \nPoetry OutLoud\nDate: 1st Wednesday of the month\nVenue: Fringe Club\, Colette’s\nTickets: Free\nMore info: www.facebook.com/PoetryOutLoudHK
URL:https://www.bcmagazine.net/event/poetry-outloud-2016/2016-12-05/
LOCATION:Fringe Club\, Colette’s\, 2 Lower Albert Road\, Central\, Hong Kong
CATEGORIES:2016,Free,Other,Performing Arts,Poetry
GEO:22.2803491;114.156067
X-APPLE-STRUCTURED-LOCATION;VALUE=URI;X-ADDRESS=Fringe Club Colette’s 2 Lower Albert Road Central Hong Kong;X-APPLE-RADIUS=500;X-TITLE=2 Lower Albert Road:geo:114.156067,22.2803491
END:VEVENT
BEGIN:VEVENT
DTSTART;TZID=Asia/Hong_Kong:20161113T193000
DTEND;TZID=Asia/Hong_Kong:20161113T193000
DTSTAMP:20260425T071726
CREATED:19160909T031113Z
LAST-MODIFIED:20160909T032051Z
UID:10002094-1479065400-1479065400@www.bcmagazine.net
SUMMARY:Philosophy Cafe
DESCRIPTION:Philosophy Cafe\nDate: 7:30pm\, 2nd Tuesday of the month\nVenue: Fringe Club\, Colette’s\nTickets: Free\nMore info:\nwww.facebook.com/HKPhilosophyCafe
URL:https://www.bcmagazine.net/event/philosophy-cafe-2016/2016-11-13/
LOCATION:Fringe Club\, Colette’s\, 2 Lower Albert Road\, Central\, Hong Kong
CATEGORIES:2016,Free,Other
GEO:22.2803491;114.156067
X-APPLE-STRUCTURED-LOCATION;VALUE=URI;X-ADDRESS=Fringe Club Colette’s 2 Lower Albert Road Central Hong Kong;X-APPLE-RADIUS=500;X-TITLE=2 Lower Albert Road:geo:114.156067,22.2803491
END:VEVENT
BEGIN:VEVENT
DTSTART;TZID=Asia/Hong_Kong:20161105T194500
DTEND;TZID=Asia/Hong_Kong:20161105T194500
DTSTAMP:20260425T071726
CREATED:19160909T014009Z
LAST-MODIFIED:20160909T015946Z
UID:10002077-1478375100-1478375100@www.bcmagazine.net
SUMMARY:Poetry OutLoud
DESCRIPTION:On the first Wednesday of every month\, Poetry OutLoud present a mixed bag of original poetry\, classics\, lesser-known works and music. The format generally consists of a number of featured readers\, plus an open mike section in which audience-members are welcomed and encouraged to read. \nPoetry OutLoud\nDate: 1st Wednesday of the month\nVenue: Fringe Club\, Colette’s\nTickets: Free\nMore info: www.facebook.com/PoetryOutLoudHK
URL:https://www.bcmagazine.net/event/poetry-outloud-2016/2016-11-05/
LOCATION:Fringe Club\, Colette’s\, 2 Lower Albert Road\, Central\, Hong Kong
CATEGORIES:2016,Free,Other,Performing Arts,Poetry
GEO:22.2803491;114.156067
X-APPLE-STRUCTURED-LOCATION;VALUE=URI;X-ADDRESS=Fringe Club Colette’s 2 Lower Albert Road Central Hong Kong;X-APPLE-RADIUS=500;X-TITLE=2 Lower Albert Road:geo:114.156067,22.2803491
END:VEVENT
BEGIN:VEVENT
DTSTART;TZID=Asia/Hong_Kong:20161013T193000
DTEND;TZID=Asia/Hong_Kong:20161013T193000
DTSTAMP:20260425T071726
CREATED:19160909T031113Z
LAST-MODIFIED:20160909T032051Z
UID:10002093-1476387000-1476387000@www.bcmagazine.net
SUMMARY:Philosophy Cafe
DESCRIPTION:Philosophy Cafe\nDate: 7:30pm\, 2nd Tuesday of the month\nVenue: Fringe Club\, Colette’s\nTickets: Free\nMore info:\nwww.facebook.com/HKPhilosophyCafe
URL:https://www.bcmagazine.net/event/philosophy-cafe-2016/2016-10-13/
LOCATION:Fringe Club\, Colette’s\, 2 Lower Albert Road\, Central\, Hong Kong
CATEGORIES:2016,Free,Other
GEO:22.2803491;114.156067
X-APPLE-STRUCTURED-LOCATION;VALUE=URI;X-ADDRESS=Fringe Club Colette’s 2 Lower Albert Road Central Hong Kong;X-APPLE-RADIUS=500;X-TITLE=2 Lower Albert Road:geo:114.156067,22.2803491
END:VEVENT
BEGIN:VEVENT
DTSTART;TZID=Asia/Hong_Kong:20161005T194500
DTEND;TZID=Asia/Hong_Kong:20161005T194500
DTSTAMP:20260425T071726
CREATED:19160909T014009Z
LAST-MODIFIED:20160909T015946Z
UID:10002076-1475696700-1475696700@www.bcmagazine.net
SUMMARY:Poetry OutLoud
DESCRIPTION:On the first Wednesday of every month\, Poetry OutLoud present a mixed bag of original poetry\, classics\, lesser-known works and music. The format generally consists of a number of featured readers\, plus an open mike section in which audience-members are welcomed and encouraged to read. \nPoetry OutLoud\nDate: 1st Wednesday of the month\nVenue: Fringe Club\, Colette’s\nTickets: Free\nMore info: www.facebook.com/PoetryOutLoudHK
URL:https://www.bcmagazine.net/event/poetry-outloud-2016/2016-10-05/
LOCATION:Fringe Club\, Colette’s\, 2 Lower Albert Road\, Central\, Hong Kong
CATEGORIES:2016,Free,Other,Performing Arts,Poetry
GEO:22.2803491;114.156067
X-APPLE-STRUCTURED-LOCATION;VALUE=URI;X-ADDRESS=Fringe Club Colette’s 2 Lower Albert Road Central Hong Kong;X-APPLE-RADIUS=500;X-TITLE=2 Lower Albert Road:geo:114.156067,22.2803491
END:VEVENT
END:VCALENDAR