BEGIN:VCALENDAR
VERSION:2.0
PRODID:-//bc magazine - ECPv6.15.20//NONSGML v1.0//EN
CALSCALE:GREGORIAN
METHOD:PUBLISH
X-WR-CALNAME:bc magazine
X-ORIGINAL-URL:https://www.bcmagazine.net
X-WR-CALDESC:Events for bc magazine
REFRESH-INTERVAL;VALUE=DURATION:PT1H
X-Robots-Tag:noindex
X-PUBLISHED-TTL:PT1H
BEGIN:VTIMEZONE
TZID:Asia/Hong_Kong
BEGIN:STANDARD
TZOFFSETFROM:+0800
TZOFFSETTO:+0800
TZNAME:HKT
DTSTART:20200101T000000
END:STANDARD
END:VTIMEZONE
BEGIN:VEVENT
DTSTART;TZID=Asia/Hong_Kong:20230812T203000
DTEND;TZID=Asia/Hong_Kong:20230812T203000
DTSTAMP:20260424T181413
CREATED:19230630T004237Z
LAST-MODIFIED:20230804T012145Z
UID:10007971-1691872200-1691872200@www.bcmagazine.net
SUMMARY:Chlara
DESCRIPTION:Chlara\nDate: 8:30pm\, 12 August 2023\nVenue: Fringe Club\nTickets: $220 from Ticketflap
URL:https://www.bcmagazine.net/event/chlara-2023/
LOCATION:Fringe Club\, Studio Theatre\, 2 Lower Albert Road\, Central\, Hong Kong
CATEGORIES:2023,Concert,Music,Nightlife,Performing Arts
ATTACH;FMTTYPE=image/jpeg:https://www.bcmagazine.net/wp-content/uploads/1923/06/Chlara-2023.jpeg
END:VEVENT
BEGIN:VEVENT
DTSTART;TZID=Asia/Hong_Kong:20210612T200000
DTEND;TZID=Asia/Hong_Kong:20210612T200000
DTSTAMP:20260424T181413
CREATED:19210409T085402Z
LAST-MODIFIED:20210510T105515Z
UID:10005150-1623528000-1623528000@www.bcmagazine.net
SUMMARY:Chu Wing-ka
DESCRIPTION:The Modern Sense and Sensibility of Romeo and Juliet\nChu Wing-ka\nDate: 8pm\, 9-12 June\, 2021\nVenue: Fringe Club\nTickets: $200
URL:https://www.bcmagazine.net/event/chu-wing-ka/2021-06-12/2/
LOCATION:Fringe Club\, Studio Theatre\, 2 Lower Albert Road\, Central\, Hong Kong
CATEGORIES:2021,Dance,Performing Arts,Theatre
ATTACH;FMTTYPE=image/jpeg:https://www.bcmagazine.net/wp-content/uploads/1921/04/chu-wing-ka.jpeg
END:VEVENT
BEGIN:VEVENT
DTSTART;TZID=Asia/Hong_Kong:20210612T150000
DTEND;TZID=Asia/Hong_Kong:20210612T150000
DTSTAMP:20260424T181413
CREATED:19210409T085402Z
LAST-MODIFIED:20210510T105515Z
UID:10005149-1623510000-1623510000@www.bcmagazine.net
SUMMARY:Chu Wing-ka
DESCRIPTION:The Modern Sense and Sensibility of Romeo and Juliet\nChu Wing-ka\nDate: 8pm\, 9-12 June\, 2021\nVenue: Fringe Club\nTickets: $200
URL:https://www.bcmagazine.net/event/chu-wing-ka/2021-06-12/1/
LOCATION:Fringe Club\, Studio Theatre\, 2 Lower Albert Road\, Central\, Hong Kong
CATEGORIES:2021,Dance,Performing Arts,Theatre
ATTACH;FMTTYPE=image/jpeg:https://www.bcmagazine.net/wp-content/uploads/1921/04/chu-wing-ka.jpeg
END:VEVENT
BEGIN:VEVENT
DTSTART;TZID=Asia/Hong_Kong:20210611T200000
DTEND;TZID=Asia/Hong_Kong:20210611T200000
DTSTAMP:20260424T181413
CREATED:19210409T085402Z
LAST-MODIFIED:20210510T105515Z
UID:10005148-1623441600-1623441600@www.bcmagazine.net
SUMMARY:Chu Wing-ka
DESCRIPTION:The Modern Sense and Sensibility of Romeo and Juliet\nChu Wing-ka\nDate: 8pm\, 9-12 June\, 2021\nVenue: Fringe Club\nTickets: $200
URL:https://www.bcmagazine.net/event/chu-wing-ka/2021-06-11/
LOCATION:Fringe Club\, Studio Theatre\, 2 Lower Albert Road\, Central\, Hong Kong
CATEGORIES:2021,Dance,Performing Arts,Theatre
ATTACH;FMTTYPE=image/jpeg:https://www.bcmagazine.net/wp-content/uploads/1921/04/chu-wing-ka.jpeg
END:VEVENT
BEGIN:VEVENT
DTSTART;TZID=Asia/Hong_Kong:20210610T200000
DTEND;TZID=Asia/Hong_Kong:20210610T200000
DTSTAMP:20260424T181413
CREATED:19210409T085402Z
LAST-MODIFIED:20210510T105515Z
UID:10005147-1623355200-1623355200@www.bcmagazine.net
SUMMARY:Chu Wing-ka
DESCRIPTION:The Modern Sense and Sensibility of Romeo and Juliet\nChu Wing-ka\nDate: 8pm\, 9-12 June\, 2021\nVenue: Fringe Club\nTickets: $200
URL:https://www.bcmagazine.net/event/chu-wing-ka/2021-06-10/
LOCATION:Fringe Club\, Studio Theatre\, 2 Lower Albert Road\, Central\, Hong Kong
CATEGORIES:2021,Dance,Performing Arts,Theatre
ATTACH;FMTTYPE=image/jpeg:https://www.bcmagazine.net/wp-content/uploads/1921/04/chu-wing-ka.jpeg
END:VEVENT
BEGIN:VEVENT
DTSTART;TZID=Asia/Hong_Kong:20210609T200000
DTEND;TZID=Asia/Hong_Kong:20210609T200000
DTSTAMP:20260424T181413
CREATED:19210409T085402Z
LAST-MODIFIED:20210510T105515Z
UID:10005146-1623268800-1623268800@www.bcmagazine.net
SUMMARY:Chu Wing-ka
DESCRIPTION:The Modern Sense and Sensibility of Romeo and Juliet\nChu Wing-ka\nDate: 8pm\, 9-12 June\, 2021\nVenue: Fringe Club\nTickets: $200
URL:https://www.bcmagazine.net/event/chu-wing-ka/2021-06-09/
LOCATION:Fringe Club\, Studio Theatre\, 2 Lower Albert Road\, Central\, Hong Kong
CATEGORIES:2021,Dance,Performing Arts,Theatre
ATTACH;FMTTYPE=image/jpeg:https://www.bcmagazine.net/wp-content/uploads/1921/04/chu-wing-ka.jpeg
END:VEVENT
END:VCALENDAR