BEGIN:VCALENDAR
VERSION:2.0
PRODID:-//bc magazine - ECPv6.15.20//NONSGML v1.0//EN
CALSCALE:GREGORIAN
METHOD:PUBLISH
X-WR-CALNAME:bc magazine
X-ORIGINAL-URL:https://www.bcmagazine.net
X-WR-CALDESC:Events for bc magazine
REFRESH-INTERVAL;VALUE=DURATION:PT1H
X-Robots-Tag:noindex
X-PUBLISHED-TTL:PT1H
BEGIN:VTIMEZONE
TZID:Asia/Hong_Kong
BEGIN:STANDARD
TZOFFSETFROM:+0800
TZOFFSETTO:+0800
TZNAME:HKT
DTSTART:20140101T000000
END:STANDARD
END:VTIMEZONE
BEGIN:VEVENT
DTSTART;TZID=Asia/Hong_Kong:20151108T200000
DTEND;TZID=Asia/Hong_Kong:20151108T230000
DTSTAMP:20260420T055234
CREATED:20151023T124613Z
LAST-MODIFIED:20151030T045323Z
UID:10005056-1447012800-1447023600@www.bcmagazine.net
SUMMARY:Postiljonen
DESCRIPTION:Postiljonen\nSupport: Thud\nDate: 8:30pm\, 8 November\, 2015\nVenue: tbc\nTickets: $235 (Door)\, $195 (Advance) from pelago.events
URL:https://www.bcmagazine.net/event/postiljonen/
LOCATION:Graffiti\, 17-18 Lan Kwai Fong\, Central\, Hong Kong
CATEGORIES:2015,Concert,Music
GEO:22.280759;114.155328
X-APPLE-STRUCTURED-LOCATION;VALUE=URI;X-ADDRESS=Graffiti 17-18 Lan Kwai Fong Central Hong Kong;X-APPLE-RADIUS=500;X-TITLE=17-18 Lan Kwai Fong:geo:114.155328,22.280759
END:VEVENT
END:VCALENDAR