BEGIN:VCALENDAR
VERSION:2.0
PRODID:-//bc magazine - ECPv6.15.20//NONSGML v1.0//EN
CALSCALE:GREGORIAN
METHOD:PUBLISH
X-ORIGINAL-URL:https://www.bcmagazine.net
X-WR-CALDESC:Events for bc magazine
REFRESH-INTERVAL;VALUE=DURATION:PT1H
X-Robots-Tag:noindex
X-PUBLISHED-TTL:PT1H
BEGIN:VTIMEZONE
TZID:Asia/Hong_Kong
BEGIN:STANDARD
TZOFFSETFROM:+0800
TZOFFSETTO:+0800
TZNAME:HKT
DTSTART:20150101T000000
END:STANDARD
END:VTIMEZONE
BEGIN:VEVENT
DTSTART;TZID=Asia/Hong_Kong:20160922T213000
DTEND;TZID=Asia/Hong_Kong:20160922T213000
DTSTAMP:20260426T103437
CREATED:19160906T170914Z
LAST-MODIFIED:20160906T172519Z
UID:10000790-1474579800-1474579800@www.bcmagazine.net
SUMMARY:Bagusa
DESCRIPTION:Bagusa – Tokyo to HK Live Mini Tour 2016\nDate: 9:30pm\, 22 September\, 2016\nVenue: Hip Cellar\, 5/F\, Block C\, Sea View Estate\, 2-8 Watson Road\, North Point\nTickets: $198
URL:https://www.bcmagazine.net/event/bagusa-22-09-2016/
LOCATION:Hip Cellar\, 5/F\, Block C\, Sea View Estate\, 2-8 Watson Road\, North Point\, Hong Kong
CATEGORIES:2016,Concert,Music
GEO:22.2877785;114.1905335
X-APPLE-STRUCTURED-LOCATION;VALUE=URI;X-ADDRESS=Hip Cellar 5/F Block C Sea View Estate 2-8 Watson Road North Point Hong Kong;X-APPLE-RADIUS=500;X-TITLE=5/F\, Block C\, Sea View Estate\, 2-8 Watson Road:geo:114.1905335,22.2877785
END:VEVENT
END:VCALENDAR