BEGIN:VCALENDAR
VERSION:2.0
PRODID:-//bc magazine - ECPv6.15.20//NONSGML v1.0//EN
CALSCALE:GREGORIAN
METHOD:PUBLISH
X-WR-CALNAME:bc magazine
X-ORIGINAL-URL:https://www.bcmagazine.net
X-WR-CALDESC:Events for bc magazine
REFRESH-INTERVAL;VALUE=DURATION:PT1H
X-Robots-Tag:noindex
X-PUBLISHED-TTL:PT1H
BEGIN:VTIMEZONE
TZID:Asia/Hong_Kong
BEGIN:STANDARD
TZOFFSETFROM:+0800
TZOFFSETTO:+0800
TZNAME:HKT
DTSTART:20140101T000000
END:STANDARD
END:VTIMEZONE
BEGIN:VEVENT
DTSTART;TZID=Asia/Hong_Kong:20181018T193000
DTEND;TZID=Asia/Hong_Kong:20181018T193000
DTSTAMP:20260424T225535
CREATED:19181002T010042Z
LAST-MODIFIED:20181004T101835Z
UID:10004448-1539891000-1539891000@www.bcmagazine.net
SUMMARY:Almog Segal
DESCRIPTION:Almog Segal\nDate: 7:30pm\, 18 October\, 2018\nVenues: HKAPA\, Concert Hall\nTickets: Free
URL:https://www.bcmagazine.net/event/almog-segal-2018/
LOCATION:HKAPA\, Concert Hall\, 1 Gloucester Road\, Wanchai\, Hong Kong
CATEGORIES:2018,Concert,Music,Performing Arts
GEO:22.2801854;114.1695054
X-APPLE-STRUCTURED-LOCATION;VALUE=URI;X-ADDRESS=HKAPA Concert Hall 1 Gloucester Road Wanchai Hong Kong;X-APPLE-RADIUS=500;X-TITLE=1 Gloucester Road:geo:114.1695054,22.2801854
END:VEVENT
BEGIN:VEVENT
DTSTART;TZID=Asia/Hong_Kong:20161007T200000
DTEND;TZID=Asia/Hong_Kong:20161007T200000
DTSTAMP:20260424T225535
CREATED:19160829T034421Z
LAST-MODIFIED:20160829T034819Z
UID:10000732-1475870400-1475870400@www.bcmagazine.net
SUMMARY:Jason Vieaux
DESCRIPTION:Jason Vieaux\nDate: 8pm\, 7 October\, 2016\nVenue: HKAPA\, Concert Hall\nTickets: $280\, $180 from HKTicketing
URL:https://www.bcmagazine.net/event/jason-vieaux-2016/
LOCATION:HKAPA\, Concert Hall\, 1 Gloucester Road\, Wanchai\, Hong Kong
CATEGORIES:2016,Concert,Music
GEO:22.2801854;114.1695054
X-APPLE-STRUCTURED-LOCATION;VALUE=URI;X-ADDRESS=HKAPA Concert Hall 1 Gloucester Road Wanchai Hong Kong;X-APPLE-RADIUS=500;X-TITLE=1 Gloucester Road:geo:114.1695054,22.2801854
END:VEVENT
BEGIN:VEVENT
DTSTART;TZID=Asia/Hong_Kong:20160710T201500
DTEND;TZID=Asia/Hong_Kong:20160710T201500
DTSTAMP:20260424T225535
CREATED:19160607T040354Z
LAST-MODIFIED:20160607T040615Z
UID:10001788-1468181700-1468181700@www.bcmagazine.net
SUMMARY:HK Int'l Guitar Symposium
DESCRIPTION:HK Int’l Guitar Symposium\nDate: 8:15pm\, 8-10 July\, 2016\nVenue: HKAPA\, Concert Hall\nTickets: $360\, $240 from HKTicketing
URL:https://www.bcmagazine.net/event/hk-intl-guitar-symposium-2016/2016-07-10/
LOCATION:HKAPA\, Concert Hall\, 1 Gloucester Road\, Wanchai\, Hong Kong
CATEGORIES:2016,Concert,Music
GEO:22.2801854;114.1695054
X-APPLE-STRUCTURED-LOCATION;VALUE=URI;X-ADDRESS=HKAPA Concert Hall 1 Gloucester Road Wanchai Hong Kong;X-APPLE-RADIUS=500;X-TITLE=1 Gloucester Road:geo:114.1695054,22.2801854
END:VEVENT
BEGIN:VEVENT
DTSTART;TZID=Asia/Hong_Kong:20160709T201500
DTEND;TZID=Asia/Hong_Kong:20160709T201500
DTSTAMP:20260424T225535
CREATED:19160607T040354Z
LAST-MODIFIED:20160607T040615Z
UID:10001787-1468095300-1468095300@www.bcmagazine.net
SUMMARY:HK Int'l Guitar Symposium
DESCRIPTION:HK Int’l Guitar Symposium\nDate: 8:15pm\, 8-10 July\, 2016\nVenue: HKAPA\, Concert Hall\nTickets: $360\, $240 from HKTicketing
URL:https://www.bcmagazine.net/event/hk-intl-guitar-symposium-2016/2016-07-09/
LOCATION:HKAPA\, Concert Hall\, 1 Gloucester Road\, Wanchai\, Hong Kong
CATEGORIES:2016,Concert,Music
GEO:22.2801854;114.1695054
X-APPLE-STRUCTURED-LOCATION;VALUE=URI;X-ADDRESS=HKAPA Concert Hall 1 Gloucester Road Wanchai Hong Kong;X-APPLE-RADIUS=500;X-TITLE=1 Gloucester Road:geo:114.1695054,22.2801854
END:VEVENT
BEGIN:VEVENT
DTSTART;TZID=Asia/Hong_Kong:20160708T201500
DTEND;TZID=Asia/Hong_Kong:20160708T201500
DTSTAMP:20260424T225535
CREATED:19160607T040354Z
LAST-MODIFIED:20160607T040615Z
UID:10001786-1468008900-1468008900@www.bcmagazine.net
SUMMARY:HK Int'l Guitar Symposium
DESCRIPTION:HK Int’l Guitar Symposium\nDate: 8:15pm\, 8-10 July\, 2016\nVenue: HKAPA\, Concert Hall\nTickets: $360\, $240 from HKTicketing
URL:https://www.bcmagazine.net/event/hk-intl-guitar-symposium-2016/2016-07-08/
LOCATION:HKAPA\, Concert Hall\, 1 Gloucester Road\, Wanchai\, Hong Kong
CATEGORIES:2016,Concert,Music
GEO:22.2801854;114.1695054
X-APPLE-STRUCTURED-LOCATION;VALUE=URI;X-ADDRESS=HKAPA Concert Hall 1 Gloucester Road Wanchai Hong Kong;X-APPLE-RADIUS=500;X-TITLE=1 Gloucester Road:geo:114.1695054,22.2801854
END:VEVENT
BEGIN:VEVENT
DTSTART;TZID=Asia/Hong_Kong:20160707T201500
DTEND;TZID=Asia/Hong_Kong:20160707T201500
DTSTAMP:20260424T225535
CREATED:19160607T040653Z
LAST-MODIFIED:20160607T040831Z
UID:10001789-1467922500-1467922500@www.bcmagazine.net
SUMMARY:Manuel Barrueco
DESCRIPTION:Manuel Barrueco\nHK Int’l Guitar Symposium\nDate: 8:15pm\, 7 July\, 2016\nVenue: HKAPA\, Concert Hall\nTickets: $600\, $480 from HKTicketing
URL:https://www.bcmagazine.net/event/manuel-barrueco-2016/
LOCATION:HKAPA\, Concert Hall\, 1 Gloucester Road\, Wanchai\, Hong Kong
CATEGORIES:2016,Concert,Music
GEO:22.2801854;114.1695054
X-APPLE-STRUCTURED-LOCATION;VALUE=URI;X-ADDRESS=HKAPA Concert Hall 1 Gloucester Road Wanchai Hong Kong;X-APPLE-RADIUS=500;X-TITLE=1 Gloucester Road:geo:114.1695054,22.2801854
END:VEVENT
BEGIN:VEVENT
DTSTART;TZID=Asia/Hong_Kong:20160129T193000
DTEND;TZID=Asia/Hong_Kong:20160129T193000
DTSTAMP:20260424T225535
CREATED:19151213T114845Z
LAST-MODIFIED:20151213T115239Z
UID:10000922-1454095800-1454095800@www.bcmagazine.net
SUMMARY:HKDuo
DESCRIPTION:HKDUO – Journey of Romance\nHui Ling\, Julie Kuok\nDate: 7:30pm\, 29 January\, 2016\nVenue: HKAPA\, Concert Hall\nTickets: $320\, $280 from HKTicketing
URL:https://www.bcmagazine.net/event/hkduo/
LOCATION:HKAPA\, Concert Hall\, 1 Gloucester Road\, Wanchai\, Hong Kong
CATEGORIES:2016,Concert,Music
GEO:22.2801854;114.1695054
X-APPLE-STRUCTURED-LOCATION;VALUE=URI;X-ADDRESS=HKAPA Concert Hall 1 Gloucester Road Wanchai Hong Kong;X-APPLE-RADIUS=500;X-TITLE=1 Gloucester Road:geo:114.1695054,22.2801854
END:VEVENT
BEGIN:VEVENT
DTSTART;TZID=Asia/Hong_Kong:20151204T193000
DTEND;TZID=Asia/Hong_Kong:20151204T193000
DTSTAMP:20260424T225535
CREATED:19151126T174944Z
LAST-MODIFIED:20151126T175214Z
UID:10000188-1449257400-1449257400@www.bcmagazine.net
SUMMARY:Bach Christmas Oratorio
DESCRIPTION:Bach Christmas Oratorio\nDate: 7:30pm\, 4 December\, 2015\nVenue: HKAPA\, Concert Hall\nTickets: $340\, $240\, $140 from HKTicketing
URL:https://www.bcmagazine.net/event/bach-christmas-oratorio/
LOCATION:HKAPA\, Concert Hall\, 1 Gloucester Road\, Wanchai\, Hong Kong
CATEGORIES:2015,Concert,Music,Performing Arts
GEO:22.2801854;114.1695054
X-APPLE-STRUCTURED-LOCATION;VALUE=URI;X-ADDRESS=HKAPA Concert Hall 1 Gloucester Road Wanchai Hong Kong;X-APPLE-RADIUS=500;X-TITLE=1 Gloucester Road:geo:114.1695054,22.2801854
END:VEVENT
BEGIN:VEVENT
DTSTART;VALUE=DATE:20151114
DTEND;VALUE=DATE:20151116
DTSTAMP:20260424T225535
CREATED:19151020T101156Z
LAST-MODIFIED:20151020T102202Z
UID:10000112-1447459200-1447631999@www.bcmagazine.net
SUMMARY:Men of Harlech
DESCRIPTION:Men of Harlech\nHong Kong Welsh Male Voice Choir\nDate: 14-15 November\, 2015\nVenue: HKAPA\, Concert Hall\nTickets: $300\, $250\, $200 from HKTicketing\nMore info: \n14 November – 7:30pm\n15 November – 4pm
URL:https://www.bcmagazine.net/event/men-of-harlech-2015/
LOCATION:HKAPA\, Concert Hall\, 1 Gloucester Road\, Wanchai\, Hong Kong
CATEGORIES:2015,Concert,Music
GEO:22.2801854;114.1695054
X-APPLE-STRUCTURED-LOCATION;VALUE=URI;X-ADDRESS=HKAPA Concert Hall 1 Gloucester Road Wanchai Hong Kong;X-APPLE-RADIUS=500;X-TITLE=1 Gloucester Road:geo:114.1695054,22.2801854
END:VEVENT
BEGIN:VEVENT
DTSTART;TZID=Asia/Hong_Kong:20151106T200000
DTEND;TZID=Asia/Hong_Kong:20151106T230000
DTSTAMP:20260424T225535
CREATED:19151003T073440Z
LAST-MODIFIED:20151003T073915Z
UID:10000487-1446840000-1446850800@www.bcmagazine.net
SUMMARY:Endellion String Quartet
DESCRIPTION:Endellion String Quartet\nDate: 8pm\, 6\, November\, 2015\nVenue: HKAPA\, Concert Hall\nTickets: $150 from HKTicketing
URL:https://www.bcmagazine.net/event/endellion-string-quartet/
LOCATION:HKAPA\, Concert Hall\, 1 Gloucester Road\, Wanchai\, Hong Kong
CATEGORIES:2015,Concert,Music,Performing Arts
GEO:22.2801854;114.1695054
X-APPLE-STRUCTURED-LOCATION;VALUE=URI;X-ADDRESS=HKAPA Concert Hall 1 Gloucester Road Wanchai Hong Kong;X-APPLE-RADIUS=500;X-TITLE=1 Gloucester Road:geo:114.1695054,22.2801854
END:VEVENT
BEGIN:VEVENT
DTSTART;TZID=Asia/Hong_Kong:20150906T150000
DTEND;TZID=Asia/Hong_Kong:20150906T170000
DTSTAMP:20260424T225535
CREATED:19150901T001747Z
LAST-MODIFIED:20150901T002031Z
UID:10000281-1441551600-1441558800@www.bcmagazine.net
SUMMARY:The Bassoonion
DESCRIPTION:The Bassoonion 10th Anniversary Concert\nDate: 3pm\, 6 September\, 2015\nVenue: HKAPA\, Concert Hall\nTickets: $180 from HKTicketing
URL:https://www.bcmagazine.net/event/the-bassoonion/
LOCATION:HKAPA\, Concert Hall\, 1 Gloucester Road\, Wanchai\, Hong Kong
CATEGORIES:2015,Concert,Music
GEO:22.2801854;114.1695054
X-APPLE-STRUCTURED-LOCATION;VALUE=URI;X-ADDRESS=HKAPA Concert Hall 1 Gloucester Road Wanchai Hong Kong;X-APPLE-RADIUS=500;X-TITLE=1 Gloucester Road:geo:114.1695054,22.2801854
END:VEVENT
END:VCALENDAR