BEGIN:VCALENDAR
VERSION:2.0
PRODID:-//bc magazine - ECPv6.15.20//NONSGML v1.0//EN
CALSCALE:GREGORIAN
METHOD:PUBLISH
X-WR-CALNAME:bc magazine
X-ORIGINAL-URL:https://www.bcmagazine.net
X-WR-CALDESC:Events for bc magazine
REFRESH-INTERVAL;VALUE=DURATION:PT1H
X-Robots-Tag:noindex
X-PUBLISHED-TTL:PT1H
BEGIN:VTIMEZONE
TZID:Asia/Hong_Kong
BEGIN:STANDARD
TZOFFSETFROM:+0800
TZOFFSETTO:+0800
TZNAME:HKT
DTSTART:20140101T000000
END:STANDARD
END:VTIMEZONE
BEGIN:VEVENT
DTSTART;TZID=Asia/Hong_Kong:20150823T193000
DTEND;TZID=Asia/Hong_Kong:20150823T220000
DTSTAMP:20260424T225807
CREATED:20150529T051728Z
LAST-MODIFIED:20150729T081547Z
UID:10005925-1440358200-1440367200@www.bcmagazine.net
SUMMARY:Andrew Liu
DESCRIPTION:Flute Recital\nAndrew Liu\nWhen: 7:30pm\, 23 August\, 2015\nWhere: HKAPA\, Recital Hall\nTickets: $80 from HKTicketing
URL:https://www.bcmagazine.net/event/flute-recital-by-andrew-liu/
LOCATION:HKAPA: Recital Hall\, 1 Gloucester Road\, Wanchai\, Hong Kong
CATEGORIES:2015,Concert,concert,Music,Performing Arts
GEO:22.2801854;114.1695054
X-APPLE-STRUCTURED-LOCATION;VALUE=URI;X-ADDRESS=HKAPA: Recital Hall 1 Gloucester Road Wanchai Hong Kong;X-APPLE-RADIUS=500;X-TITLE=1 Gloucester Road:geo:114.1695054,22.2801854
END:VEVENT
BEGIN:VEVENT
DTSTART;TZID=Asia/Hong_Kong:20150822T193000
DTEND;TZID=Asia/Hong_Kong:20150822T220000
DTSTAMP:20260424T225807
CREATED:20150813T013039Z
LAST-MODIFIED:20150813T015842Z
UID:10006070-1440271800-1440280800@www.bcmagazine.net
SUMMARY:The Book of the Hanging Gardens
DESCRIPTION:RAPSOVOCE PERFORMANCE COLLECTIVE brings together pianist Nancy Loo\, baritone Caleb Woo and soprano Jasmine Law\, presenting a German song recital of Arnold Schoenberg’s Das Buch der Hängenden Gärten (The Book of the Hanging Gardens)\, Op. 15\, and selections by Johannes Brahms\, whom Schoenberg hailed as a great progressive\, a great innovator in the realm of musical language. \nThe Book of the Hanging Gardens\, Op. 15\, is Schoenberg’s fifteen-part song cycle composed between 1908 and 1909\, set to the poems of Stefan George. It is the first composition in Schoenberg’s atonal period. The poems of the ‘Hanging Gardens’ are all miniatures\, elliptically relating the progress of an intense\, ultimately doomed love-affair between two young lovers\, ending with the woman’s departure and the disintegration of the garden. \nPerformers:\nJasmine Law 羅曉晴 (soprano)\nCaleb Woo 胡永正 (baritone)\nNancy Loo 羅乃新 (piano) \nProgramme:\nJohannes Brahms:\nAm Sonntag Morgen Op. 49 No. 1\nFeldeinsamkeit Op. 86 No. 6\nVier ernste Gesänge Op. 121\nArnold Schoenberg:\nDas Buch der hängenden Gärten Op. 15 \n浪漫時期作曲家布拉姆斯被奧地利作曲家荀伯克譽為偉大的音樂語言創新者，影響了很多他的早期作品。荀伯克於1908-1909年間取材自德國詩人喬治·斯特凡的詩，創作出由十五首歌曲組成的聯篇歌曲《伊甸之書，作品編號十五》，是荀伯克的無調性作曲時期的第一個作品。《伊甸之書》講述一對年輕戀人之間的戀愛、進展，其中一人的離去和像伊甸園一般美的花園最後解體結束。 \n著名鋼琴家羅乃新將與年輕歌唱家羅曉晴及胡永正合作，呈現這套鮮有在本地音樂會舞台上出現的二十世紀經典曲目，以及布拉姆斯的聲樂作品。 \nFor more info\, please visit www.rapsovoce.org or write to rapsovoce@gmail.com\nVisit our event page on Facebook: https://www.facebook.com/events/1565306410360880/ \nThe Book of the Hanging Gardens\nRapsoVoce Performance Collective\nWhen: 7:30pm\, 22 August\, 2015\nWhere: HKAPA\, Recital Hall\nTickets: $180 from HKTicketing
URL:https://www.bcmagazine.net/event/the-book-of-the-hanging-gardens/
LOCATION:HKAPA: Recital Hall\, 1 Gloucester Road\, Wanchai\, Hong Kong
CATEGORIES:2015,Concert,concert,Music,Performing Arts
GEO:22.2801854;114.1695054
X-APPLE-STRUCTURED-LOCATION;VALUE=URI;X-ADDRESS=HKAPA: Recital Hall 1 Gloucester Road Wanchai Hong Kong;X-APPLE-RADIUS=500;X-TITLE=1 Gloucester Road:geo:114.1695054,22.2801854
END:VEVENT
BEGIN:VEVENT
DTSTART;TZID=Asia/Hong_Kong:20150816T200000
DTEND;TZID=Asia/Hong_Kong:20150816T220000
DTSTAMP:20260424T225807
CREATED:20150429T090423Z
LAST-MODIFIED:20150729T090752Z
UID:10005805-1439755200-1439762400@www.bcmagazine.net
SUMMARY:Benjamin & Elise Liu
DESCRIPTION:Piano and Marimba Recital\nBenjamin & Elise Liu\nWhen: 8pm\, 16 August\, 2015\nWhere: HKAPA\, Recital Hall\nTickets: $150 from HKTicketing
URL:https://www.bcmagazine.net/event/benjamin-elise-liu/
LOCATION:HKAPA: Recital Hall\, 1 Gloucester Road\, Wanchai\, Hong Kong
CATEGORIES:2015,Concert,concert,Music,Performing Arts
GEO:22.2801854;114.1695054
X-APPLE-STRUCTURED-LOCATION;VALUE=URI;X-ADDRESS=HKAPA: Recital Hall 1 Gloucester Road Wanchai Hong Kong;X-APPLE-RADIUS=500;X-TITLE=1 Gloucester Road:geo:114.1695054,22.2801854
END:VEVENT
END:VCALENDAR