BEGIN:VCALENDAR
VERSION:2.0
PRODID:-//bc magazine - ECPv6.15.20//NONSGML v1.0//EN
CALSCALE:GREGORIAN
METHOD:PUBLISH
X-WR-CALNAME:bc magazine
X-ORIGINAL-URL:https://www.bcmagazine.net
X-WR-CALDESC:Events for bc magazine
REFRESH-INTERVAL;VALUE=DURATION:PT1H
X-Robots-Tag:noindex
X-PUBLISHED-TTL:PT1H
BEGIN:VTIMEZONE
TZID:Asia/Hong_Kong
BEGIN:STANDARD
TZOFFSETFROM:+0800
TZOFFSETTO:+0800
TZNAME:HKT
DTSTART:20140101T000000
END:STANDARD
END:VTIMEZONE
BEGIN:VEVENT
DTSTART;TZID=Asia/Hong_Kong:20220624T193000
DTEND;TZID=Asia/Hong_Kong:20220624T193000
DTSTAMP:20260426T050833
CREATED:19160105T144028Z
LAST-MODIFIED:20220613T163222Z
UID:10000249-1656099000-1656099000@www.bcmagazine.net
SUMMARY:Songs of Innocence and Experience
DESCRIPTION:Songs of Innocence and Experience\nDate: 7:45pm\, 20-24 June\, 2022\nVenue: HKAPA\, Studio Theatre\nTickets: $95 from HK Ticketing\nMore info: Cantonese drama with English and Chinese surtitles
URL:https://www.bcmagazine.net/event/songs-of-innocence-and-experience/2022-06-24/
LOCATION:HKAPA: Studio Theatre\, 1 Gloucester Road\, Wanchai\, Hong Kong
CATEGORIES:2022,Cantonese drama,Nightlife,Performing Arts,Theatre
ATTACH;FMTTYPE=image/jpeg:https://www.bcmagazine.net/wp-content/uploads/1916/01/Songs-of-Innocence-and-Experience-2022.jpeg
GEO:22.2801854;114.1695054
X-APPLE-STRUCTURED-LOCATION;VALUE=URI;X-ADDRESS=HKAPA: Studio Theatre 1 Gloucester Road Wanchai Hong Kong;X-APPLE-RADIUS=500;X-TITLE=1 Gloucester Road:geo:114.1695054,22.2801854
END:VEVENT
BEGIN:VEVENT
DTSTART;TZID=Asia/Hong_Kong:20220623T193000
DTEND;TZID=Asia/Hong_Kong:20220623T193000
DTSTAMP:20260426T050834
CREATED:19160105T144028Z
LAST-MODIFIED:20220613T163222Z
UID:10000248-1656012600-1656012600@www.bcmagazine.net
SUMMARY:Songs of Innocence and Experience
DESCRIPTION:Songs of Innocence and Experience\nDate: 7:45pm\, 20-24 June\, 2022\nVenue: HKAPA\, Studio Theatre\nTickets: $95 from HK Ticketing\nMore info: Cantonese drama with English and Chinese surtitles
URL:https://www.bcmagazine.net/event/songs-of-innocence-and-experience/2022-06-23/
LOCATION:HKAPA: Studio Theatre\, 1 Gloucester Road\, Wanchai\, Hong Kong
CATEGORIES:2022,Cantonese drama,Nightlife,Performing Arts,Theatre
ATTACH;FMTTYPE=image/jpeg:https://www.bcmagazine.net/wp-content/uploads/1916/01/Songs-of-Innocence-and-Experience-2022.jpeg
GEO:22.2801854;114.1695054
X-APPLE-STRUCTURED-LOCATION;VALUE=URI;X-ADDRESS=HKAPA: Studio Theatre 1 Gloucester Road Wanchai Hong Kong;X-APPLE-RADIUS=500;X-TITLE=1 Gloucester Road:geo:114.1695054,22.2801854
END:VEVENT
BEGIN:VEVENT
DTSTART;TZID=Asia/Hong_Kong:20220622T193000
DTEND;TZID=Asia/Hong_Kong:20220622T193000
DTSTAMP:20260426T050834
CREATED:19160105T144028Z
LAST-MODIFIED:20220613T163222Z
UID:10000247-1655926200-1655926200@www.bcmagazine.net
SUMMARY:Songs of Innocence and Experience
DESCRIPTION:Songs of Innocence and Experience\nDate: 7:45pm\, 20-24 June\, 2022\nVenue: HKAPA\, Studio Theatre\nTickets: $95 from HK Ticketing\nMore info: Cantonese drama with English and Chinese surtitles
URL:https://www.bcmagazine.net/event/songs-of-innocence-and-experience/2022-06-22/
LOCATION:HKAPA: Studio Theatre\, 1 Gloucester Road\, Wanchai\, Hong Kong
CATEGORIES:2022,Cantonese drama,Nightlife,Performing Arts,Theatre
ATTACH;FMTTYPE=image/jpeg:https://www.bcmagazine.net/wp-content/uploads/1916/01/Songs-of-Innocence-and-Experience-2022.jpeg
GEO:22.2801854;114.1695054
X-APPLE-STRUCTURED-LOCATION;VALUE=URI;X-ADDRESS=HKAPA: Studio Theatre 1 Gloucester Road Wanchai Hong Kong;X-APPLE-RADIUS=500;X-TITLE=1 Gloucester Road:geo:114.1695054,22.2801854
END:VEVENT
BEGIN:VEVENT
DTSTART;TZID=Asia/Hong_Kong:20220621T193000
DTEND;TZID=Asia/Hong_Kong:20220621T193000
DTSTAMP:20260426T050834
CREATED:19160105T144028Z
LAST-MODIFIED:20220613T163222Z
UID:10000246-1655839800-1655839800@www.bcmagazine.net
SUMMARY:Songs of Innocence and Experience
DESCRIPTION:Songs of Innocence and Experience\nDate: 7:45pm\, 20-24 June\, 2022\nVenue: HKAPA\, Studio Theatre\nTickets: $95 from HK Ticketing\nMore info: Cantonese drama with English and Chinese surtitles
URL:https://www.bcmagazine.net/event/songs-of-innocence-and-experience/2022-06-21/
LOCATION:HKAPA: Studio Theatre\, 1 Gloucester Road\, Wanchai\, Hong Kong
CATEGORIES:2022,Cantonese drama,Nightlife,Performing Arts,Theatre
ATTACH;FMTTYPE=image/jpeg:https://www.bcmagazine.net/wp-content/uploads/1916/01/Songs-of-Innocence-and-Experience-2022.jpeg
GEO:22.2801854;114.1695054
X-APPLE-STRUCTURED-LOCATION;VALUE=URI;X-ADDRESS=HKAPA: Studio Theatre 1 Gloucester Road Wanchai Hong Kong;X-APPLE-RADIUS=500;X-TITLE=1 Gloucester Road:geo:114.1695054,22.2801854
END:VEVENT
BEGIN:VEVENT
DTSTART;TZID=Asia/Hong_Kong:20220620T193000
DTEND;TZID=Asia/Hong_Kong:20220620T193000
DTSTAMP:20260426T050834
CREATED:19160105T144028Z
LAST-MODIFIED:20220613T163222Z
UID:10000245-1655753400-1655753400@www.bcmagazine.net
SUMMARY:Songs of Innocence and Experience
DESCRIPTION:Songs of Innocence and Experience\nDate: 7:45pm\, 20-24 June\, 2022\nVenue: HKAPA\, Studio Theatre\nTickets: $95 from HK Ticketing\nMore info: Cantonese drama with English and Chinese surtitles
URL:https://www.bcmagazine.net/event/songs-of-innocence-and-experience/2022-06-20/
LOCATION:HKAPA: Studio Theatre\, 1 Gloucester Road\, Wanchai\, Hong Kong
CATEGORIES:2022,Cantonese drama,Nightlife,Performing Arts,Theatre
ATTACH;FMTTYPE=image/jpeg:https://www.bcmagazine.net/wp-content/uploads/1916/01/Songs-of-Innocence-and-Experience-2022.jpeg
GEO:22.2801854;114.1695054
X-APPLE-STRUCTURED-LOCATION;VALUE=URI;X-ADDRESS=HKAPA: Studio Theatre 1 Gloucester Road Wanchai Hong Kong;X-APPLE-RADIUS=500;X-TITLE=1 Gloucester Road:geo:114.1695054,22.2801854
END:VEVENT
BEGIN:VEVENT
DTSTART;TZID=Asia/Hong_Kong:20211204T194500
DTEND;TZID=Asia/Hong_Kong:20211204T194500
DTSTAMP:20260426T050834
CREATED:19211018T094055Z
LAST-MODIFIED:20211103T050653Z
UID:10005314-1638647100-1638647100@www.bcmagazine.net
SUMMARY:The Blind
DESCRIPTION:The Blind\nDate: 7:45pm\, 29 November – 4 December\, 2021\nVenue: HKAPA\, Studio Theatre\nTickets: $95 from HKTicketing\nMore info:\nDrama in Cantonese
URL:https://www.bcmagazine.net/event/the-blind/2021-12-04/2/
LOCATION:HKAPA: Studio Theatre\, 1 Gloucester Road\, Wanchai\, Hong Kong
CATEGORIES:2021,Cantonese drama,Performing Arts,Theatre
ATTACH;FMTTYPE=image/jpeg:https://www.bcmagazine.net/wp-content/uploads/1921/10/the-blind-2021.jpg
GEO:22.2801854;114.1695054
X-APPLE-STRUCTURED-LOCATION;VALUE=URI;X-ADDRESS=HKAPA: Studio Theatre 1 Gloucester Road Wanchai Hong Kong;X-APPLE-RADIUS=500;X-TITLE=1 Gloucester Road:geo:114.1695054,22.2801854
END:VEVENT
BEGIN:VEVENT
DTSTART;TZID=Asia/Hong_Kong:20211204T144500
DTEND;TZID=Asia/Hong_Kong:20211204T144500
DTSTAMP:20260426T050834
CREATED:19211018T094055Z
LAST-MODIFIED:20211103T050653Z
UID:10005313-1638629100-1638629100@www.bcmagazine.net
SUMMARY:The Blind
DESCRIPTION:The Blind\nDate: 7:45pm\, 29 November – 4 December\, 2021\nVenue: HKAPA\, Studio Theatre\nTickets: $95 from HKTicketing\nMore info:\nDrama in Cantonese
URL:https://www.bcmagazine.net/event/the-blind/2021-12-04/1/
LOCATION:HKAPA: Studio Theatre\, 1 Gloucester Road\, Wanchai\, Hong Kong
CATEGORIES:2021,Cantonese drama,Performing Arts,Theatre
ATTACH;FMTTYPE=image/jpeg:https://www.bcmagazine.net/wp-content/uploads/1921/10/the-blind-2021.jpg
GEO:22.2801854;114.1695054
X-APPLE-STRUCTURED-LOCATION;VALUE=URI;X-ADDRESS=HKAPA: Studio Theatre 1 Gloucester Road Wanchai Hong Kong;X-APPLE-RADIUS=500;X-TITLE=1 Gloucester Road:geo:114.1695054,22.2801854
END:VEVENT
BEGIN:VEVENT
DTSTART;TZID=Asia/Hong_Kong:20211203T194500
DTEND;TZID=Asia/Hong_Kong:20211203T194500
DTSTAMP:20260426T050834
CREATED:19211018T094055Z
LAST-MODIFIED:20211103T050653Z
UID:10005312-1638560700-1638560700@www.bcmagazine.net
SUMMARY:The Blind
DESCRIPTION:The Blind\nDate: 7:45pm\, 29 November – 4 December\, 2021\nVenue: HKAPA\, Studio Theatre\nTickets: $95 from HKTicketing\nMore info:\nDrama in Cantonese
URL:https://www.bcmagazine.net/event/the-blind/2021-12-03/
LOCATION:HKAPA: Studio Theatre\, 1 Gloucester Road\, Wanchai\, Hong Kong
CATEGORIES:2021,Cantonese drama,Performing Arts,Theatre
ATTACH;FMTTYPE=image/jpeg:https://www.bcmagazine.net/wp-content/uploads/1921/10/the-blind-2021.jpg
GEO:22.2801854;114.1695054
X-APPLE-STRUCTURED-LOCATION;VALUE=URI;X-ADDRESS=HKAPA: Studio Theatre 1 Gloucester Road Wanchai Hong Kong;X-APPLE-RADIUS=500;X-TITLE=1 Gloucester Road:geo:114.1695054,22.2801854
END:VEVENT
BEGIN:VEVENT
DTSTART;TZID=Asia/Hong_Kong:20211202T194500
DTEND;TZID=Asia/Hong_Kong:20211202T194500
DTSTAMP:20260426T050834
CREATED:19211018T094055Z
LAST-MODIFIED:20211103T050653Z
UID:10005311-1638474300-1638474300@www.bcmagazine.net
SUMMARY:The Blind
DESCRIPTION:The Blind\nDate: 7:45pm\, 29 November – 4 December\, 2021\nVenue: HKAPA\, Studio Theatre\nTickets: $95 from HKTicketing\nMore info:\nDrama in Cantonese
URL:https://www.bcmagazine.net/event/the-blind/2021-12-02/
LOCATION:HKAPA: Studio Theatre\, 1 Gloucester Road\, Wanchai\, Hong Kong
CATEGORIES:2021,Cantonese drama,Performing Arts,Theatre
ATTACH;FMTTYPE=image/jpeg:https://www.bcmagazine.net/wp-content/uploads/1921/10/the-blind-2021.jpg
GEO:22.2801854;114.1695054
X-APPLE-STRUCTURED-LOCATION;VALUE=URI;X-ADDRESS=HKAPA: Studio Theatre 1 Gloucester Road Wanchai Hong Kong;X-APPLE-RADIUS=500;X-TITLE=1 Gloucester Road:geo:114.1695054,22.2801854
END:VEVENT
BEGIN:VEVENT
DTSTART;TZID=Asia/Hong_Kong:20211201T194500
DTEND;TZID=Asia/Hong_Kong:20211201T194500
DTSTAMP:20260426T050834
CREATED:19211018T094055Z
LAST-MODIFIED:20211103T050653Z
UID:10005310-1638387900-1638387900@www.bcmagazine.net
SUMMARY:The Blind
DESCRIPTION:The Blind\nDate: 7:45pm\, 29 November – 4 December\, 2021\nVenue: HKAPA\, Studio Theatre\nTickets: $95 from HKTicketing\nMore info:\nDrama in Cantonese
URL:https://www.bcmagazine.net/event/the-blind/2021-12-01/
LOCATION:HKAPA: Studio Theatre\, 1 Gloucester Road\, Wanchai\, Hong Kong
CATEGORIES:2021,Cantonese drama,Performing Arts,Theatre
ATTACH;FMTTYPE=image/jpeg:https://www.bcmagazine.net/wp-content/uploads/1921/10/the-blind-2021.jpg
GEO:22.2801854;114.1695054
X-APPLE-STRUCTURED-LOCATION;VALUE=URI;X-ADDRESS=HKAPA: Studio Theatre 1 Gloucester Road Wanchai Hong Kong;X-APPLE-RADIUS=500;X-TITLE=1 Gloucester Road:geo:114.1695054,22.2801854
END:VEVENT
BEGIN:VEVENT
DTSTART;TZID=Asia/Hong_Kong:20211130T194500
DTEND;TZID=Asia/Hong_Kong:20211130T194500
DTSTAMP:20260426T050834
CREATED:19211018T094055Z
LAST-MODIFIED:20211103T050653Z
UID:10005309-1638301500-1638301500@www.bcmagazine.net
SUMMARY:The Blind
DESCRIPTION:The Blind\nDate: 7:45pm\, 29 November – 4 December\, 2021\nVenue: HKAPA\, Studio Theatre\nTickets: $95 from HKTicketing\nMore info:\nDrama in Cantonese
URL:https://www.bcmagazine.net/event/the-blind/2021-11-30/
LOCATION:HKAPA: Studio Theatre\, 1 Gloucester Road\, Wanchai\, Hong Kong
CATEGORIES:2021,Cantonese drama,Performing Arts,Theatre
ATTACH;FMTTYPE=image/jpeg:https://www.bcmagazine.net/wp-content/uploads/1921/10/the-blind-2021.jpg
GEO:22.2801854;114.1695054
X-APPLE-STRUCTURED-LOCATION;VALUE=URI;X-ADDRESS=HKAPA: Studio Theatre 1 Gloucester Road Wanchai Hong Kong;X-APPLE-RADIUS=500;X-TITLE=1 Gloucester Road:geo:114.1695054,22.2801854
END:VEVENT
BEGIN:VEVENT
DTSTART;TZID=Asia/Hong_Kong:20211129T194500
DTEND;TZID=Asia/Hong_Kong:20211129T194500
DTSTAMP:20260426T050834
CREATED:19211018T094055Z
LAST-MODIFIED:20211103T050653Z
UID:10005308-1638215100-1638215100@www.bcmagazine.net
SUMMARY:The Blind
DESCRIPTION:The Blind\nDate: 7:45pm\, 29 November – 4 December\, 2021\nVenue: HKAPA\, Studio Theatre\nTickets: $95 from HKTicketing\nMore info:\nDrama in Cantonese
URL:https://www.bcmagazine.net/event/the-blind/2021-11-29/
LOCATION:HKAPA: Studio Theatre\, 1 Gloucester Road\, Wanchai\, Hong Kong
CATEGORIES:2021,Cantonese drama,Performing Arts,Theatre
ATTACH;FMTTYPE=image/jpeg:https://www.bcmagazine.net/wp-content/uploads/1921/10/the-blind-2021.jpg
GEO:22.2801854;114.1695054
X-APPLE-STRUCTURED-LOCATION;VALUE=URI;X-ADDRESS=HKAPA: Studio Theatre 1 Gloucester Road Wanchai Hong Kong;X-APPLE-RADIUS=500;X-TITLE=1 Gloucester Road:geo:114.1695054,22.2801854
END:VEVENT
BEGIN:VEVENT
DTSTART;TZID=Asia/Hong_Kong:20180210T200000
DTEND;TZID=Asia/Hong_Kong:20180210T200000
DTSTAMP:20260426T050834
CREATED:20170724T031400Z
LAST-MODIFIED:20180111T074821Z
UID:10006422-1518292800-1518292800@www.bcmagazine.net
SUMMARY:Le Malentendu
DESCRIPTION:Le Malentendu\nDate: 5-10 February\, 2018\nVenue: HKAPA\, Studio Theatre\nTickets: $95 from HKTicketing\nMore info:\n5 -10 Feb – 8pm\n10 Feb – 2:45pm
URL:https://www.bcmagazine.net/event/le-malentendu-19-02-2018/
LOCATION:HKAPA: Studio Theatre\, 1 Gloucester Road\, Wanchai\, Hong Kong
CATEGORIES:2018,Cantonese drama,Performing Arts,Theatre
GEO:22.2801854;114.1695054
X-APPLE-STRUCTURED-LOCATION;VALUE=URI;X-ADDRESS=HKAPA: Studio Theatre 1 Gloucester Road Wanchai Hong Kong;X-APPLE-RADIUS=500;X-TITLE=1 Gloucester Road:geo:114.1695054,22.2801854
END:VEVENT
BEGIN:VEVENT
DTSTART;TZID=Asia/Hong_Kong:20180209T200000
DTEND;TZID=Asia/Hong_Kong:20180209T200000
DTSTAMP:20260426T050834
CREATED:20170724T031400Z
LAST-MODIFIED:20180111T074814Z
UID:10006420-1518206400-1518206400@www.bcmagazine.net
SUMMARY:Le Malentendu
DESCRIPTION:Le Malentendu\nDate: 5-10 February\, 2018\nVenue: HKAPA\, Studio Theatre\nTickets: $95 from HKTicketing\nMore info:\n5 -10 Feb – 8pm\n10 Feb – 2:45pm
URL:https://www.bcmagazine.net/event/le-malentendu-09-02-2018/
LOCATION:HKAPA: Studio Theatre\, 1 Gloucester Road\, Wanchai\, Hong Kong
CATEGORIES:2018,Cantonese drama,Performing Arts,Theatre
GEO:22.2801854;114.1695054
X-APPLE-STRUCTURED-LOCATION;VALUE=URI;X-ADDRESS=HKAPA: Studio Theatre 1 Gloucester Road Wanchai Hong Kong;X-APPLE-RADIUS=500;X-TITLE=1 Gloucester Road:geo:114.1695054,22.2801854
END:VEVENT
BEGIN:VEVENT
DTSTART;TZID=Asia/Hong_Kong:20180208T200000
DTEND;TZID=Asia/Hong_Kong:20180208T200000
DTSTAMP:20260426T050834
CREATED:20170724T031400Z
LAST-MODIFIED:20180111T074848Z
UID:10006421-1518120000-1518120000@www.bcmagazine.net
SUMMARY:Le Malentendu
DESCRIPTION:Le Malentendu\nDate: 5-10 February\, 2018\nVenue: HKAPA\, Studio Theatre\nTickets: $95 from HKTicketing\nMore info:\n5 -10 Feb – 8pm\n10 Feb – 2:45pm
URL:https://www.bcmagazine.net/event/le-malentendu-08-02-2018/
LOCATION:HKAPA: Studio Theatre\, 1 Gloucester Road\, Wanchai\, Hong Kong
CATEGORIES:2018,Cantonese drama,Performing Arts,Theatre
GEO:22.2801854;114.1695054
X-APPLE-STRUCTURED-LOCATION;VALUE=URI;X-ADDRESS=HKAPA: Studio Theatre 1 Gloucester Road Wanchai Hong Kong;X-APPLE-RADIUS=500;X-TITLE=1 Gloucester Road:geo:114.1695054,22.2801854
END:VEVENT
BEGIN:VEVENT
DTSTART;TZID=Asia/Hong_Kong:20180207T200000
DTEND;TZID=Asia/Hong_Kong:20180207T200000
DTSTAMP:20260426T050834
CREATED:20170724T031400Z
LAST-MODIFIED:20180111T074754Z
UID:10006419-1518033600-1518033600@www.bcmagazine.net
SUMMARY:Le Malentendu
DESCRIPTION:Le Malentendu\nDate: 5-10 February\, 2018\nVenue: HKAPA\, Studio Theatre\nTickets: $95 from HKTicketing\nMore info:\n5 -10 Feb – 8pm\n10 Feb – 2:45pm
URL:https://www.bcmagazine.net/event/le-malentendu-07-02-2018/
LOCATION:HKAPA: Studio Theatre\, 1 Gloucester Road\, Wanchai\, Hong Kong
CATEGORIES:2018,Cantonese drama,Performing Arts,Theatre
GEO:22.2801854;114.1695054
X-APPLE-STRUCTURED-LOCATION;VALUE=URI;X-ADDRESS=HKAPA: Studio Theatre 1 Gloucester Road Wanchai Hong Kong;X-APPLE-RADIUS=500;X-TITLE=1 Gloucester Road:geo:114.1695054,22.2801854
END:VEVENT
BEGIN:VEVENT
DTSTART;TZID=Asia/Hong_Kong:20180206T200000
DTEND;TZID=Asia/Hong_Kong:20180206T200000
DTSTAMP:20260426T050834
CREATED:20170724T031400Z
LAST-MODIFIED:20180111T074739Z
UID:10006418-1517947200-1517947200@www.bcmagazine.net
SUMMARY:Le Malentendu
DESCRIPTION:Le Malentendu\nDate: 5-10 February\, 2018\nVenue: HKAPA\, Studio Theatre\nTickets: $95 from HKTicketing\nMore info:\n5 -10 Feb – 8pm\n10 Feb – 2:45pm
URL:https://www.bcmagazine.net/event/le-malentendu-06-02-2018/
LOCATION:HKAPA: Studio Theatre\, 1 Gloucester Road\, Wanchai\, Hong Kong
CATEGORIES:2018,Cantonese drama,Performing Arts,Theatre
GEO:22.2801854;114.1695054
X-APPLE-STRUCTURED-LOCATION;VALUE=URI;X-ADDRESS=HKAPA: Studio Theatre 1 Gloucester Road Wanchai Hong Kong;X-APPLE-RADIUS=500;X-TITLE=1 Gloucester Road:geo:114.1695054,22.2801854
END:VEVENT
BEGIN:VEVENT
DTSTART;TZID=Asia/Hong_Kong:20180205T200000
DTEND;TZID=Asia/Hong_Kong:20180205T200000
DTSTAMP:20260426T050834
CREATED:20170724T031400Z
LAST-MODIFIED:20180111T074721Z
UID:10006417-1517860800-1517860800@www.bcmagazine.net
SUMMARY:Le Malentendu
DESCRIPTION:Le Malentendu\nDate: 5-10 February\, 2018\nVenue: HKAPA\, Studio Theatre\nTickets: $95 from HKTicketing\nMore info:\n5 -10 Feb – 8pm\n10 Feb – 2:45pm
URL:https://www.bcmagazine.net/event/le-malentendu-05-02-2018/
LOCATION:HKAPA: Studio Theatre\, 1 Gloucester Road\, Wanchai\, Hong Kong
CATEGORIES:2018,Cantonese drama,Performing Arts,Theatre
GEO:22.2801854;114.1695054
X-APPLE-STRUCTURED-LOCATION;VALUE=URI;X-ADDRESS=HKAPA: Studio Theatre 1 Gloucester Road Wanchai Hong Kong;X-APPLE-RADIUS=500;X-TITLE=1 Gloucester Road:geo:114.1695054,22.2801854
END:VEVENT
BEGIN:VEVENT
DTSTART;VALUE=DATE:20150318
DTEND;VALUE=DATE:20150322
DTSTAMP:20260426T050834
CREATED:20150313T071124Z
LAST-MODIFIED:20150313T071124Z
UID:10005650-1426636800-1426982399@www.bcmagazine.net
SUMMARY:Rashomon @ HKAPA - 18-21 March\, 2015
DESCRIPTION:Heavy rain. An abandoned gate. A century-old mystery unsolved.\nA woodcutter. A grove. A dead body. Three witnesses.\nThe Bandit‘s voice “I killed him!”\nHis wife‘s voice “I killed him!”\nThe Samurai declares\, “I killed myself!”\nBut the Woodcutter says\, “They all lie!”\nFour people. Four truths. How many lies?\nA play within a play\, within a play.\nBut who is the ‘actor’? \nThe mind cannot comprehend that lying is human nature. “Isn’t it?” \nCast: Lai Lok-hang\, Ng Pui-lung\, Wu Tsun-ho\, Leung Chung-hang\, Ng King-lung\, Jessica Wong\, Kwan Chi-kit\, Zhang Yan\nDirector/Adaptation: Chow Wai-chuen\n(Based on stories by Ryūnosuke Akutagawa and the film by Akira Kurosawa)\nSet & Costume Designer: Suwa Wong\nLighting Designer: Ting Leung-sun\nSound Designer: Cher Ng Chun-tung \nRashomon\nWhen: 18-21 March\, 2015\n7:45pm\, 18 March 2015 (Wednesday)\n7:45pm\, 19 March 2015 (Thursday)\n7:45pm\, 20 March 2015 (Friday)\n2:45pm & 7:45pm 21 March 2015 (Saturday)\nWhere: Studio Theatre\, HKAPA\nTickets: $95 from HKTicketing\nMore info: in Cantonese
URL:https://www.bcmagazine.net/event/rashomon-hkapa-18-21-march-2015/
LOCATION:HKAPA: Studio Theatre\, 1 Gloucester Road\, Wanchai\, Hong Kong
CATEGORIES:Performing Arts,Theatre
GEO:22.2801854;114.1695054
X-APPLE-STRUCTURED-LOCATION;VALUE=URI;X-ADDRESS=HKAPA: Studio Theatre 1 Gloucester Road Wanchai Hong Kong;X-APPLE-RADIUS=500;X-TITLE=1 Gloucester Road:geo:114.1695054,22.2801854
END:VEVENT
END:VCALENDAR