BEGIN:VCALENDAR
VERSION:2.0
PRODID:-//bc magazine - ECPv6.15.20//NONSGML v1.0//EN
CALSCALE:GREGORIAN
METHOD:PUBLISH
X-WR-CALNAME:bc magazine
X-ORIGINAL-URL:https://www.bcmagazine.net
X-WR-CALDESC:Events for bc magazine
REFRESH-INTERVAL;VALUE=DURATION:PT1H
X-Robots-Tag:noindex
X-PUBLISHED-TTL:PT1H
BEGIN:VTIMEZONE
TZID:Asia/Hong_Kong
BEGIN:STANDARD
TZOFFSETFROM:+0800
TZOFFSETTO:+0800
TZNAME:HKT
DTSTART:20210101T000000
END:STANDARD
END:VTIMEZONE
BEGIN:VEVENT
DTSTART;TZID=Asia/Hong_Kong:20220618T200000
DTEND;TZID=Asia/Hong_Kong:20220618T200000
DTSTAMP:20260426T054443
CREATED:19160105T144028Z
LAST-MODIFIED:20220613T165436Z
UID:10001047-1655582400-1655582400@www.bcmagazine.net
SUMMARY:Sœurs
DESCRIPTION:Sœurs\nHong Kong Repertory Theatre\, French May\nDate: 3-4\, 7-11-12\, 14-18 June\, 2022\nVenue: Sheung Wan Civic Centre\, Black Box Theatre\nTickets: $260 from Popticket
URL:https://www.bcmagazine.net/event/soeurs/2022-06-18/
LOCATION:HKREP Black Box Theatre\, 8/F\, Sheung Wan Civic Centre\, Sheung Wan Municipal Services Building\, 345 Queen's Road\, Sheung Wan\, Hong Kong
CATEGORIES:2022,Nightlife,Performing Arts,Theatre
ATTACH;FMTTYPE=image/jpeg:https://www.bcmagazine.net/wp-content/uploads/1916/01/Soeurs-HKREP-2022.jpeg
END:VEVENT
BEGIN:VEVENT
DTSTART;TZID=Asia/Hong_Kong:20220617T200000
DTEND;TZID=Asia/Hong_Kong:20220617T200000
DTSTAMP:20260426T054443
CREATED:19160105T144028Z
LAST-MODIFIED:20220613T165436Z
UID:10001046-1655496000-1655496000@www.bcmagazine.net
SUMMARY:Sœurs
DESCRIPTION:Sœurs\nHong Kong Repertory Theatre\, French May\nDate: 3-4\, 7-11-12\, 14-18 June\, 2022\nVenue: Sheung Wan Civic Centre\, Black Box Theatre\nTickets: $260 from Popticket
URL:https://www.bcmagazine.net/event/soeurs/2022-06-17/
LOCATION:HKREP Black Box Theatre\, 8/F\, Sheung Wan Civic Centre\, Sheung Wan Municipal Services Building\, 345 Queen's Road\, Sheung Wan\, Hong Kong
CATEGORIES:2022,Nightlife,Performing Arts,Theatre
ATTACH;FMTTYPE=image/jpeg:https://www.bcmagazine.net/wp-content/uploads/1916/01/Soeurs-HKREP-2022.jpeg
END:VEVENT
BEGIN:VEVENT
DTSTART;TZID=Asia/Hong_Kong:20220616T200000
DTEND;TZID=Asia/Hong_Kong:20220616T200000
DTSTAMP:20260426T054443
CREATED:19160105T144028Z
LAST-MODIFIED:20220613T165436Z
UID:10001045-1655409600-1655409600@www.bcmagazine.net
SUMMARY:Sœurs
DESCRIPTION:Sœurs\nHong Kong Repertory Theatre\, French May\nDate: 3-4\, 7-11-12\, 14-18 June\, 2022\nVenue: Sheung Wan Civic Centre\, Black Box Theatre\nTickets: $260 from Popticket
URL:https://www.bcmagazine.net/event/soeurs/2022-06-16/
LOCATION:HKREP Black Box Theatre\, 8/F\, Sheung Wan Civic Centre\, Sheung Wan Municipal Services Building\, 345 Queen's Road\, Sheung Wan\, Hong Kong
CATEGORIES:2022,Nightlife,Performing Arts,Theatre
ATTACH;FMTTYPE=image/jpeg:https://www.bcmagazine.net/wp-content/uploads/1916/01/Soeurs-HKREP-2022.jpeg
END:VEVENT
BEGIN:VEVENT
DTSTART;TZID=Asia/Hong_Kong:20220615T200000
DTEND;TZID=Asia/Hong_Kong:20220615T200000
DTSTAMP:20260426T054443
CREATED:19160105T144028Z
LAST-MODIFIED:20220613T165436Z
UID:10001044-1655323200-1655323200@www.bcmagazine.net
SUMMARY:Sœurs
DESCRIPTION:Sœurs\nHong Kong Repertory Theatre\, French May\nDate: 3-4\, 7-11-12\, 14-18 June\, 2022\nVenue: Sheung Wan Civic Centre\, Black Box Theatre\nTickets: $260 from Popticket
URL:https://www.bcmagazine.net/event/soeurs/2022-06-15/
LOCATION:HKREP Black Box Theatre\, 8/F\, Sheung Wan Civic Centre\, Sheung Wan Municipal Services Building\, 345 Queen's Road\, Sheung Wan\, Hong Kong
CATEGORIES:2022,Nightlife,Performing Arts,Theatre
ATTACH;FMTTYPE=image/jpeg:https://www.bcmagazine.net/wp-content/uploads/1916/01/Soeurs-HKREP-2022.jpeg
END:VEVENT
BEGIN:VEVENT
DTSTART;TZID=Asia/Hong_Kong:20220614T200000
DTEND;TZID=Asia/Hong_Kong:20220614T200000
DTSTAMP:20260426T054443
CREATED:19160105T144028Z
LAST-MODIFIED:20220613T165436Z
UID:10001043-1655236800-1655236800@www.bcmagazine.net
SUMMARY:Sœurs
DESCRIPTION:Sœurs\nHong Kong Repertory Theatre\, French May\nDate: 3-4\, 7-11-12\, 14-18 June\, 2022\nVenue: Sheung Wan Civic Centre\, Black Box Theatre\nTickets: $260 from Popticket
URL:https://www.bcmagazine.net/event/soeurs/2022-06-14/
LOCATION:HKREP Black Box Theatre\, 8/F\, Sheung Wan Civic Centre\, Sheung Wan Municipal Services Building\, 345 Queen's Road\, Sheung Wan\, Hong Kong
CATEGORIES:2022,Nightlife,Performing Arts,Theatre
ATTACH;FMTTYPE=image/jpeg:https://www.bcmagazine.net/wp-content/uploads/1916/01/Soeurs-HKREP-2022.jpeg
END:VEVENT
BEGIN:VEVENT
DTSTART;TZID=Asia/Hong_Kong:20220612T150000
DTEND;TZID=Asia/Hong_Kong:20220612T150000
DTSTAMP:20260426T054443
CREATED:19160105T144028Z
LAST-MODIFIED:20220613T165436Z
UID:10001042-1655046000-1655046000@www.bcmagazine.net
SUMMARY:Sœurs
DESCRIPTION:Sœurs\nHong Kong Repertory Theatre\, French May\nDate: 3-4\, 7-11-12\, 14-18 June\, 2022\nVenue: Sheung Wan Civic Centre\, Black Box Theatre\nTickets: $260 from Popticket
URL:https://www.bcmagazine.net/event/soeurs/2022-06-12/
LOCATION:HKREP Black Box Theatre\, 8/F\, Sheung Wan Civic Centre\, Sheung Wan Municipal Services Building\, 345 Queen's Road\, Sheung Wan\, Hong Kong
CATEGORIES:2022,Nightlife,Performing Arts,Theatre
ATTACH;FMTTYPE=image/jpeg:https://www.bcmagazine.net/wp-content/uploads/1916/01/Soeurs-HKREP-2022.jpeg
END:VEVENT
BEGIN:VEVENT
DTSTART;TZID=Asia/Hong_Kong:20220611T200000
DTEND;TZID=Asia/Hong_Kong:20220611T200000
DTSTAMP:20260426T054443
CREATED:19160105T144028Z
LAST-MODIFIED:20220613T165436Z
UID:10001041-1654977600-1654977600@www.bcmagazine.net
SUMMARY:Sœurs
DESCRIPTION:Sœurs\nHong Kong Repertory Theatre\, French May\nDate: 3-4\, 7-11-12\, 14-18 June\, 2022\nVenue: Sheung Wan Civic Centre\, Black Box Theatre\nTickets: $260 from Popticket
URL:https://www.bcmagazine.net/event/soeurs/2022-06-11/
LOCATION:HKREP Black Box Theatre\, 8/F\, Sheung Wan Civic Centre\, Sheung Wan Municipal Services Building\, 345 Queen's Road\, Sheung Wan\, Hong Kong
CATEGORIES:2022,Nightlife,Performing Arts,Theatre
ATTACH;FMTTYPE=image/jpeg:https://www.bcmagazine.net/wp-content/uploads/1916/01/Soeurs-HKREP-2022.jpeg
END:VEVENT
BEGIN:VEVENT
DTSTART;TZID=Asia/Hong_Kong:20220610T200000
DTEND;TZID=Asia/Hong_Kong:20220610T200000
DTSTAMP:20260426T054443
CREATED:19160105T144028Z
LAST-MODIFIED:20220613T165436Z
UID:10001040-1654891200-1654891200@www.bcmagazine.net
SUMMARY:Sœurs
DESCRIPTION:Sœurs\nHong Kong Repertory Theatre\, French May\nDate: 3-4\, 7-11-12\, 14-18 June\, 2022\nVenue: Sheung Wan Civic Centre\, Black Box Theatre\nTickets: $260 from Popticket
URL:https://www.bcmagazine.net/event/soeurs/2022-06-10/
LOCATION:HKREP Black Box Theatre\, 8/F\, Sheung Wan Civic Centre\, Sheung Wan Municipal Services Building\, 345 Queen's Road\, Sheung Wan\, Hong Kong
CATEGORIES:2022,Nightlife,Performing Arts,Theatre
ATTACH;FMTTYPE=image/jpeg:https://www.bcmagazine.net/wp-content/uploads/1916/01/Soeurs-HKREP-2022.jpeg
END:VEVENT
BEGIN:VEVENT
DTSTART;TZID=Asia/Hong_Kong:20220609T200000
DTEND;TZID=Asia/Hong_Kong:20220609T200000
DTSTAMP:20260426T054443
CREATED:19160105T144028Z
LAST-MODIFIED:20220613T165436Z
UID:10001039-1654804800-1654804800@www.bcmagazine.net
SUMMARY:Sœurs
DESCRIPTION:Sœurs\nHong Kong Repertory Theatre\, French May\nDate: 3-4\, 7-11-12\, 14-18 June\, 2022\nVenue: Sheung Wan Civic Centre\, Black Box Theatre\nTickets: $260 from Popticket
URL:https://www.bcmagazine.net/event/soeurs/2022-06-09/
LOCATION:HKREP Black Box Theatre\, 8/F\, Sheung Wan Civic Centre\, Sheung Wan Municipal Services Building\, 345 Queen's Road\, Sheung Wan\, Hong Kong
CATEGORIES:2022,Nightlife,Performing Arts,Theatre
ATTACH;FMTTYPE=image/jpeg:https://www.bcmagazine.net/wp-content/uploads/1916/01/Soeurs-HKREP-2022.jpeg
END:VEVENT
BEGIN:VEVENT
DTSTART;TZID=Asia/Hong_Kong:20220608T200000
DTEND;TZID=Asia/Hong_Kong:20220608T200000
DTSTAMP:20260426T054443
CREATED:19160105T144028Z
LAST-MODIFIED:20220613T165436Z
UID:10001038-1654718400-1654718400@www.bcmagazine.net
SUMMARY:Sœurs
DESCRIPTION:Sœurs\nHong Kong Repertory Theatre\, French May\nDate: 3-4\, 7-11-12\, 14-18 June\, 2022\nVenue: Sheung Wan Civic Centre\, Black Box Theatre\nTickets: $260 from Popticket
URL:https://www.bcmagazine.net/event/soeurs/2022-06-08/
LOCATION:HKREP Black Box Theatre\, 8/F\, Sheung Wan Civic Centre\, Sheung Wan Municipal Services Building\, 345 Queen's Road\, Sheung Wan\, Hong Kong
CATEGORIES:2022,Nightlife,Performing Arts,Theatre
ATTACH;FMTTYPE=image/jpeg:https://www.bcmagazine.net/wp-content/uploads/1916/01/Soeurs-HKREP-2022.jpeg
END:VEVENT
BEGIN:VEVENT
DTSTART;TZID=Asia/Hong_Kong:20220607T200000
DTEND;TZID=Asia/Hong_Kong:20220607T200000
DTSTAMP:20260426T054443
CREATED:19160105T144028Z
LAST-MODIFIED:20220613T165436Z
UID:10001037-1654632000-1654632000@www.bcmagazine.net
SUMMARY:Sœurs
DESCRIPTION:Sœurs\nHong Kong Repertory Theatre\, French May\nDate: 3-4\, 7-11-12\, 14-18 June\, 2022\nVenue: Sheung Wan Civic Centre\, Black Box Theatre\nTickets: $260 from Popticket
URL:https://www.bcmagazine.net/event/soeurs/2022-06-07/
LOCATION:HKREP Black Box Theatre\, 8/F\, Sheung Wan Civic Centre\, Sheung Wan Municipal Services Building\, 345 Queen's Road\, Sheung Wan\, Hong Kong
CATEGORIES:2022,Nightlife,Performing Arts,Theatre
ATTACH;FMTTYPE=image/jpeg:https://www.bcmagazine.net/wp-content/uploads/1916/01/Soeurs-HKREP-2022.jpeg
END:VEVENT
BEGIN:VEVENT
DTSTART;TZID=Asia/Hong_Kong:20220604T200000
DTEND;TZID=Asia/Hong_Kong:20220604T200000
DTSTAMP:20260426T054443
CREATED:19160105T144028Z
LAST-MODIFIED:20220613T165436Z
UID:10001036-1654372800-1654372800@www.bcmagazine.net
SUMMARY:Sœurs
DESCRIPTION:Sœurs\nHong Kong Repertory Theatre\, French May\nDate: 3-4\, 7-11-12\, 14-18 June\, 2022\nVenue: Sheung Wan Civic Centre\, Black Box Theatre\nTickets: $260 from Popticket
URL:https://www.bcmagazine.net/event/soeurs/2022-06-04/
LOCATION:HKREP Black Box Theatre\, 8/F\, Sheung Wan Civic Centre\, Sheung Wan Municipal Services Building\, 345 Queen's Road\, Sheung Wan\, Hong Kong
CATEGORIES:2022,Nightlife,Performing Arts,Theatre
ATTACH;FMTTYPE=image/jpeg:https://www.bcmagazine.net/wp-content/uploads/1916/01/Soeurs-HKREP-2022.jpeg
END:VEVENT
BEGIN:VEVENT
DTSTART;TZID=Asia/Hong_Kong:20220603T200000
DTEND;TZID=Asia/Hong_Kong:20220603T200000
DTSTAMP:20260426T054443
CREATED:19160105T144028Z
LAST-MODIFIED:20220613T165436Z
UID:10001035-1654286400-1654286400@www.bcmagazine.net
SUMMARY:Sœurs
DESCRIPTION:Sœurs\nHong Kong Repertory Theatre\, French May\nDate: 3-4\, 7-11-12\, 14-18 June\, 2022\nVenue: Sheung Wan Civic Centre\, Black Box Theatre\nTickets: $260 from Popticket
URL:https://www.bcmagazine.net/event/soeurs/2022-06-03/
LOCATION:HKREP Black Box Theatre\, 8/F\, Sheung Wan Civic Centre\, Sheung Wan Municipal Services Building\, 345 Queen's Road\, Sheung Wan\, Hong Kong
CATEGORIES:2022,Nightlife,Performing Arts,Theatre
ATTACH;FMTTYPE=image/jpeg:https://www.bcmagazine.net/wp-content/uploads/1916/01/Soeurs-HKREP-2022.jpeg
END:VEVENT
BEGIN:VEVENT
DTSTART;TZID=Asia/Hong_Kong:20220514T200000
DTEND;TZID=Asia/Hong_Kong:20220514T200000
DTSTAMP:20260426T054443
CREATED:19161023T084522Z
LAST-MODIFIED:20220426T110235Z
UID:10002299-1652558400-1652558400@www.bcmagazine.net
SUMMARY:The Open Couple
DESCRIPTION:The Open Couple\nAurora Theatre\, The Italian Cultural Institute\nDate: 8pm\, 11-14 May\, 2022\nVenue: Sheung Wan Civic Centre\, Black Box Theatre\nTickets: $250 from Urbtix
URL:https://www.bcmagazine.net/event/the-open-couple/2022-05-14/
LOCATION:HKREP Black Box Theatre\, 8/F\, Sheung Wan Civic Centre\, Sheung Wan Municipal Services Building\, 345 Queen's Road\, Sheung Wan\, Hong Kong
CATEGORIES:2022,Performing Arts,Theatre
ATTACH;FMTTYPE=image/jpeg:https://www.bcmagazine.net/wp-content/uploads/1916/10/the-open-couple.jpeg
END:VEVENT
BEGIN:VEVENT
DTSTART;TZID=Asia/Hong_Kong:20220513T200000
DTEND;TZID=Asia/Hong_Kong:20220513T200000
DTSTAMP:20260426T054443
CREATED:19161023T084522Z
LAST-MODIFIED:20220426T110235Z
UID:10002298-1652472000-1652472000@www.bcmagazine.net
SUMMARY:The Open Couple
DESCRIPTION:The Open Couple\nAurora Theatre\, The Italian Cultural Institute\nDate: 8pm\, 11-14 May\, 2022\nVenue: Sheung Wan Civic Centre\, Black Box Theatre\nTickets: $250 from Urbtix
URL:https://www.bcmagazine.net/event/the-open-couple/2022-05-13/
LOCATION:HKREP Black Box Theatre\, 8/F\, Sheung Wan Civic Centre\, Sheung Wan Municipal Services Building\, 345 Queen's Road\, Sheung Wan\, Hong Kong
CATEGORIES:2022,Performing Arts,Theatre
ATTACH;FMTTYPE=image/jpeg:https://www.bcmagazine.net/wp-content/uploads/1916/10/the-open-couple.jpeg
END:VEVENT
BEGIN:VEVENT
DTSTART;TZID=Asia/Hong_Kong:20220512T200000
DTEND;TZID=Asia/Hong_Kong:20220512T200000
DTSTAMP:20260426T054443
CREATED:19161023T084522Z
LAST-MODIFIED:20220426T110235Z
UID:10002297-1652385600-1652385600@www.bcmagazine.net
SUMMARY:The Open Couple
DESCRIPTION:The Open Couple\nAurora Theatre\, The Italian Cultural Institute\nDate: 8pm\, 11-14 May\, 2022\nVenue: Sheung Wan Civic Centre\, Black Box Theatre\nTickets: $250 from Urbtix
URL:https://www.bcmagazine.net/event/the-open-couple/2022-05-12/
LOCATION:HKREP Black Box Theatre\, 8/F\, Sheung Wan Civic Centre\, Sheung Wan Municipal Services Building\, 345 Queen's Road\, Sheung Wan\, Hong Kong
CATEGORIES:2022,Performing Arts,Theatre
ATTACH;FMTTYPE=image/jpeg:https://www.bcmagazine.net/wp-content/uploads/1916/10/the-open-couple.jpeg
END:VEVENT
BEGIN:VEVENT
DTSTART;TZID=Asia/Hong_Kong:20220511T200000
DTEND;TZID=Asia/Hong_Kong:20220511T200000
DTSTAMP:20260426T054443
CREATED:19161023T084522Z
LAST-MODIFIED:20220426T110235Z
UID:10002296-1652299200-1652299200@www.bcmagazine.net
SUMMARY:The Open Couple
DESCRIPTION:The Open Couple\nAurora Theatre\, The Italian Cultural Institute\nDate: 8pm\, 11-14 May\, 2022\nVenue: Sheung Wan Civic Centre\, Black Box Theatre\nTickets: $250 from Urbtix
URL:https://www.bcmagazine.net/event/the-open-couple/2022-05-11/
LOCATION:HKREP Black Box Theatre\, 8/F\, Sheung Wan Civic Centre\, Sheung Wan Municipal Services Building\, 345 Queen's Road\, Sheung Wan\, Hong Kong
CATEGORIES:2022,Performing Arts,Theatre
ATTACH;FMTTYPE=image/jpeg:https://www.bcmagazine.net/wp-content/uploads/1916/10/the-open-couple.jpeg
END:VEVENT
BEGIN:VEVENT
DTSTART;TZID=Asia/Hong_Kong:20220327T150000
DTEND;TZID=Asia/Hong_Kong:20220327T150000
DTSTAMP:20260426T054443
CREATED:20230114T164734Z
LAST-MODIFIED:20230114T164734Z
UID:10003339-1648393200-1648393200@www.bcmagazine.net
SUMMARY:HK Repertory Theatre - A Musical
DESCRIPTION:HK Repertory Theatre – A Musical\nDate: 12-27 March\, 2022\nVenue: HKRep Black Box Theatre\nTickets: $260 from Urbtix \nMore info: \n8pm – 12\, 14\, 16-19\, 21\, 23-26.3.2022\n3pm – 13\, 19-20\, 26-27.3.2022\nIn Cantonese
URL:https://www.bcmagazine.net/event/hkrep-a-musical/2022-03-27/
LOCATION:HKREP Black Box Theatre\, 8/F\, Sheung Wan Civic Centre\, Sheung Wan Municipal Services Building\, 345 Queen's Road\, Sheung Wan\, Hong Kong
CATEGORIES:2022,Cantonese drama,Performing Arts,Theatre
ATTACH;FMTTYPE=image/jpeg:https://www.bcmagazine.net/wp-content/uploads/1918/05/hkrep-a-musical-2022.jpeg
END:VEVENT
BEGIN:VEVENT
DTSTART;TZID=Asia/Hong_Kong:20220326T200000
DTEND;TZID=Asia/Hong_Kong:20220326T200000
DTSTAMP:20260426T054443
CREATED:19180528T020834Z
LAST-MODIFIED:20211006T075756Z
UID:10003334-1648324800-1648324800@www.bcmagazine.net
SUMMARY:HK Repertory Theatre - A Musical
DESCRIPTION:HK Repertory Theatre – A Musical\nDate: 12-27 March\, 2022\nVenue: HKRep Black Box Theatre\nTickets: $260 from Urbtix \nMore info: \n8pm – 12\, 14\, 16-19\, 21\, 23-26.3.2022\n3pm – 13\, 19-20\, 26-27.3.2022\nIn Cantonese
URL:https://www.bcmagazine.net/event/hkrep-a-musical/2022-03-26/
LOCATION:HKREP Black Box Theatre\, 8/F\, Sheung Wan Civic Centre\, Sheung Wan Municipal Services Building\, 345 Queen's Road\, Sheung Wan\, Hong Kong
CATEGORIES:2022,Cantonese drama,Performing Arts,Theatre
ATTACH;FMTTYPE=image/jpeg:https://www.bcmagazine.net/wp-content/uploads/1918/05/hkrep-a-musical-2022.jpeg
END:VEVENT
BEGIN:VEVENT
DTSTART;TZID=Asia/Hong_Kong:20220326T150000
DTEND;TZID=Asia/Hong_Kong:20220326T150000
DTSTAMP:20260426T054443
CREATED:20230114T164734Z
LAST-MODIFIED:20230114T164734Z
UID:10003338-1648306800-1648306800@www.bcmagazine.net
SUMMARY:HK Repertory Theatre - A Musical
DESCRIPTION:HK Repertory Theatre – A Musical\nDate: 12-27 March\, 2022\nVenue: HKRep Black Box Theatre\nTickets: $260 from Urbtix \nMore info: \n8pm – 12\, 14\, 16-19\, 21\, 23-26.3.2022\n3pm – 13\, 19-20\, 26-27.3.2022\nIn Cantonese
URL:https://www.bcmagazine.net/event/hkrep-a-musical/2022-03-26/
LOCATION:HKREP Black Box Theatre\, 8/F\, Sheung Wan Civic Centre\, Sheung Wan Municipal Services Building\, 345 Queen's Road\, Sheung Wan\, Hong Kong
CATEGORIES:2022,Cantonese drama,Performing Arts,Theatre
ATTACH;FMTTYPE=image/jpeg:https://www.bcmagazine.net/wp-content/uploads/1918/05/hkrep-a-musical-2022.jpeg
END:VEVENT
BEGIN:VEVENT
DTSTART;TZID=Asia/Hong_Kong:20220325T200000
DTEND;TZID=Asia/Hong_Kong:20220325T200000
DTSTAMP:20260426T054443
CREATED:19180528T020834Z
LAST-MODIFIED:20211006T075756Z
UID:10003333-1648238400-1648238400@www.bcmagazine.net
SUMMARY:HK Repertory Theatre - A Musical
DESCRIPTION:HK Repertory Theatre – A Musical\nDate: 12-27 March\, 2022\nVenue: HKRep Black Box Theatre\nTickets: $260 from Urbtix \nMore info: \n8pm – 12\, 14\, 16-19\, 21\, 23-26.3.2022\n3pm – 13\, 19-20\, 26-27.3.2022\nIn Cantonese
URL:https://www.bcmagazine.net/event/hkrep-a-musical/2022-03-25/
LOCATION:HKREP Black Box Theatre\, 8/F\, Sheung Wan Civic Centre\, Sheung Wan Municipal Services Building\, 345 Queen's Road\, Sheung Wan\, Hong Kong
CATEGORIES:2022,Cantonese drama,Performing Arts,Theatre
ATTACH;FMTTYPE=image/jpeg:https://www.bcmagazine.net/wp-content/uploads/1918/05/hkrep-a-musical-2022.jpeg
END:VEVENT
BEGIN:VEVENT
DTSTART;TZID=Asia/Hong_Kong:20220324T200000
DTEND;TZID=Asia/Hong_Kong:20220324T200000
DTSTAMP:20260426T054443
CREATED:19180528T020834Z
LAST-MODIFIED:20211006T075756Z
UID:10003332-1648152000-1648152000@www.bcmagazine.net
SUMMARY:HK Repertory Theatre - A Musical
DESCRIPTION:HK Repertory Theatre – A Musical\nDate: 12-27 March\, 2022\nVenue: HKRep Black Box Theatre\nTickets: $260 from Urbtix \nMore info: \n8pm – 12\, 14\, 16-19\, 21\, 23-26.3.2022\n3pm – 13\, 19-20\, 26-27.3.2022\nIn Cantonese
URL:https://www.bcmagazine.net/event/hkrep-a-musical/2022-03-24/
LOCATION:HKREP Black Box Theatre\, 8/F\, Sheung Wan Civic Centre\, Sheung Wan Municipal Services Building\, 345 Queen's Road\, Sheung Wan\, Hong Kong
CATEGORIES:2022,Cantonese drama,Performing Arts,Theatre
ATTACH;FMTTYPE=image/jpeg:https://www.bcmagazine.net/wp-content/uploads/1918/05/hkrep-a-musical-2022.jpeg
END:VEVENT
BEGIN:VEVENT
DTSTART;TZID=Asia/Hong_Kong:20220323T200000
DTEND;TZID=Asia/Hong_Kong:20220323T200000
DTSTAMP:20260426T054443
CREATED:19180528T020834Z
LAST-MODIFIED:20211006T075756Z
UID:10003331-1648065600-1648065600@www.bcmagazine.net
SUMMARY:HK Repertory Theatre - A Musical
DESCRIPTION:HK Repertory Theatre – A Musical\nDate: 12-27 March\, 2022\nVenue: HKRep Black Box Theatre\nTickets: $260 from Urbtix \nMore info: \n8pm – 12\, 14\, 16-19\, 21\, 23-26.3.2022\n3pm – 13\, 19-20\, 26-27.3.2022\nIn Cantonese
URL:https://www.bcmagazine.net/event/hkrep-a-musical/2022-03-23/
LOCATION:HKREP Black Box Theatre\, 8/F\, Sheung Wan Civic Centre\, Sheung Wan Municipal Services Building\, 345 Queen's Road\, Sheung Wan\, Hong Kong
CATEGORIES:2022,Cantonese drama,Performing Arts,Theatre
ATTACH;FMTTYPE=image/jpeg:https://www.bcmagazine.net/wp-content/uploads/1918/05/hkrep-a-musical-2022.jpeg
END:VEVENT
BEGIN:VEVENT
DTSTART;TZID=Asia/Hong_Kong:20220321T200000
DTEND;TZID=Asia/Hong_Kong:20220321T200000
DTSTAMP:20260426T054443
CREATED:19180528T020834Z
LAST-MODIFIED:20211006T075756Z
UID:10003330-1647892800-1647892800@www.bcmagazine.net
SUMMARY:HK Repertory Theatre - A Musical
DESCRIPTION:HK Repertory Theatre – A Musical\nDate: 12-27 March\, 2022\nVenue: HKRep Black Box Theatre\nTickets: $260 from Urbtix \nMore info: \n8pm – 12\, 14\, 16-19\, 21\, 23-26.3.2022\n3pm – 13\, 19-20\, 26-27.3.2022\nIn Cantonese
URL:https://www.bcmagazine.net/event/hkrep-a-musical/2022-03-21/
LOCATION:HKREP Black Box Theatre\, 8/F\, Sheung Wan Civic Centre\, Sheung Wan Municipal Services Building\, 345 Queen's Road\, Sheung Wan\, Hong Kong
CATEGORIES:2022,Cantonese drama,Performing Arts,Theatre
ATTACH;FMTTYPE=image/jpeg:https://www.bcmagazine.net/wp-content/uploads/1918/05/hkrep-a-musical-2022.jpeg
END:VEVENT
BEGIN:VEVENT
DTSTART;TZID=Asia/Hong_Kong:20220320T150000
DTEND;TZID=Asia/Hong_Kong:20220320T150000
DTSTAMP:20260426T054443
CREATED:20230114T164734Z
LAST-MODIFIED:20230114T164734Z
UID:10003337-1647788400-1647788400@www.bcmagazine.net
SUMMARY:HK Repertory Theatre - A Musical
DESCRIPTION:HK Repertory Theatre – A Musical\nDate: 12-27 March\, 2022\nVenue: HKRep Black Box Theatre\nTickets: $260 from Urbtix \nMore info: \n8pm – 12\, 14\, 16-19\, 21\, 23-26.3.2022\n3pm – 13\, 19-20\, 26-27.3.2022\nIn Cantonese
URL:https://www.bcmagazine.net/event/hkrep-a-musical/2022-03-20/
LOCATION:HKREP Black Box Theatre\, 8/F\, Sheung Wan Civic Centre\, Sheung Wan Municipal Services Building\, 345 Queen's Road\, Sheung Wan\, Hong Kong
CATEGORIES:2022,Cantonese drama,Performing Arts,Theatre
ATTACH;FMTTYPE=image/jpeg:https://www.bcmagazine.net/wp-content/uploads/1918/05/hkrep-a-musical-2022.jpeg
END:VEVENT
BEGIN:VEVENT
DTSTART;TZID=Asia/Hong_Kong:20220319T200000
DTEND;TZID=Asia/Hong_Kong:20220319T200000
DTSTAMP:20260426T054443
CREATED:19180528T020834Z
LAST-MODIFIED:20211006T075756Z
UID:10003329-1647720000-1647720000@www.bcmagazine.net
SUMMARY:HK Repertory Theatre - A Musical
DESCRIPTION:HK Repertory Theatre – A Musical\nDate: 12-27 March\, 2022\nVenue: HKRep Black Box Theatre\nTickets: $260 from Urbtix \nMore info: \n8pm – 12\, 14\, 16-19\, 21\, 23-26.3.2022\n3pm – 13\, 19-20\, 26-27.3.2022\nIn Cantonese
URL:https://www.bcmagazine.net/event/hkrep-a-musical/2022-03-19/
LOCATION:HKREP Black Box Theatre\, 8/F\, Sheung Wan Civic Centre\, Sheung Wan Municipal Services Building\, 345 Queen's Road\, Sheung Wan\, Hong Kong
CATEGORIES:2022,Cantonese drama,Performing Arts,Theatre
ATTACH;FMTTYPE=image/jpeg:https://www.bcmagazine.net/wp-content/uploads/1918/05/hkrep-a-musical-2022.jpeg
END:VEVENT
BEGIN:VEVENT
DTSTART;TZID=Asia/Hong_Kong:20220319T150000
DTEND;TZID=Asia/Hong_Kong:20220319T150000
DTSTAMP:20260426T054443
CREATED:20230114T164734Z
LAST-MODIFIED:20230114T164734Z
UID:10003336-1647702000-1647702000@www.bcmagazine.net
SUMMARY:HK Repertory Theatre - A Musical
DESCRIPTION:HK Repertory Theatre – A Musical\nDate: 12-27 March\, 2022\nVenue: HKRep Black Box Theatre\nTickets: $260 from Urbtix \nMore info: \n8pm – 12\, 14\, 16-19\, 21\, 23-26.3.2022\n3pm – 13\, 19-20\, 26-27.3.2022\nIn Cantonese
URL:https://www.bcmagazine.net/event/hkrep-a-musical/2022-03-19/
LOCATION:HKREP Black Box Theatre\, 8/F\, Sheung Wan Civic Centre\, Sheung Wan Municipal Services Building\, 345 Queen's Road\, Sheung Wan\, Hong Kong
CATEGORIES:2022,Cantonese drama,Performing Arts,Theatre
ATTACH;FMTTYPE=image/jpeg:https://www.bcmagazine.net/wp-content/uploads/1918/05/hkrep-a-musical-2022.jpeg
END:VEVENT
BEGIN:VEVENT
DTSTART;TZID=Asia/Hong_Kong:20220318T200000
DTEND;TZID=Asia/Hong_Kong:20220318T200000
DTSTAMP:20260426T054443
CREATED:19180528T020834Z
LAST-MODIFIED:20211006T075756Z
UID:10003328-1647633600-1647633600@www.bcmagazine.net
SUMMARY:HK Repertory Theatre - A Musical
DESCRIPTION:HK Repertory Theatre – A Musical\nDate: 12-27 March\, 2022\nVenue: HKRep Black Box Theatre\nTickets: $260 from Urbtix \nMore info: \n8pm – 12\, 14\, 16-19\, 21\, 23-26.3.2022\n3pm – 13\, 19-20\, 26-27.3.2022\nIn Cantonese
URL:https://www.bcmagazine.net/event/hkrep-a-musical/2022-03-18/
LOCATION:HKREP Black Box Theatre\, 8/F\, Sheung Wan Civic Centre\, Sheung Wan Municipal Services Building\, 345 Queen's Road\, Sheung Wan\, Hong Kong
CATEGORIES:2022,Cantonese drama,Performing Arts,Theatre
ATTACH;FMTTYPE=image/jpeg:https://www.bcmagazine.net/wp-content/uploads/1918/05/hkrep-a-musical-2022.jpeg
END:VEVENT
BEGIN:VEVENT
DTSTART;TZID=Asia/Hong_Kong:20220317T200000
DTEND;TZID=Asia/Hong_Kong:20220317T200000
DTSTAMP:20260426T054443
CREATED:19180528T020834Z
LAST-MODIFIED:20211006T075756Z
UID:10003327-1647547200-1647547200@www.bcmagazine.net
SUMMARY:HK Repertory Theatre - A Musical
DESCRIPTION:HK Repertory Theatre – A Musical\nDate: 12-27 March\, 2022\nVenue: HKRep Black Box Theatre\nTickets: $260 from Urbtix \nMore info: \n8pm – 12\, 14\, 16-19\, 21\, 23-26.3.2022\n3pm – 13\, 19-20\, 26-27.3.2022\nIn Cantonese
URL:https://www.bcmagazine.net/event/hkrep-a-musical/2022-03-17/
LOCATION:HKREP Black Box Theatre\, 8/F\, Sheung Wan Civic Centre\, Sheung Wan Municipal Services Building\, 345 Queen's Road\, Sheung Wan\, Hong Kong
CATEGORIES:2022,Cantonese drama,Performing Arts,Theatre
ATTACH;FMTTYPE=image/jpeg:https://www.bcmagazine.net/wp-content/uploads/1918/05/hkrep-a-musical-2022.jpeg
END:VEVENT
BEGIN:VEVENT
DTSTART;TZID=Asia/Hong_Kong:20220316T200000
DTEND;TZID=Asia/Hong_Kong:20220316T200000
DTSTAMP:20260426T054443
CREATED:19180528T020834Z
LAST-MODIFIED:20211006T075756Z
UID:10003326-1647460800-1647460800@www.bcmagazine.net
SUMMARY:HK Repertory Theatre - A Musical
DESCRIPTION:HK Repertory Theatre – A Musical\nDate: 12-27 March\, 2022\nVenue: HKRep Black Box Theatre\nTickets: $260 from Urbtix \nMore info: \n8pm – 12\, 14\, 16-19\, 21\, 23-26.3.2022\n3pm – 13\, 19-20\, 26-27.3.2022\nIn Cantonese
URL:https://www.bcmagazine.net/event/hkrep-a-musical/2022-03-16/
LOCATION:HKREP Black Box Theatre\, 8/F\, Sheung Wan Civic Centre\, Sheung Wan Municipal Services Building\, 345 Queen's Road\, Sheung Wan\, Hong Kong
CATEGORIES:2022,Cantonese drama,Performing Arts,Theatre
ATTACH;FMTTYPE=image/jpeg:https://www.bcmagazine.net/wp-content/uploads/1918/05/hkrep-a-musical-2022.jpeg
END:VEVENT
END:VCALENDAR