BEGIN:VCALENDAR
VERSION:2.0
PRODID:-//bc magazine - ECPv6.15.20//NONSGML v1.0//EN
CALSCALE:GREGORIAN
METHOD:PUBLISH
X-WR-CALNAME:bc magazine
X-ORIGINAL-URL:https://www.bcmagazine.net
X-WR-CALDESC:Events for bc magazine
REFRESH-INTERVAL;VALUE=DURATION:PT1H
X-Robots-Tag:noindex
X-PUBLISHED-TTL:PT1H
BEGIN:VTIMEZONE
TZID:Asia/Hong_Kong
BEGIN:STANDARD
TZOFFSETFROM:+0800
TZOFFSETTO:+0800
TZNAME:HKT
DTSTART:20170101T000000
END:STANDARD
END:VTIMEZONE
BEGIN:VEVENT
DTSTART;VALUE=DATE:20181118
DTEND;VALUE=DATE:20181119
DTSTAMP:20260425T005931
CREATED:19181020T145036Z
LAST-MODIFIED:20181114T145053Z
UID:10004509-1542499200-1542585599@www.bcmagazine.net
SUMMARY:HKU Sandy Bay Mini Rugby Festival
DESCRIPTION:HKU Sandy Bay Mini Rugby Festival\nDate: 18 November\, 2018\nVenue: HKU Sandy Bay RFC\nTickets: Free
URL:https://www.bcmagazine.net/event/hku-sandy-bay-mini-rugby-festival-2018/
LOCATION:HKU Sandy Bay RFC\, Sha Wan Drive\, Sandy Bay\, Hong Kong
CATEGORIES:2018,Rugby,Sport
ATTACH;FMTTYPE=image/jpeg:https://www.bcmagazine.net/wp-content/uploads/1918/10/HKU-Sandy-Bay-Mini-Rugby-Festival-2018.jpg
END:VEVENT
END:VCALENDAR