BEGIN:VCALENDAR
VERSION:2.0
PRODID:-//bc magazine - ECPv6.15.20//NONSGML v1.0//EN
CALSCALE:GREGORIAN
METHOD:PUBLISH
X-WR-CALNAME:bc magazine
X-ORIGINAL-URL:https://www.bcmagazine.net
X-WR-CALDESC:Events for bc magazine
REFRESH-INTERVAL;VALUE=DURATION:PT1H
X-Robots-Tag:noindex
X-PUBLISHED-TTL:PT1H
BEGIN:VTIMEZONE
TZID:Asia/Hong_Kong
BEGIN:STANDARD
TZOFFSETFROM:+0800
TZOFFSETTO:+0800
TZNAME:HKT
DTSTART:20170101T000000
END:STANDARD
END:VTIMEZONE
BEGIN:VEVENT
DTSTART;TZID=Asia/Hong_Kong:20180901T203000
DTEND;TZID=Asia/Hong_Kong:20180901T203000
DTSTAMP:20260422T050010
CREATED:19180802T094055Z
LAST-MODIFIED:20180820T015958Z
UID:10004371-1535833800-1535833800@www.bcmagazine.net
SUMMARY:The Blues Brothers
DESCRIPTION:The Blues Brothers\nThe Gloomy Island Blues Festival\nDate: 8:30pm\, 1 September\, 2018\nVenue: HollandFree\, Room 6\, 15/F\, Block B\, Wah Tat Industrial Centre B\, 8 Wah Sing St\, Kwai Chung\, Hong Kong\nTickets: pay what you want
URL:https://www.bcmagazine.net/event/the-blues-brothers-01-09-2018/
LOCATION:Holland Free\, rm 6\, 15/F\, Block B\, Wah Tat Industrial Centre B\, 8 Wah Sing Street\, Kwai Chung\, Hong Kong
CATEGORIES:2018,Film,Music,Performing Arts
ATTACH;FMTTYPE=image/jpeg:https://www.bcmagazine.net/wp-content/uploads/1918/08/blues-bros-2018.jpg
END:VEVENT
END:VCALENDAR