BEGIN:VCALENDAR
VERSION:2.0
PRODID:-//bc magazine - ECPv6.15.20//NONSGML v1.0//EN
CALSCALE:GREGORIAN
METHOD:PUBLISH
X-WR-CALNAME:bc magazine
X-ORIGINAL-URL:https://www.bcmagazine.net
X-WR-CALDESC:Events for bc magazine
REFRESH-INTERVAL;VALUE=DURATION:PT1H
X-Robots-Tag:noindex
X-PUBLISHED-TTL:PT1H
BEGIN:VTIMEZONE
TZID:Asia/Hong_Kong
BEGIN:STANDARD
TZOFFSETFROM:+0800
TZOFFSETTO:+0800
TZNAME:HKT
DTSTART:20150101T000000
END:STANDARD
END:VTIMEZONE
BEGIN:VEVENT
DTSTART;TZID=Asia/Hong_Kong:20181111T080000
DTEND;TZID=Asia/Hong_Kong:20181111T080000
DTSTAMP:20260425T002228
CREATED:19170902T001419Z
LAST-MODIFIED:20181004T083005Z
UID:10003269-1541923200-1541923200@www.bcmagazine.net
SUMMARY:Race to Feed 2018
DESCRIPTION:Race to Feed 2018\nDate: 8am\, 11 November\, 2018\nVenue: Hong Kong Science & Technology Park – Pak Shek Kok Promenade\nTickets: $260/person
URL:https://www.bcmagazine.net/event/race-to-feed-2018/
LOCATION:Hong Kong Science Park\, Pak Shek Kok\, Hong Kong
CATEGORIES:2018,Charity,Sport
GEO:22.396428;114.109497
END:VEVENT
BEGIN:VEVENT
DTSTART;TZID=Asia/Hong_Kong:20180317T110000
DTEND;TZID=Asia/Hong_Kong:20180317T110000
DTSTAMP:20260425T002228
CREATED:19170621T155632Z
LAST-MODIFIED:20171222T112316Z
UID:10002903-1521284400-1521284400@www.bcmagazine.net
SUMMARY:Sonar Hong Kong
DESCRIPTION:Sonar Hong Kong\nDate: 11am\, 17 March\, 2017\nVenue: Hong Kong Science Park\nTickets: $780 from Ticketflap
URL:https://www.bcmagazine.net/event/sonar-hong-kong-2018/
LOCATION:Hong Kong Science Park\, Pak Shek Kok\, Hong Kong
CATEGORIES:2018,DJ,Music,Performing Arts
GEO:22.396428;114.109497
END:VEVENT
BEGIN:VEVENT
DTSTART;TZID=Asia/Hong_Kong:20171112T080000
DTEND;TZID=Asia/Hong_Kong:20171112T080000
DTSTAMP:20260425T002228
CREATED:19170902T001419Z
LAST-MODIFIED:20170902T064112Z
UID:10003268-1510473600-1510473600@www.bcmagazine.net
SUMMARY:Heifer Race to Feed
DESCRIPTION:Heifer Race to Feed 2017\nDate: 8am\, 12 November\, 2017\nVenue: Hong Kong Science & Technology Park – Pak Shek Kok Promenade\nTickets: $250
URL:https://www.bcmagazine.net/event/heifer-race-to-feed-2017/
LOCATION:Hong Kong Science Park\, Pak Shek Kok\, Hong Kong
CATEGORIES:2017,Charity,Sport
GEO:22.396428;114.109497
END:VEVENT
BEGIN:VEVENT
DTSTART;TZID=Asia/Hong_Kong:20171001T080000
DTEND;TZID=Asia/Hong_Kong:20171001T170000
DTSTAMP:20260425T002228
CREATED:19170615T081433Z
LAST-MODIFIED:20170615T083551Z
UID:10002900-1506844800-1506877200@www.bcmagazine.net
SUMMARY:Yolo Run
DESCRIPTION:Yolo Run\nDate: 8am\, 1 October\, 2017\nVenue: HK Science Park\nTickets: $400\, $350\, $300
URL:https://www.bcmagazine.net/event/yolo-run-hk-2017/
LOCATION:Hong Kong Science Park\, Pak Shek Kok\, Hong Kong
CATEGORIES:2017,Sport
GEO:22.396428;114.109497
END:VEVENT
BEGIN:VEVENT
DTSTART;TZID=Asia/Hong_Kong:20170122T090000
DTEND;TZID=Asia/Hong_Kong:20170122T130000
DTSTAMP:20260425T002228
CREATED:19161101T125335Z
LAST-MODIFIED:20161101T130252Z
UID:10000934-1485075600-1485090000@www.bcmagazine.net
SUMMARY:Resolution Run
DESCRIPTION:Resolution Run\nDate: 9am\, 22 January\, 2017\nVenue: Hong Kong Science Park\, Pak Shek Kok\, Shatin\, N.T.\nTickets: free\nMore info: \n10km\, 5km\, 3km kid’s race\, 1km family race\nregister here 
URL:https://www.bcmagazine.net/event/resolution-run-2017/
LOCATION:Hong Kong Science Park\, Pak Shek Kok\, Hong Kong
CATEGORIES:2017,Sport
GEO:22.396428;114.109497
END:VEVENT
BEGIN:VEVENT
DTSTART;TZID=Asia/Hong_Kong:20160807T140000
DTEND;TZID=Asia/Hong_Kong:20160807T140000
DTSTAMP:20260425T002228
CREATED:19160622T051411Z
LAST-MODIFIED:20160622T052336Z
UID:10001828-1470578400-1470578400@www.bcmagazine.net
SUMMARY:Avon Lee Magic Castle
DESCRIPTION:Avon Lee International Magic Castle 2016\nDate: 2pm\, 4:30pm\, 6-7 August\, 2016\nVenue: HK Science Park\nTickets: $283\, $236\, $198\, $148 from Cityline
URL:https://www.bcmagazine.net/event/avon-lee-magic-castle/2016-08-07/
LOCATION:Hong Kong Science Park\, Pak Shek Kok\, Hong Kong
CATEGORIES:2016,Performing Arts
GEO:22.396428;114.109497
END:VEVENT
BEGIN:VEVENT
DTSTART;TZID=Asia/Hong_Kong:20160806T140000
DTEND;TZID=Asia/Hong_Kong:20160806T140000
DTSTAMP:20260425T002228
CREATED:19160622T051411Z
LAST-MODIFIED:20160622T052336Z
UID:10001827-1470492000-1470492000@www.bcmagazine.net
SUMMARY:Avon Lee Magic Castle
DESCRIPTION:Avon Lee International Magic Castle 2016\nDate: 2pm\, 4:30pm\, 6-7 August\, 2016\nVenue: HK Science Park\nTickets: $283\, $236\, $198\, $148 from Cityline
URL:https://www.bcmagazine.net/event/avon-lee-magic-castle/2016-08-06/
LOCATION:Hong Kong Science Park\, Pak Shek Kok\, Hong Kong
CATEGORIES:2016,Performing Arts
GEO:22.396428;114.109497
END:VEVENT
END:VCALENDAR