BEGIN:VCALENDAR
VERSION:2.0
PRODID:-//bc magazine - ECPv6.15.20//NONSGML v1.0//EN
CALSCALE:GREGORIAN
METHOD:PUBLISH
X-WR-CALNAME:bc magazine
X-ORIGINAL-URL:https://www.bcmagazine.net
X-WR-CALDESC:Events for bc magazine
REFRESH-INTERVAL;VALUE=DURATION:PT1H
X-Robots-Tag:noindex
X-PUBLISHED-TTL:PT1H
BEGIN:VTIMEZONE
TZID:Asia/Hong_Kong
BEGIN:STANDARD
TZOFFSETFROM:+0800
TZOFFSETTO:+0800
TZNAME:HKT
DTSTART:20150101T000000
END:STANDARD
END:VTIMEZONE
BEGIN:VEVENT
DTSTART;VALUE=DATE:20231127
DTEND;VALUE=DATE:20231204
DTSTAMP:20260423T115318
CREATED:20230923T151330Z
LAST-MODIFIED:20231102T084223Z
UID:10009371-1701043200-1701647999@www.bcmagazine.net
SUMMARY:HK Squash Open
DESCRIPTION:HK Squash Open\nDate: 27 November – 3 December 2023\nVenue: HK Park Sports Centre (finals)\nTickets: tbc Hong Kong Squash
URL:https://www.bcmagazine.net/event/hk-squash-open-2023/
LOCATION:HK Squash Centre\, 23 Cotton Tree Drive\, Hong Kong
CATEGORIES:2023,Sport,Squash
ATTACH;FMTTYPE=image/jpeg:https://www.bcmagazine.net/wp-content/uploads/2023/09/hk-squash-open-2023.jpeg
GEO:22.2774211;114.1600166
X-APPLE-STRUCTURED-LOCATION;VALUE=URI;X-ADDRESS=HK Squash Centre 23 Cotton Tree Drive Hong Kong;X-APPLE-RADIUS=500;X-TITLE=23 Cotton Tree Drive:geo:114.1600166,22.2774211
END:VEVENT
BEGIN:VEVENT
DTSTART;VALUE=DATE:20160821
DTEND;VALUE=DATE:20160829
DTSTAMP:20260423T115318
CREATED:19160823T151330Z
LAST-MODIFIED:20160823T152241Z
UID:10001949-1471737600-1472428799@www.bcmagazine.net
SUMMARY:HK Squash Open
DESCRIPTION:HK Squash Open\nDate: 21-28 August\, 2016\nVenue: HK Park Sports Centre (finals)\nTickets: $280\, $240\, $200\, $80 from Hong Kong Squash\nMore info:\nAugust 21–22: HK Football Club\, 3 Sports Road\, Happy Valley\nAugust 23–25: HK Squash Centre\, 23 Cotton Tree Drive\nAugust 26–28: HK Park Sports Centre\, 29 Cotton Tree Drive
URL:https://www.bcmagazine.net/event/hk-squash-open-2016/
LOCATION:HK Squash Centre\, 23 Cotton Tree Drive\, Hong Kong
CATEGORIES:2016,Sport
GEO:22.2774211;114.1600166
X-APPLE-STRUCTURED-LOCATION;VALUE=URI;X-ADDRESS=HK Squash Centre 23 Cotton Tree Drive Hong Kong;X-APPLE-RADIUS=500;X-TITLE=23 Cotton Tree Drive:geo:114.1600166,22.2774211
END:VEVENT
END:VCALENDAR