BEGIN:VCALENDAR
VERSION:2.0
PRODID:-//bc magazine - ECPv6.15.20//NONSGML v1.0//EN
CALSCALE:GREGORIAN
METHOD:PUBLISH
X-ORIGINAL-URL:https://www.bcmagazine.net
X-WR-CALDESC:Events for bc magazine
REFRESH-INTERVAL;VALUE=DURATION:PT1H
X-Robots-Tag:noindex
X-PUBLISHED-TTL:PT1H
BEGIN:VTIMEZONE
TZID:Asia/Hong_Kong
BEGIN:STANDARD
TZOFFSETFROM:+0800
TZOFFSETTO:+0800
TZNAME:HKT
DTSTART:20140101T000000
END:STANDARD
END:VTIMEZONE
BEGIN:VEVENT
DTSTART;VALUE=DATE:20150313
DTEND;VALUE=DATE:20150316
DTSTAMP:20260424T104241
CREATED:20150302T135653Z
LAST-MODIFIED:20150303T140553Z
UID:10005629-1426204800-1426463999@www.bcmagazine.net
SUMMARY:Go South Weekender - 13-15 March\, 2015
DESCRIPTION:Art and music at the beach \nGo South Weekender\nWhen: 4pm-Midnight 13-15 March\, 2015\nWhere: Hotshot\, indoor venue and The Ocean\, Rooftop @ Repulse Bay\nTickets: Free by RSVP\nMore info:\nFriday : Naughty By Nature – The Beatnuts – 24HERBS 廿四味 – DJ TONY TOUCH – DJ Spinna and more\nSaturday : Sunlightsquare – Basement Jaxx (Dj Set) – Ariel Wizman – Melohman and more\nSunday : Kyodai – Claptone – Kenny Dope – Dj Fudge – Hallex M and more
URL:https://www.bcmagazine.net/event/go-south-weekender-13-15-march-2015/
LOCATION:Hotspot\, 28 Beach Road\, Repulse Bay\, Hong Kong
CATEGORIES:Concert,DJ,Music,Nightlife
GEO:22.235292;114.1985616
X-APPLE-STRUCTURED-LOCATION;VALUE=URI;X-ADDRESS=Hotspot 28 Beach Road Repulse Bay Hong Kong;X-APPLE-RADIUS=500;X-TITLE=28 Beach Road:geo:114.1985616,22.235292
END:VEVENT
END:VCALENDAR