BEGIN:VCALENDAR
VERSION:2.0
PRODID:-//bc magazine - ECPv6.15.20//NONSGML v1.0//EN
CALSCALE:GREGORIAN
METHOD:PUBLISH
X-WR-CALNAME:bc magazine
X-ORIGINAL-URL:https://www.bcmagazine.net
X-WR-CALDESC:Events for bc magazine
REFRESH-INTERVAL;VALUE=DURATION:PT1H
X-Robots-Tag:noindex
X-PUBLISHED-TTL:PT1H
BEGIN:VTIMEZONE
TZID:Asia/Hong_Kong
BEGIN:STANDARD
TZOFFSETFROM:+0800
TZOFFSETTO:+0800
TZNAME:HKT
DTSTART:20170101T000000
END:STANDARD
END:VTIMEZONE
BEGIN:VEVENT
DTSTART;TZID=Asia/Hong_Kong:20180822T180000
DTEND;TZID=Asia/Hong_Kong:20180822T180000
DTSTAMP:20260421T170539
CREATED:19180802T094055Z
LAST-MODIFIED:20180821T012634Z
UID:10004375-1534960800-1534960800@www.bcmagazine.net
SUMMARY:Test Your Palate
DESCRIPTION:Test Your Palate\nDate: 6pm\, 21-22 August\, 2018\nVenue: J’s Bar Bistro\, 2/F\, The Royal Garden\nTickets: $380
URL:https://www.bcmagazine.net/event/test-your-palate-22-08-2018/
LOCATION:J’s Bar Bistro\, J's Bar Bistro\, 2/F\, The Royal Garden Hotel\, Tsim Sha Tsui\, Hong Kong
CATEGORIES:2019,Concert,Music,Performing Arts
ATTACH;FMTTYPE=image/png:https://www.bcmagazine.net/wp-content/uploads/1918/08/Teenage-Fanclub-2019.png
END:VEVENT
BEGIN:VEVENT
DTSTART;TZID=Asia/Hong_Kong:20180821T180000
DTEND;TZID=Asia/Hong_Kong:20180821T180000
DTSTAMP:20260421T170539
CREATED:19180802T094055Z
LAST-MODIFIED:20180821T012808Z
UID:10004374-1534874400-1534874400@www.bcmagazine.net
SUMMARY:Test Your Palate
DESCRIPTION:Test Your Palate\nDate: 6pm\, 21-22 August\, 2018\nVenue: J’s Bar Bistro\, 2/F\, The Royal Garden\nTickets: $380
URL:https://www.bcmagazine.net/event/test-your-palate-21-08-2018/
LOCATION:J’s Bar Bistro\, J's Bar Bistro\, 2/F\, The Royal Garden Hotel\, Tsim Sha Tsui\, Hong Kong
CATEGORIES:2019,Concert,Music,Performing Arts
ATTACH;FMTTYPE=image/png:https://www.bcmagazine.net/wp-content/uploads/1918/08/Teenage-Fanclub-2019.png
END:VEVENT
END:VCALENDAR