BEGIN:VCALENDAR
VERSION:2.0
PRODID:-//bc magazine - ECPv6.15.20//NONSGML v1.0//EN
CALSCALE:GREGORIAN
METHOD:PUBLISH
X-WR-CALNAME:bc magazine
X-ORIGINAL-URL:https://www.bcmagazine.net
X-WR-CALDESC:Events for bc magazine
REFRESH-INTERVAL;VALUE=DURATION:PT1H
X-Robots-Tag:noindex
X-PUBLISHED-TTL:PT1H
BEGIN:VTIMEZONE
TZID:Asia/Hong_Kong
BEGIN:STANDARD
TZOFFSETFROM:+0800
TZOFFSETTO:+0800
TZNAME:HKT
DTSTART:20140101T000000
END:STANDARD
END:VTIMEZONE
BEGIN:VEVENT
DTSTART;TZID=Asia/Hong_Kong:20150627T160000
DTEND;TZID=Asia/Hong_Kong:20150627T173000
DTSTAMP:20260421T055953
CREATED:20150522T064327Z
LAST-MODIFIED:20150622T064704Z
UID:10005881-1435420800-1435426200@www.bcmagazine.net
SUMMARY:Gravity Alterstra + Jing Wong
DESCRIPTION:Gravity Alterstra + Jing Wong\nDate: 4pm\, 27 June\, 2011\nVenue: K11 Piazza\nTickets: Free
URL:https://www.bcmagazine.net/event/gravity-alterstra-jing-wong/
LOCATION:K11\, Tsim Sha Tsui\, Hong Kong
CATEGORIES:2015,Concert,Music
END:VEVENT
END:VCALENDAR