BEGIN:VCALENDAR
VERSION:2.0
PRODID:-//bc magazine - ECPv6.15.20//NONSGML v1.0//EN
CALSCALE:GREGORIAN
METHOD:PUBLISH
X-WR-CALNAME:bc magazine
X-ORIGINAL-URL:https://www.bcmagazine.net
X-WR-CALDESC:Events for bc magazine
REFRESH-INTERVAL;VALUE=DURATION:PT1H
X-Robots-Tag:noindex
X-PUBLISHED-TTL:PT1H
BEGIN:VTIMEZONE
TZID:Asia/Hong_Kong
BEGIN:STANDARD
TZOFFSETFROM:+0800
TZOFFSETTO:+0800
TZNAME:HKT
DTSTART:20130101T000000
END:STANDARD
END:VTIMEZONE
BEGIN:VEVENT
DTSTART;TZID=Asia/Hong_Kong:20160909T190000
DTEND;TZID=Asia/Hong_Kong:20160909T190000
DTSTAMP:20260425T020926
CREATED:19160526T144557Z
LAST-MODIFIED:20160823T174613Z
UID:10001648-1473447600-1473447600@www.bcmagazine.net
SUMMARY:Jimmy Carr
DESCRIPTION:Jimmy Carr Funny Business\nDate: 8-9 September\, 2016\nVenue: KG V\nTickets: $888\, $688\, $588\, $488 from HKTicketing\nMore info:\nOriginal August dates rescheduled to September\n24 Aug at 7pm  /  8 Sept at 7pm\n24 Aug at 9pm  /  8 Sept at 9.15pm\n25 Aug at 8pm  /  9 Sept at 8pm
URL:https://www.bcmagazine.net/event/jimmy-carr-2016/2016-09-09/
LOCATION:KGV\, 2 Tin Kwong Road\, Ho Man Tin\, Hong Kong
CATEGORIES:2016,Comedy,Performing Arts
GEO:22.32173;114.183056
X-APPLE-STRUCTURED-LOCATION;VALUE=URI;X-ADDRESS=KGV 2 Tin Kwong Road Ho Man Tin Hong Kong;X-APPLE-RADIUS=500;X-TITLE=2 Tin Kwong Road:geo:114.183056,22.32173
END:VEVENT
BEGIN:VEVENT
DTSTART;TZID=Asia/Hong_Kong:20160908T190000
DTEND;TZID=Asia/Hong_Kong:20160908T190000
DTSTAMP:20260425T020926
CREATED:19160526T144557Z
LAST-MODIFIED:20160823T174613Z
UID:10001647-1473361200-1473361200@www.bcmagazine.net
SUMMARY:Jimmy Carr
DESCRIPTION:Jimmy Carr Funny Business\nDate: 8-9 September\, 2016\nVenue: KG V\nTickets: $888\, $688\, $588\, $488 from HKTicketing\nMore info:\nOriginal August dates rescheduled to September\n24 Aug at 7pm  /  8 Sept at 7pm\n24 Aug at 9pm  /  8 Sept at 9.15pm\n25 Aug at 8pm  /  9 Sept at 8pm
URL:https://www.bcmagazine.net/event/jimmy-carr-2016/2016-09-08/
LOCATION:KGV\, 2 Tin Kwong Road\, Ho Man Tin\, Hong Kong
CATEGORIES:2016,Comedy,Performing Arts
GEO:22.32173;114.183056
X-APPLE-STRUCTURED-LOCATION;VALUE=URI;X-ADDRESS=KGV 2 Tin Kwong Road Ho Man Tin Hong Kong;X-APPLE-RADIUS=500;X-TITLE=2 Tin Kwong Road:geo:114.183056,22.32173
END:VEVENT
BEGIN:VEVENT
DTSTART;TZID=Asia/Hong_Kong:20160308T200000
DTEND;TZID=Asia/Hong_Kong:20160308T200000
DTSTAMP:20260425T020926
CREATED:19160125T104950Z
LAST-MODIFIED:20160202T032627Z
UID:10000302-1457467200-1457467200@www.bcmagazine.net
SUMMARY:Margaret Cho
DESCRIPTION:Margaret Cho – The Psycho Tour\nDate: 8pm\, 8-9 March\, 2016\nVenue: King George V School (KGV)\nTickets: $680\, $580\, $480\, $380
URL:https://www.bcmagazine.net/event/margaret-cho/2016-03-08/
LOCATION:KGV\, 2 Tin Kwong Road\, Ho Man Tin\, Hong Kong
CATEGORIES:2016,Comedy,Performing Arts
GEO:22.32173;114.183056
X-APPLE-STRUCTURED-LOCATION;VALUE=URI;X-ADDRESS=KGV 2 Tin Kwong Road Ho Man Tin Hong Kong;X-APPLE-RADIUS=500;X-TITLE=2 Tin Kwong Road:geo:114.183056,22.32173
END:VEVENT
BEGIN:VEVENT
DTSTART;TZID=Asia/Hong_Kong:20150619T180000
DTEND;TZID=Asia/Hong_Kong:20150619T210000
DTSTAMP:20260425T020926
CREATED:20150609T124107Z
LAST-MODIFIED:20150609T124107Z
UID:10006016-1434736800-1434747600@www.bcmagazine.net
SUMMARY:Lion Rock The Music Festival 2015
DESCRIPTION:  \n \nThe Lion Rock Music Festival is organised by students from King George V School. Featured bands this year are:\nJaded\nThe Charringtons\nThe Pansies\nJames’ Secret\nRifles and Riots\nGlass Onions\nStune\nThe Whales \nLion Rock The Music Festival 2015\nDate: 6pm\, 19 June\, 2015\nVenue: KGV\nTickets: $80 from Ticketflap
URL:https://www.bcmagazine.net/event/lion-rock-the-music-festival-2015/
LOCATION:KGV\, 2 Tin Kwong Road\, Ho Man Tin\, Hong Kong
CATEGORIES:2015,Concert,Music
GEO:22.32173;114.183056
X-APPLE-STRUCTURED-LOCATION;VALUE=URI;X-ADDRESS=KGV 2 Tin Kwong Road Ho Man Tin Hong Kong;X-APPLE-RADIUS=500;X-TITLE=2 Tin Kwong Road:geo:114.183056,22.32173
END:VEVENT
BEGIN:VEVENT
DTSTART;TZID=Asia/Hong_Kong:20150131T163000
DTEND;TZID=Asia/Hong_Kong:20150131T163000
DTSTAMP:20260425T020926
CREATED:20150102T040303Z
LAST-MODIFIED:20150105T231153Z
UID:10005446-1422721800-1422721800@www.bcmagazine.net
SUMMARY:Comvita City Sparkles v Societe Generale Valley Red Ladies XV
DESCRIPTION:Women’s National League 1
URL:https://www.bcmagazine.net/event/comvita-city-sparkles-v-societe-generale-valley-red-ladies-xv-4/
LOCATION:KGV\, 2 Tin Kwong Road\, Ho Man Tin\, Hong Kong
CATEGORIES:Rugby,Sport
GEO:22.32173;114.183056
X-APPLE-STRUCTURED-LOCATION;VALUE=URI;X-ADDRESS=KGV 2 Tin Kwong Road Ho Man Tin Hong Kong;X-APPLE-RADIUS=500;X-TITLE=2 Tin Kwong Road:geo:114.183056,22.32173
END:VEVENT
BEGIN:VEVENT
DTSTART;TZID=Asia/Hong_Kong:20150117T180000
DTEND;TZID=Asia/Hong_Kong:20150117T180000
DTSTAMP:20260425T020926
CREATED:20150102T040302Z
LAST-MODIFIED:20150105T231154Z
UID:10005397-1421517600-1421517600@www.bcmagazine.net
SUMMARY:Borrelli Walsh USRC Tigers v Societe Generale Valley Black Ladies
DESCRIPTION:Women’s Premiership Rugby
URL:https://www.bcmagazine.net/event/borrelli-walsh-usrc-tigers-v-societe-generale-valley-black-ladies/
LOCATION:KGV\, 2 Tin Kwong Road\, Ho Man Tin\, Hong Kong
CATEGORIES:Rugby,Sport
GEO:22.32173;114.183056
X-APPLE-STRUCTURED-LOCATION;VALUE=URI;X-ADDRESS=KGV 2 Tin Kwong Road Ho Man Tin Hong Kong;X-APPLE-RADIUS=500;X-TITLE=2 Tin Kwong Road:geo:114.183056,22.32173
END:VEVENT
BEGIN:VEVENT
DTSTART;TZID=Asia/Hong_Kong:20150117T163000
DTEND;TZID=Asia/Hong_Kong:20150117T163000
DTSTAMP:20260425T020926
CREATED:20150102T040301Z
LAST-MODIFIED:20150105T231211Z
UID:10005396-1421512200-1421512200@www.bcmagazine.net
SUMMARY:Abacus Kowloon Ladies v Gai Wu Ladies
DESCRIPTION:Women’s Premiership Rugby
URL:https://www.bcmagazine.net/event/abacus-kowloon-ladies-v-gai-wu-ladies/
LOCATION:KGV\, 2 Tin Kwong Road\, Ho Man Tin\, Hong Kong
CATEGORIES:Rugby,Sport
GEO:22.32173;114.183056
X-APPLE-STRUCTURED-LOCATION;VALUE=URI;X-ADDRESS=KGV 2 Tin Kwong Road Ho Man Tin Hong Kong;X-APPLE-RADIUS=500;X-TITLE=2 Tin Kwong Road:geo:114.183056,22.32173
END:VEVENT
BEGIN:VEVENT
DTSTART;TZID=Asia/Hong_Kong:20141206T180000
DTEND;TZID=Asia/Hong_Kong:20141206T180000
DTSTAMP:20260425T020926
CREATED:20150102T040303Z
LAST-MODIFIED:20150105T231211Z
UID:10005434-1417888800-1417888800@www.bcmagazine.net
SUMMARY:Revolution SRC Ladies v Leighton Asia HKCC Ladies
DESCRIPTION:Women’s National League 1
URL:https://www.bcmagazine.net/event/revolution-src-ladies-v-leighton-asia-hkcc-ladies/
LOCATION:KGV\, 2 Tin Kwong Road\, Ho Man Tin\, Hong Kong
CATEGORIES:Rugby,Sport
GEO:22.32173;114.183056
X-APPLE-STRUCTURED-LOCATION;VALUE=URI;X-ADDRESS=KGV 2 Tin Kwong Road Ho Man Tin Hong Kong;X-APPLE-RADIUS=500;X-TITLE=2 Tin Kwong Road:geo:114.183056,22.32173
END:VEVENT
BEGIN:VEVENT
DTSTART;TZID=Asia/Hong_Kong:20141206T163000
DTEND;TZID=Asia/Hong_Kong:20141206T163000
DTSTAMP:20260425T020926
CREATED:20150102T040301Z
LAST-MODIFIED:20150105T231211Z
UID:10005391-1417883400-1417883400@www.bcmagazine.net
SUMMARY:Transact24 Taipo Dragon Ladies v Borrelli Walsh USRC Tigers
DESCRIPTION:Women’s Premiership Rugby
URL:https://www.bcmagazine.net/event/transact24-taipo-dragon-ladies-v-borrelli-walsh-usrc-tigers-2/
LOCATION:KGV\, 2 Tin Kwong Road\, Ho Man Tin\, Hong Kong
CATEGORIES:Rugby,Sport
GEO:22.32173;114.183056
X-APPLE-STRUCTURED-LOCATION;VALUE=URI;X-ADDRESS=KGV 2 Tin Kwong Road Ho Man Tin Hong Kong;X-APPLE-RADIUS=500;X-TITLE=2 Tin Kwong Road:geo:114.183056,22.32173
END:VEVENT
BEGIN:VEVENT
DTSTART;TZID=Asia/Hong_Kong:20141129T180000
DTEND;TZID=Asia/Hong_Kong:20141129T180000
DTSTAMP:20260425T020926
CREATED:20150102T040301Z
LAST-MODIFIED:20150105T231235Z
UID:10005389-1417284000-1417284000@www.bcmagazine.net
SUMMARY:Gai Wu Ladies v Societe Generale Valley Black Ladies
DESCRIPTION:Women’s Premiership Rugby
URL:https://www.bcmagazine.net/event/gai-wu-ladies-v-societe-generale-valley-black-ladies-2/
LOCATION:KGV\, 2 Tin Kwong Road\, Ho Man Tin\, Hong Kong
CATEGORIES:Rugby,Sport
GEO:22.32173;114.183056
X-APPLE-STRUCTURED-LOCATION;VALUE=URI;X-ADDRESS=KGV 2 Tin Kwong Road Ho Man Tin Hong Kong;X-APPLE-RADIUS=500;X-TITLE=2 Tin Kwong Road:geo:114.183056,22.32173
END:VEVENT
BEGIN:VEVENT
DTSTART;TZID=Asia/Hong_Kong:20141129T163000
DTEND;TZID=Asia/Hong_Kong:20141129T163000
DTSTAMP:20260425T020926
CREATED:20150102T040305Z
LAST-MODIFIED:20150105T231235Z
UID:10005472-1417278600-1417278600@www.bcmagazine.net
SUMMARY:Gai Wu Ladies X v Natixis HKFC Fire
DESCRIPTION:Women’s National 10s
URL:https://www.bcmagazine.net/event/gai-wu-ladies-x-v-natixis-hkfc-fire/
LOCATION:KGV\, 2 Tin Kwong Road\, Ho Man Tin\, Hong Kong
CATEGORIES:Rugby,Sport
GEO:22.32173;114.183056
X-APPLE-STRUCTURED-LOCATION;VALUE=URI;X-ADDRESS=KGV 2 Tin Kwong Road Ho Man Tin Hong Kong;X-APPLE-RADIUS=500;X-TITLE=2 Tin Kwong Road:geo:114.183056,22.32173
END:VEVENT
BEGIN:VEVENT
DTSTART;TZID=Asia/Hong_Kong:20141122T180000
DTEND;TZID=Asia/Hong_Kong:20141122T180000
DTSTAMP:20260425T020926
CREATED:20150102T040302Z
LAST-MODIFIED:20150105T231235Z
UID:10005425-1416679200-1416679200@www.bcmagazine.net
SUMMARY:Police Sirens v Leighton Asia HKCC Ladies
DESCRIPTION:Women’s National League 1
URL:https://www.bcmagazine.net/event/police-sirens-v-leighton-asia-hkcc-ladies/
LOCATION:KGV\, 2 Tin Kwong Road\, Ho Man Tin\, Hong Kong
CATEGORIES:Rugby,Sport
GEO:22.32173;114.183056
X-APPLE-STRUCTURED-LOCATION;VALUE=URI;X-ADDRESS=KGV 2 Tin Kwong Road Ho Man Tin Hong Kong;X-APPLE-RADIUS=500;X-TITLE=2 Tin Kwong Road:geo:114.183056,22.32173
END:VEVENT
BEGIN:VEVENT
DTSTART;TZID=Asia/Hong_Kong:20141122T163000
DTEND;TZID=Asia/Hong_Kong:20141122T163000
DTSTAMP:20260425T020926
CREATED:20150102T040302Z
LAST-MODIFIED:20150105T231235Z
UID:10005423-1416673800-1416673800@www.bcmagazine.net
SUMMARY:Comvita City Sparkles v Revolution SRC Ladies
DESCRIPTION:Women’s National League 1
URL:https://www.bcmagazine.net/event/comvita-city-sparkles-v-revolution-src-ladies-2/
LOCATION:KGV\, 2 Tin Kwong Road\, Ho Man Tin\, Hong Kong
CATEGORIES:Rugby,Sport
GEO:22.32173;114.183056
X-APPLE-STRUCTURED-LOCATION;VALUE=URI;X-ADDRESS=KGV 2 Tin Kwong Road Ho Man Tin Hong Kong;X-APPLE-RADIUS=500;X-TITLE=2 Tin Kwong Road:geo:114.183056,22.32173
END:VEVENT
BEGIN:VEVENT
DTSTART;TZID=Asia/Hong_Kong:20141108T180000
DTEND;TZID=Asia/Hong_Kong:20141108T180000
DTSTAMP:20260425T020926
CREATED:20150102T040301Z
LAST-MODIFIED:20150105T231251Z
UID:10005383-1415469600-1415469600@www.bcmagazine.net
SUMMARY:SCAA CWB Phoenix v Transact24 Taipo Dragon Ladies
DESCRIPTION:Women’s Premiership Rugby
URL:https://www.bcmagazine.net/event/scaa-cwb-phoenix-v-transact24-taipo-dragon-ladies-2/
LOCATION:KGV\, 2 Tin Kwong Road\, Ho Man Tin\, Hong Kong
CATEGORIES:Rugby,Sport
GEO:22.32173;114.183056
X-APPLE-STRUCTURED-LOCATION;VALUE=URI;X-ADDRESS=KGV 2 Tin Kwong Road Ho Man Tin Hong Kong;X-APPLE-RADIUS=500;X-TITLE=2 Tin Kwong Road:geo:114.183056,22.32173
END:VEVENT
BEGIN:VEVENT
DTSTART;TZID=Asia/Hong_Kong:20141108T163000
DTEND;TZID=Asia/Hong_Kong:20141108T163000
DTSTAMP:20260425T020926
CREATED:20150102T040301Z
LAST-MODIFIED:20150105T231251Z
UID:10005381-1415464200-1415464200@www.bcmagazine.net
SUMMARY:Societe Generale Valley Black Ladies v Borrelli Walsh USRC Tigers
DESCRIPTION:Women’s Premiership Rugby
URL:https://www.bcmagazine.net/event/societe-generale-valley-black-ladies-v-borrelli-walsh-usrc-tigers-2/
LOCATION:KGV\, 2 Tin Kwong Road\, Ho Man Tin\, Hong Kong
CATEGORIES:Rugby,Sport
GEO:22.32173;114.183056
X-APPLE-STRUCTURED-LOCATION;VALUE=URI;X-ADDRESS=KGV 2 Tin Kwong Road Ho Man Tin Hong Kong;X-APPLE-RADIUS=500;X-TITLE=2 Tin Kwong Road:geo:114.183056,22.32173
END:VEVENT
BEGIN:VEVENT
DTSTART;TZID=Asia/Hong_Kong:20141101T180000
DTEND;TZID=Asia/Hong_Kong:20141101T180000
DTSTAMP:20260425T020926
CREATED:20150102T040301Z
LAST-MODIFIED:20150105T231251Z
UID:10005379-1414864800-1414864800@www.bcmagazine.net
SUMMARY:Borrelli Walsh USRC Tigers v Gai Wu Ladies
DESCRIPTION:Women’s Premiership Rugby
URL:https://www.bcmagazine.net/event/borrelli-walsh-usrc-tigers-v-gai-wu-ladies-2/
LOCATION:KGV\, 2 Tin Kwong Road\, Ho Man Tin\, Hong Kong
CATEGORIES:Rugby,Sport
GEO:22.32173;114.183056
X-APPLE-STRUCTURED-LOCATION;VALUE=URI;X-ADDRESS=KGV 2 Tin Kwong Road Ho Man Tin Hong Kong;X-APPLE-RADIUS=500;X-TITLE=2 Tin Kwong Road:geo:114.183056,22.32173
END:VEVENT
BEGIN:VEVENT
DTSTART;TZID=Asia/Hong_Kong:20141101T171500
DTEND;TZID=Asia/Hong_Kong:20141101T171500
DTSTAMP:20260425T020926
CREATED:20150102T040304Z
LAST-MODIFIED:20150105T231251Z
UID:10005440-1414862100-1414862100@www.bcmagazine.net
SUMMARY:DB Pirates Ladies v Abacus Kowloon Ladies X
DESCRIPTION:Women’s National 10s
URL:https://www.bcmagazine.net/event/db-pirates-ladies-v-abacus-kowloon-ladies-x/
LOCATION:KGV\, 2 Tin Kwong Road\, Ho Man Tin\, Hong Kong
CATEGORIES:Rugby,Sport
GEO:22.32173;114.183056
X-APPLE-STRUCTURED-LOCATION;VALUE=URI;X-ADDRESS=KGV 2 Tin Kwong Road Ho Man Tin Hong Kong;X-APPLE-RADIUS=500;X-TITLE=2 Tin Kwong Road:geo:114.183056,22.32173
END:VEVENT
BEGIN:VEVENT
DTSTART;TZID=Asia/Hong_Kong:20141101T163000
DTEND;TZID=Asia/Hong_Kong:20141101T163000
DTSTAMP:20260425T020926
CREATED:20150102T040304Z
LAST-MODIFIED:20150105T231311Z
UID:10005465-1414859400-1414859400@www.bcmagazine.net
SUMMARY:Gai Wu Ladies X v University Ladies
DESCRIPTION:Women’s National 10s
URL:https://www.bcmagazine.net/event/gai-wu-ladies-x-v-university-ladies/
LOCATION:KGV\, 2 Tin Kwong Road\, Ho Man Tin\, Hong Kong
CATEGORIES:Rugby,Sport
GEO:22.32173;114.183056
X-APPLE-STRUCTURED-LOCATION;VALUE=URI;X-ADDRESS=KGV 2 Tin Kwong Road Ho Man Tin Hong Kong;X-APPLE-RADIUS=500;X-TITLE=2 Tin Kwong Road:geo:114.183056,22.32173
END:VEVENT
BEGIN:VEVENT
DTSTART;TZID=Asia/Hong_Kong:20141018T173000
DTEND;TZID=Asia/Hong_Kong:20141018T173000
DTSTAMP:20260425T020926
CREATED:20150102T040304Z
LAST-MODIFIED:20150105T231311Z
UID:10005461-1413653400-1413653400@www.bcmagazine.net
SUMMARY:Borrelli Walsh USRC Tigers X v University Ladies
DESCRIPTION:Women’s National 10s
URL:https://www.bcmagazine.net/event/borrelli-walsh-usrc-tigers-x-v-university-ladies/
LOCATION:KGV\, 2 Tin Kwong Road\, Ho Man Tin\, Hong Kong
CATEGORIES:Rugby,Sport
GEO:22.32173;114.183056
X-APPLE-STRUCTURED-LOCATION;VALUE=URI;X-ADDRESS=KGV 2 Tin Kwong Road Ho Man Tin Hong Kong;X-APPLE-RADIUS=500;X-TITLE=2 Tin Kwong Road:geo:114.183056,22.32173
END:VEVENT
BEGIN:VEVENT
DTSTART;TZID=Asia/Hong_Kong:20141018T163000
DTEND;TZID=Asia/Hong_Kong:20141018T163000
DTSTAMP:20260425T020926
CREATED:20150102T040304Z
LAST-MODIFIED:20150105T231311Z
UID:10005460-1413649800-1413649800@www.bcmagazine.net
SUMMARY:Natixis HKFC Fire v Abacus Kowloon Ladies X
DESCRIPTION:Women’s National 10s
URL:https://www.bcmagazine.net/event/natixis-hkfc-fire-v-abacus-kowloon-ladies-x/
LOCATION:KGV\, 2 Tin Kwong Road\, Ho Man Tin\, Hong Kong
CATEGORIES:Rugby,Sport
GEO:22.32173;114.183056
X-APPLE-STRUCTURED-LOCATION;VALUE=URI;X-ADDRESS=KGV 2 Tin Kwong Road Ho Man Tin Hong Kong;X-APPLE-RADIUS=500;X-TITLE=2 Tin Kwong Road:geo:114.183056,22.32173
END:VEVENT
BEGIN:VEVENT
DTSTART;TZID=Asia/Hong_Kong:20141011T180000
DTEND;TZID=Asia/Hong_Kong:20141011T180000
DTSTAMP:20260425T020926
CREATED:20150102T040302Z
LAST-MODIFIED:20150105T231325Z
UID:10005405-1413050400-1413050400@www.bcmagazine.net
SUMMARY:Leighton Asia HKCC Ladies v Revolution SRC Ladies
DESCRIPTION:Women’s National League 1
URL:https://www.bcmagazine.net/event/leighton-asia-hkcc-ladies-v-revolution-src-ladies/
LOCATION:KGV\, 2 Tin Kwong Road\, Ho Man Tin\, Hong Kong
CATEGORIES:Rugby,Sport
GEO:22.32173;114.183056
X-APPLE-STRUCTURED-LOCATION;VALUE=URI;X-ADDRESS=KGV 2 Tin Kwong Road Ho Man Tin Hong Kong;X-APPLE-RADIUS=500;X-TITLE=2 Tin Kwong Road:geo:114.183056,22.32173
END:VEVENT
BEGIN:VEVENT
DTSTART;TZID=Asia/Hong_Kong:20141011T163000
DTEND;TZID=Asia/Hong_Kong:20141011T163000
DTSTAMP:20260425T020926
CREATED:20150102T040302Z
LAST-MODIFIED:20150105T231325Z
UID:10005402-1413045000-1413045000@www.bcmagazine.net
SUMMARY:Comvita City Sparkles v SCAA CWB Phoenix 2ndXV
DESCRIPTION:Women’s National League 1
URL:https://www.bcmagazine.net/event/comvita-city-sparkles-v-scaa-cwb-phoenix-2ndxv-2/
LOCATION:KGV\, 2 Tin Kwong Road\, Ho Man Tin\, Hong Kong
CATEGORIES:Rugby,Sport
GEO:22.32173;114.183056
X-APPLE-STRUCTURED-LOCATION;VALUE=URI;X-ADDRESS=KGV 2 Tin Kwong Road Ho Man Tin Hong Kong;X-APPLE-RADIUS=500;X-TITLE=2 Tin Kwong Road:geo:114.183056,22.32173
END:VEVENT
BEGIN:VEVENT
DTSTART;TZID=Asia/Hong_Kong:20141004T180000
DTEND;TZID=Asia/Hong_Kong:20141004T180000
DTSTAMP:20260425T020926
CREATED:20150102T040301Z
LAST-MODIFIED:20150105T231325Z
UID:10005369-1412445600-1412445600@www.bcmagazine.net
SUMMARY:Borrelli Walsh USRC Tigers v Abacus Kowloon Ladies
DESCRIPTION:Women’s Premiership Rugby
URL:https://www.bcmagazine.net/event/borrelli-walsh-usrc-tigers-v-abacus-kowloon-ladies-2/
LOCATION:KGV\, 2 Tin Kwong Road\, Ho Man Tin\, Hong Kong
CATEGORIES:Rugby,Sport
GEO:22.32173;114.183056
X-APPLE-STRUCTURED-LOCATION;VALUE=URI;X-ADDRESS=KGV 2 Tin Kwong Road Ho Man Tin Hong Kong;X-APPLE-RADIUS=500;X-TITLE=2 Tin Kwong Road:geo:114.183056,22.32173
END:VEVENT
BEGIN:VEVENT
DTSTART;TZID=Asia/Hong_Kong:20141004T163000
DTEND;TZID=Asia/Hong_Kong:20141004T163000
DTSTAMP:20260425T020926
CREATED:20150102T040303Z
LAST-MODIFIED:20150105T231325Z
UID:10005457-1412440200-1412440200@www.bcmagazine.net
SUMMARY:Abacus Kowloon Ladies X v Borrelli Walsh USRC Tigers X
DESCRIPTION:Women’s National 10s
URL:https://www.bcmagazine.net/event/abacus-kowloon-ladies-x-v-borrelli-walsh-usrc-tigers-x/
LOCATION:KGV\, 2 Tin Kwong Road\, Ho Man Tin\, Hong Kong
CATEGORIES:Rugby,Sport
GEO:22.32173;114.183056
X-APPLE-STRUCTURED-LOCATION;VALUE=URI;X-ADDRESS=KGV 2 Tin Kwong Road Ho Man Tin Hong Kong;X-APPLE-RADIUS=500;X-TITLE=2 Tin Kwong Road:geo:114.183056,22.32173
END:VEVENT
BEGIN:VEVENT
DTSTART;TZID=Asia/Hong_Kong:20141004T163000
DTEND;TZID=Asia/Hong_Kong:20141004T163000
DTSTAMP:20260425T020926
CREATED:20150102T040302Z
LAST-MODIFIED:20150105T231325Z
UID:10005399-1412440200-1412440200@www.bcmagazine.net
SUMMARY:Police Sirens v Comvita City Sparkles
DESCRIPTION:Women’s National League 1
URL:https://www.bcmagazine.net/event/police-sirens-v-comvita-city-sparkles-2/
LOCATION:KGV\, 2 Tin Kwong Road\, Ho Man Tin\, Hong Kong
CATEGORIES:Rugby,Sport
GEO:22.32173;114.183056
X-APPLE-STRUCTURED-LOCATION;VALUE=URI;X-ADDRESS=KGV 2 Tin Kwong Road Ho Man Tin Hong Kong;X-APPLE-RADIUS=500;X-TITLE=2 Tin Kwong Road:geo:114.183056,22.32173
END:VEVENT
END:VCALENDAR