BEGIN:VCALENDAR
VERSION:2.0
PRODID:-//bc magazine - ECPv6.15.20//NONSGML v1.0//EN
CALSCALE:GREGORIAN
METHOD:PUBLISH
X-WR-CALNAME:bc magazine
X-ORIGINAL-URL:https://www.bcmagazine.net
X-WR-CALDESC:Events for bc magazine
REFRESH-INTERVAL;VALUE=DURATION:PT1H
X-Robots-Tag:noindex
X-PUBLISHED-TTL:PT1H
BEGIN:VTIMEZONE
TZID:Asia/Hong_Kong
BEGIN:STANDARD
TZOFFSETFROM:+0800
TZOFFSETTO:+0800
TZNAME:HKT
DTSTART:20150101T000000
END:STANDARD
END:VTIMEZONE
BEGIN:VEVENT
DTSTART;TZID=Asia/Hong_Kong:20170805T193000
DTEND;TZID=Asia/Hong_Kong:20170805T193000
DTSTAMP:20260424T042236
CREATED:19170421T030220Z
LAST-MODIFIED:20170422T153401Z
UID:10002551-1501961400-1501961400@www.bcmagazine.net
SUMMARY:Battle of the Throne
DESCRIPTION:Battle of the Throne\nChinese Opera Festival 2017\nDate: 7:30pm\, 4-5 August\, 2017\nVenue: Ko Shan Theatre\nTickets: $380\, $280\, $200\, $150 from Urbtix
URL:https://www.bcmagazine.net/event/battle-of-the-throne-chinese-opera-festival-2017/2017-08-05/
LOCATION:Ko Shan Theatre\, 77 Ko Shan Road\, Hung Hom\, Hong Kong
CATEGORIES:2017,Chinese opera,Cultural Festival,Music,Performing Arts
GEO:22.3145097;114.1868281
X-APPLE-STRUCTURED-LOCATION;VALUE=URI;X-ADDRESS=Ko Shan Theatre 77 Ko Shan Road Hung Hom Hong Kong;X-APPLE-RADIUS=500;X-TITLE=77 Ko Shan Road:geo:114.1868281,22.3145097
END:VEVENT
BEGIN:VEVENT
DTSTART;TZID=Asia/Hong_Kong:20170804T193000
DTEND;TZID=Asia/Hong_Kong:20170804T193000
DTSTAMP:20260424T042236
CREATED:19170421T030220Z
LAST-MODIFIED:20170422T153401Z
UID:10002550-1501875000-1501875000@www.bcmagazine.net
SUMMARY:Battle of the Throne
DESCRIPTION:Battle of the Throne\nChinese Opera Festival 2017\nDate: 7:30pm\, 4-5 August\, 2017\nVenue: Ko Shan Theatre\nTickets: $380\, $280\, $200\, $150 from Urbtix
URL:https://www.bcmagazine.net/event/battle-of-the-throne-chinese-opera-festival-2017/2017-08-04/
LOCATION:Ko Shan Theatre\, 77 Ko Shan Road\, Hung Hom\, Hong Kong
CATEGORIES:2017,Chinese opera,Cultural Festival,Music,Performing Arts
GEO:22.3145097;114.1868281
X-APPLE-STRUCTURED-LOCATION;VALUE=URI;X-ADDRESS=Ko Shan Theatre 77 Ko Shan Road Hung Hom Hong Kong;X-APPLE-RADIUS=500;X-TITLE=77 Ko Shan Road:geo:114.1868281,22.3145097
END:VEVENT
BEGIN:VEVENT
DTSTART;TZID=Asia/Hong_Kong:20160403T193000
DTEND;TZID=Asia/Hong_Kong:20160403T193000
DTSTAMP:20260424T042236
CREATED:19160107T082542Z
LAST-MODIFIED:20160107T083126Z
UID:10001071-1459711800-1459711800@www.bcmagazine.net
SUMMARY:Chaozhou Opera
DESCRIPTION:Chaozhou Opera\nChaozhou Opera Troupe of Chaozhou City of Guangdong\, Sun Hon Kwong Chiu Chow Opera Troupe\nDate: 7:30pm\, 3 April\, 2016\nVenue: Ko Shan Theatre\nTickets: $200\, $170\, $150\, $120 from Urbtix
URL:https://www.bcmagazine.net/event/chaozhou-opera/
LOCATION:Ko Shan Theatre\, 77 Ko Shan Road\, Hung Hom\, Hong Kong
CATEGORIES:2016,Cantonese Opera,Performing Arts
GEO:22.3145097;114.1868281
X-APPLE-STRUCTURED-LOCATION;VALUE=URI;X-ADDRESS=Ko Shan Theatre 77 Ko Shan Road Hung Hom Hong Kong;X-APPLE-RADIUS=500;X-TITLE=77 Ko Shan Road:geo:114.1868281,22.3145097
END:VEVENT
BEGIN:VEVENT
DTSTART;TZID=Asia/Hong_Kong:20160217T193000
DTEND;TZID=Asia/Hong_Kong:20160217T193000
DTSTAMP:20260424T042236
CREATED:19160107T091052Z
LAST-MODIFIED:20160107T091408Z
UID:10000292-1455737400-1455737400@www.bcmagazine.net
SUMMARY:Cantonese Opera
DESCRIPTION:Cantonese Opera\nBright Sing Cantonese Opera Troupe\nDate: 17-21 February\, 2016\nVenue: Ko Shan Theatre\nTickets: $350\, $280\, $220\, $160\, $120 from Urbtix
URL:https://www.bcmagazine.net/event/cantonese-opera-8/2016-02-17/
LOCATION:Ko Shan Theatre\, 77 Ko Shan Road\, Hung Hom\, Hong Kong
CATEGORIES:2016,Cantonese Opera,Performing Arts
GEO:22.3145097;114.1868281
X-APPLE-STRUCTURED-LOCATION;VALUE=URI;X-ADDRESS=Ko Shan Theatre 77 Ko Shan Road Hung Hom Hong Kong;X-APPLE-RADIUS=500;X-TITLE=77 Ko Shan Road:geo:114.1868281,22.3145097
END:VEVENT
BEGIN:VEVENT
DTSTART;TZID=Asia/Hong_Kong:20160214T141500
DTEND;TZID=Asia/Hong_Kong:20160214T170000
DTSTAMP:20260424T042236
CREATED:19160107T090752Z
LAST-MODIFIED:20160107T090935Z
UID:10000294-1455459300-1455469200@www.bcmagazine.net
SUMMARY:Cantonese Opera
DESCRIPTION:Cantonese Opera\nChoi Fung Cheung Opera Troupe\nDate: 2:15pm\, 14 February\, 2016\nVenue: Ko Shan Theatre\nTickets: $160\, $100\, $50 from Urbtix
URL:https://www.bcmagazine.net/event/cantonese-opera-7/
LOCATION:Ko Shan Theatre\, 77 Ko Shan Road\, Hung Hom\, Hong Kong
CATEGORIES:2016,Cantonese Opera,Performing Arts
GEO:22.3145097;114.1868281
X-APPLE-STRUCTURED-LOCATION;VALUE=URI;X-ADDRESS=Ko Shan Theatre 77 Ko Shan Road Hung Hom Hong Kong;X-APPLE-RADIUS=500;X-TITLE=77 Ko Shan Road:geo:114.1868281,22.3145097
END:VEVENT
BEGIN:VEVENT
DTSTART;TZID=Asia/Hong_Kong:20160208T193000
DTEND;TZID=Asia/Hong_Kong:20160208T193000
DTSTAMP:20260424T042236
CREATED:19160107T090250Z
LAST-MODIFIED:20160107T090711Z
UID:10000295-1454959800-1454959800@www.bcmagazine.net
SUMMARY:Cantonese Opera
DESCRIPTION:Cantonese Opera\nCanto Op\nDate: 7:30pm\, 8-10 February\, 2016\nVenue: Ko Shan Theatre\nTickets: $300\, $220\, $160\, $100 from Urbtix\nMore info:\n8-9 February – 7:30pm\n10 February – 2:15pm
URL:https://www.bcmagazine.net/event/cantonese-opera-canto-op-2016/2016-02-08/
LOCATION:Ko Shan Theatre\, 77 Ko Shan Road\, Hung Hom\, Hong Kong
CATEGORIES:2016,Cantonese Opera,Performing Arts
GEO:22.3145097;114.1868281
X-APPLE-STRUCTURED-LOCATION;VALUE=URI;X-ADDRESS=Ko Shan Theatre 77 Ko Shan Road Hung Hom Hong Kong;X-APPLE-RADIUS=500;X-TITLE=77 Ko Shan Road:geo:114.1868281,22.3145097
END:VEVENT
BEGIN:VEVENT
DTSTART;TZID=Asia/Hong_Kong:20160204T193000
DTEND;TZID=Asia/Hong_Kong:20160204T193000
DTSTAMP:20260424T042236
CREATED:19160107T090034Z
LAST-MODIFIED:20160107T090231Z
UID:10000283-1454614200-1454614200@www.bcmagazine.net
SUMMARY:Cantonese Opera
DESCRIPTION:Cantonese Opera\nYoung Artists Cantonese Opera Association\nDate: 7:30pm\, 3-4 February\, 2016\nVenue: Ko Shan Theatre\nTickets: $360\, $280\, $220\, $180\, $140 from Urbtix
URL:https://www.bcmagazine.net/event/cantonese-opera-6/2016-02-04/
LOCATION:Ko Shan Theatre\, 77 Ko Shan Road\, Hung Hom\, Hong Kong
CATEGORIES:2016,Cantonese Opera,Performing Arts
GEO:22.3145097;114.1868281
X-APPLE-STRUCTURED-LOCATION;VALUE=URI;X-ADDRESS=Ko Shan Theatre 77 Ko Shan Road Hung Hom Hong Kong;X-APPLE-RADIUS=500;X-TITLE=77 Ko Shan Road:geo:114.1868281,22.3145097
END:VEVENT
BEGIN:VEVENT
DTSTART;TZID=Asia/Hong_Kong:20160203T193000
DTEND;TZID=Asia/Hong_Kong:20160203T193000
DTSTAMP:20260424T042236
CREATED:19160107T090034Z
LAST-MODIFIED:20160107T090231Z
UID:10000282-1454527800-1454527800@www.bcmagazine.net
SUMMARY:Cantonese Opera
DESCRIPTION:Cantonese Opera\nYoung Artists Cantonese Opera Association\nDate: 7:30pm\, 3-4 February\, 2016\nVenue: Ko Shan Theatre\nTickets: $360\, $280\, $220\, $180\, $140 from Urbtix
URL:https://www.bcmagazine.net/event/cantonese-opera-6/2016-02-03/
LOCATION:Ko Shan Theatre\, 77 Ko Shan Road\, Hung Hom\, Hong Kong
CATEGORIES:2016,Cantonese Opera,Performing Arts
GEO:22.3145097;114.1868281
X-APPLE-STRUCTURED-LOCATION;VALUE=URI;X-ADDRESS=Ko Shan Theatre 77 Ko Shan Road Hung Hom Hong Kong;X-APPLE-RADIUS=500;X-TITLE=77 Ko Shan Road:geo:114.1868281,22.3145097
END:VEVENT
END:VCALENDAR