BEGIN:VCALENDAR
VERSION:2.0
PRODID:-//bc magazine - ECPv6.15.20//NONSGML v1.0//EN
CALSCALE:GREGORIAN
METHOD:PUBLISH
X-ORIGINAL-URL:https://www.bcmagazine.net
X-WR-CALDESC:Events for bc magazine
REFRESH-INTERVAL;VALUE=DURATION:PT1H
X-Robots-Tag:noindex
X-PUBLISHED-TTL:PT1H
BEGIN:VTIMEZONE
TZID:Asia/Hong_Kong
BEGIN:STANDARD
TZOFFSETFROM:+0800
TZOFFSETTO:+0800
TZNAME:HKT
DTSTART:20170101T000000
END:STANDARD
END:VTIMEZONE
BEGIN:VEVENT
DTSTART;TZID=Asia/Hong_Kong:20181103T220000
DTEND;TZID=Asia/Hong_Kong:20181103T220000
DTSTAMP:20260421T190059
CREATED:19181020T145036Z
LAST-MODIFIED:20181029T024743Z
UID:10004493-1541282400-1541282400@www.bcmagazine.net
SUMMARY:Jungle Boogie
DESCRIPTION:Jungle Boogie\nDate: 8-9 December\, 2018\nVenue: Lamma Jungle\nTickets: tbc
URL:https://www.bcmagazine.net/event/jungle-boogie-2018/
LOCATION:Lamma\, Hong Kong
CATEGORIES:2018,Concert,Music,Performing Arts
ATTACH;FMTTYPE=image/jpeg:https://www.bcmagazine.net/wp-content/uploads/1918/10/jungle-boogie-2018.jpg
END:VEVENT
END:VCALENDAR