BEGIN:VCALENDAR
VERSION:2.0
PRODID:-//bc magazine - ECPv6.15.20//NONSGML v1.0//EN
CALSCALE:GREGORIAN
METHOD:PUBLISH
X-WR-CALNAME:bc magazine
X-ORIGINAL-URL:https://www.bcmagazine.net
X-WR-CALDESC:Events for bc magazine
REFRESH-INTERVAL;VALUE=DURATION:PT1H
X-Robots-Tag:noindex
X-PUBLISHED-TTL:PT1H
BEGIN:VTIMEZONE
TZID:Asia/Hong_Kong
BEGIN:STANDARD
TZOFFSETFROM:+0800
TZOFFSETTO:+0800
TZNAME:HKT
DTSTART:20150101T000000
END:STANDARD
END:VTIMEZONE
BEGIN:VEVENT
DTSTART;VALUE=DATE:20161126
DTEND;VALUE=DATE:20161128
DTSTAMP:20260425T182942
CREATED:19161019T152946Z
LAST-MODIFIED:20161019T153902Z
UID:10002289-1480118400-1480291199@www.bcmagazine.net
SUMMARY:QRE Carnival
DESCRIPTION:QRE Carnival\nWhen: 26-27 November\, 2016\nWhere: QRE\, The East\nHow much: tbc
URL:https://www.bcmagazine.net/event/qre-carnival-nov-2016/
LOCATION:Lee Tung Avenue\, Wanchai\, Hong Kong
CATEGORIES:2016,Food,Nightlife
GEO:22.2783151;114.174695
END:VEVENT
BEGIN:VEVENT
DTSTART;TZID=Asia/Hong_Kong:20161119T140000
DTEND;TZID=Asia/Hong_Kong:20161119T170000
DTSTAMP:20260425T182942
CREATED:19161019T153944Z
LAST-MODIFIED:20161019T154328Z
UID:10002290-1479564000-1479574800@www.bcmagazine.net
SUMMARY:QRE Wine & Whisky Walk
DESCRIPTION:QRE Wine & Whisky Walk\nWhen: 2pm\, 19-20 November\, 2016\nWhere: QRE\, The East\nHow much: $238
URL:https://www.bcmagazine.net/event/qre-wine-whisky-walk-2016/
LOCATION:Lee Tung Avenue\, Wanchai\, Hong Kong
CATEGORIES:2016,Food,Nightlife
GEO:22.2783151;114.174695
END:VEVENT
BEGIN:VEVENT
DTSTART;VALUE=DATE:20161110
DTEND;VALUE=DATE:20161114
DTSTAMP:20260425T182942
CREATED:19161019T154349Z
LAST-MODIFIED:20161019T154800Z
UID:10000908-1478736000-1479081599@www.bcmagazine.net
SUMMARY:QRE Festival
DESCRIPTION:QRE Festival\nWhen: 10-13 November\, 2016\nWhere: QRE\, The East\nHow much: tbc
URL:https://www.bcmagazine.net/event/qre-festival-2016/
LOCATION:Lee Tung Avenue\, Wanchai\, Hong Kong
CATEGORIES:2016,Food,Nightlife
GEO:22.2783151;114.174695
END:VEVENT
BEGIN:VEVENT
DTSTART;TZID=Asia/Hong_Kong:20160618T140000
DTEND;TZID=Asia/Hong_Kong:20160618T210000
DTSTAMP:20260425T182942
CREATED:19160508T110424Z
LAST-MODIFIED:20160508T110713Z
UID:10001605-1466258400-1466283600@www.bcmagazine.net
SUMMARY:World Music Day in Wanchai
DESCRIPTION:World Music Day in Wanchai\nDate: 2-9pm\, 18 June\, 2016\nVenue: Lee Tung Avenue and the Open Piazza\, Hopewell Center\, Wanchai\nTickets: Free
URL:https://www.bcmagazine.net/event/world-music-day-in-wanchai-2016/
LOCATION:Lee Tung Avenue\, Wanchai\, Hong Kong
CATEGORIES:2016,Concert,Free,Music
GEO:22.2783151;114.174695
END:VEVENT
BEGIN:VEVENT
DTSTART;TZID=Asia/Hong_Kong:20160611T143000
DTEND;TZID=Asia/Hong_Kong:20160611T180000
DTSTAMP:20260425T182942
CREATED:20160517T112957Z
LAST-MODIFIED:20160519T072334Z
UID:10006111-1465655400-1465668000@www.bcmagazine.net
SUMMARY:Wanchai Wine Walk
DESCRIPTION:Enjoy Free wine\, champagne\, whisky and craft beer while strolling around 30+ Wanchai bars and restaurants.\nRegistration is full \nThe participating outlets are:\nO’Phillie’s Bar & Grill\, Santorini Greek Taverna\, La Cucina Italiana\, MyHouse\, Han Ga Ram Korean Cuisine\, KIMAKI Japanese Restaurant\, Mahalo Tiki Lounge\, Tesla\, iBakery\, Inifiniti Showroom\, Venchi\, Gilman (Vinvautz)\, King Ludwig Beerhall\, Green Common\, sensory ZERO\, Vive Cake\, Gong Fu Tea House\, GaZ Accessories\, Silversmith\, Hay\, La Bo La\, H2 Cards\, Moleskine\, Passion\, Vivienne Tam\, Hei House\, The Elephant\, Florte\, Le Pain Quotidien \nWanchai Wine Walk & Music Stroll\nDate: 2:30-6pm\, 11 June\, 2016\nVenue: Lee Tung Avenue and The East\nTickets: Free
URL:https://www.bcmagazine.net/event/wanchai-wine-walk-2016/
LOCATION:Lee Tung Avenue\, Wanchai\, Hong Kong
CATEGORIES:2016,Food,Free,Music
GEO:22.2783151;114.174695
END:VEVENT
END:VCALENDAR