BEGIN:VCALENDAR
VERSION:2.0
PRODID:-//bc magazine - ECPv6.15.20//NONSGML v1.0//EN
CALSCALE:GREGORIAN
METHOD:PUBLISH
X-WR-CALNAME:bc magazine
X-ORIGINAL-URL:https://www.bcmagazine.net
X-WR-CALDESC:Events for bc magazine
REFRESH-INTERVAL;VALUE=DURATION:PT1H
X-Robots-Tag:noindex
X-PUBLISHED-TTL:PT1H
BEGIN:VTIMEZONE
TZID:Asia/Hong_Kong
BEGIN:STANDARD
TZOFFSETFROM:+0800
TZOFFSETTO:+0800
TZNAME:HKT
DTSTART:20140101T000000
END:STANDARD
END:VTIMEZONE
BEGIN:VEVENT
DTSTART;TZID=Asia/Hong_Kong:20180415T200000
DTEND;TZID=Asia/Hong_Kong:20180415T200000
DTSTAMP:20260426T030256
CREATED:19180303T082231Z
LAST-MODIFIED:20180303T112243Z
UID:10003890-1523822400-1523822400@www.bcmagazine.net
SUMMARY:Cheong Hip Sang
DESCRIPTION:Cheong Hip Sang Piano Recital\n Date: 8pm 15 April\, 2018\nVenue: Macau Cultural Centre\, Small Auditorium\nTickets: $100\, $80 from Macau Ticket
URL:https://www.bcmagazine.net/event/cheong-hip-sang-macau-2018/
LOCATION:Macao Cultural Centre\, Small Auditorium\, Macau
CATEGORIES:2018,Concert,Macau,Music,Performing Arts,Theatre
END:VEVENT
BEGIN:VEVENT
DTSTART;TZID=Asia/Hong_Kong:20180401T150000
DTEND;TZID=Asia/Hong_Kong:20180401T150000
DTSTAMP:20260426T030256
CREATED:19180303T082231Z
LAST-MODIFIED:20180303T112013Z
UID:10003889-1522594800-1522594800@www.bcmagazine.net
SUMMARY:Guess How Much I Love You
DESCRIPTION:Guess How Much I Love You\n Date: 30 March – 1 April\, 2018\nVenue: Macau Cultural Centre\, Small Auditorium\nTickets: $180 from Macau Ticket\nMore info:\n30 March – 3pm\, 7:30pm\n31 March – 3pm\n1 April – 11am\, 3pm
URL:https://www.bcmagazine.net/event/guess-how-much-i-love-you-macau-01-04-2018/
LOCATION:Macao Cultural Centre\, Small Auditorium\, Macau
CATEGORIES:2018,Concert,Macau,Music,Performing Arts,Theatre
END:VEVENT
BEGIN:VEVENT
DTSTART;TZID=Asia/Hong_Kong:20180331T150000
DTEND;TZID=Asia/Hong_Kong:20180331T150000
DTSTAMP:20260426T030256
CREATED:19180303T082231Z
LAST-MODIFIED:20180303T112002Z
UID:10003888-1522508400-1522508400@www.bcmagazine.net
SUMMARY:Guess How Much I Love You
DESCRIPTION:Guess How Much I Love You\n Date: 30 March – 1 April\, 2018\nVenue: Macau Cultural Centre\, Small Auditorium\nTickets: $180 from Macau Ticket\nMore info:\n30 March – 3pm\, 7:30pm\n31 March – 3pm\n1 April – 11am\, 3pm
URL:https://www.bcmagazine.net/event/guess-how-much-i-love-you-macau-31-03-2018/
LOCATION:Macao Cultural Centre\, Small Auditorium\, Macau
CATEGORIES:2018,Concert,Macau,Music,Performing Arts,Theatre
END:VEVENT
BEGIN:VEVENT
DTSTART;TZID=Asia/Hong_Kong:20180330T193000
DTEND;TZID=Asia/Hong_Kong:20180330T193000
DTSTAMP:20260426T030257
CREATED:19180303T082231Z
LAST-MODIFIED:20180303T111757Z
UID:10003887-1522438200-1522438200@www.bcmagazine.net
SUMMARY:Guess How Much I Love You
DESCRIPTION:Guess How Much I Love You\n Date: 30 March – 1 April\, 2018\nVenue: Macau Cultural Centre\, Small Auditorium\nTickets: $180 from Macau Ticket\nMore info:\n30 March – 3pm\, 7:30pm\n31 March – 3pm\n1 April – 11am\, 3pm
URL:https://www.bcmagazine.net/event/guess-how-much-i-love-you-macau-30-03-2018/
LOCATION:Macao Cultural Centre\, Small Auditorium\, Macau
CATEGORIES:2018,Concert,Macau,Music,Performing Arts,Theatre
END:VEVENT
BEGIN:VEVENT
DTSTART;TZID=Asia/Hong_Kong:20180325T200000
DTEND;TZID=Asia/Hong_Kong:20180325T200000
DTSTAMP:20260426T030257
CREATED:19180303T082231Z
LAST-MODIFIED:20180303T113153Z
UID:10003893-1522008000-1522008000@www.bcmagazine.net
SUMMARY:The Agitation of The Earth Percussion Ensemble
DESCRIPTION:The Agitation of The Earth Percussion Ensemble\n Date: 8pm\, 25 March\, 2018\nVenue: Macau Cultural Centre\, Small Auditorium\nTickets: $120 from Macau Ticket
URL:https://www.bcmagazine.net/event/the-agitation-of-the-earth-percussion-ensemble/
LOCATION:Macao Cultural Centre\, Small Auditorium\, Macau
CATEGORIES:2018,Concert,Macau,Music,Performing Arts
END:VEVENT
BEGIN:VEVENT
DTSTART;TZID=Asia/Hong_Kong:20180317T200000
DTEND;TZID=Asia/Hong_Kong:20180317T200000
DTSTAMP:20260426T030257
CREATED:19180303T082231Z
LAST-MODIFIED:20180303T113542Z
UID:10003895-1521316800-1521316800@www.bcmagazine.net
SUMMARY:Sing a Song of Mine
DESCRIPTION:Sing a Song of Mine\n Date: 8pm\, 16-17 March\, 2018\nVenue: Macau Cultural Centre\, Small Auditorium\nTickets: $120 from Macau Ticket
URL:https://www.bcmagazine.net/event/sing-a-song-of-mine-macau-17-03-2018/
LOCATION:Macao Cultural Centre\, Small Auditorium\, Macau
CATEGORIES:2018,Concert,Macau,Music,Performing Arts
END:VEVENT
BEGIN:VEVENT
DTSTART;TZID=Asia/Hong_Kong:20180316T200000
DTEND;TZID=Asia/Hong_Kong:20180316T200000
DTSTAMP:20260426T030257
CREATED:19180303T082231Z
LAST-MODIFIED:20180303T113350Z
UID:10003894-1521230400-1521230400@www.bcmagazine.net
SUMMARY:Sing a Song of Mine
DESCRIPTION:Sing a Song of Mine\n Date: 8pm\, 16-17 March\, 2018\nVenue: Macau Cultural Centre\, Small Auditorium\nTickets: $120 from Macau Ticket
URL:https://www.bcmagazine.net/event/sing-a-song-of-mine-macau-16-03-2018/
LOCATION:Macao Cultural Centre\, Small Auditorium\, Macau
CATEGORIES:2018,Concert,Macau,Music,Performing Arts
END:VEVENT
BEGIN:VEVENT
DTSTART;TZID=Asia/Hong_Kong:20170304T193000
DTEND;TZID=Asia/Hong_Kong:20170304T193000
DTSTAMP:20260426T030257
CREATED:19161228T143707Z
LAST-MODIFIED:20161228T144032Z
UID:10001059-1488655800-1488655800@www.bcmagazine.net
SUMMARY:Macao Youth Symphony Orchestra
DESCRIPTION:Macao Youth Symphony Orchestra\nDate: 7:30pm\, 4 March\, 2017\nVenue: Macau Cultural Centre\, Small Auditorium\nTickets: $70 from MacauTicket
URL:https://www.bcmagazine.net/event/macao-youth-symphony-orchestra-04-03-2017/
LOCATION:Macao Cultural Centre\, Small Auditorium\, Macau
CATEGORIES:2017,Concert,Macau,Music
END:VEVENT
BEGIN:VEVENT
DTSTART;TZID=Asia/Hong_Kong:20170218T200000
DTEND;TZID=Asia/Hong_Kong:20170218T200000
DTSTAMP:20260426T030257
CREATED:19161228T133142Z
LAST-MODIFIED:20161228T133652Z
UID:10002421-1487448000-1487448000@www.bcmagazine.net
SUMMARY:Echoes of Our Times
DESCRIPTION:Echoes of Our Times\nOpen Box 2017\, Chan Si Kei\, Chan Chi Cheng\, Chi Po Hao\nDate: 8pm\, 18-19 February\, 2017\nVenue: Macau Cultural Centre\, Small Auditorium\nTickets: $120 from MacauTicket
URL:https://www.bcmagazine.net/event/echoes-of-our-times-open-box-2017/2017-02-18/
LOCATION:Macao Cultural Centre\, Small Auditorium\, Macau
CATEGORIES:2017,Cultural Festival,Macau,Performing Arts
END:VEVENT
BEGIN:VEVENT
DTSTART;TZID=Asia/Hong_Kong:20170210T200000
DTEND;TZID=Asia/Hong_Kong:20170210T200000
DTSTAMP:20260426T030257
CREATED:19161228T133142Z
LAST-MODIFIED:20161228T134753Z
UID:10002422-1486756800-1486756800@www.bcmagazine.net
SUMMARY:Idiot
DESCRIPTION:Idiot\nOpen Box 2017\, Joyce Chan\nDate: 8pm\, 10-11 February\, 2017\nVenue: Macau Cultural Centre\, Small Auditorium\nTickets: $120 from MacauTicket
URL:https://www.bcmagazine.net/event/idiot-open-box-2017/2017-02-10/
LOCATION:Macao Cultural Centre\, Small Auditorium\, Macau
CATEGORIES:2017,Cultural Festival,Macau,Performing Arts
END:VEVENT
BEGIN:VEVENT
DTSTART;TZID=Asia/Hong_Kong:20170121T200000
DTEND;TZID=Asia/Hong_Kong:20170121T200000
DTSTAMP:20260426T030257
CREATED:19161228T135248Z
LAST-MODIFIED:20161228T135523Z
UID:10002424-1485028800-1485028800@www.bcmagazine.net
SUMMARY:菜農合唱團音樂會
DESCRIPTION:菜農合唱團音樂會\nDate: 8pm\, 21 January\, 2017\nVenue: Macau Cultural Centre\, Small Auditorium\nTickets: $50
URL:https://www.bcmagazine.net/event/%e8%8f%9c%e8%be%b2%e5%90%88%e5%94%b1%e5%9c%98%e9%9f%b3%e6%a8%82%e6%9c%83-21-01-2016/
LOCATION:Macao Cultural Centre\, Small Auditorium\, Macau
CATEGORIES:2017,Concert,Macau,Music,Performing Arts
END:VEVENT
BEGIN:VEVENT
DTSTART;TZID=Asia/Hong_Kong:20170108T200000
DTEND;TZID=Asia/Hong_Kong:20170108T200000
DTSTAMP:20260426T030257
CREATED:19161228T135248Z
LAST-MODIFIED:20161228T135722Z
UID:10002425-1483905600-1483905600@www.bcmagazine.net
SUMMARY:歌韻琴聲音樂會
DESCRIPTION:歌韻琴聲音樂會\nDate: 8pm\, 8 January\, 2017\nVenue: Macau Cultural Centre\, Small Auditorium\nTickets: Free
URL:https://www.bcmagazine.net/event/%e6%ad%8c%e9%9f%bb%e7%90%b4%e8%81%b2%e9%9f%b3%e6%a8%82%e6%9c%83-8-01-2017/
LOCATION:Macao Cultural Centre\, Small Auditorium\, Macau
CATEGORIES:2017,Concert,Macau,Music,Performing Arts
END:VEVENT
BEGIN:VEVENT
DTSTART;TZID=Asia/Hong_Kong:20170107T200000
DTEND;TZID=Asia/Hong_Kong:20170107T200000
DTSTAMP:20260426T030257
CREATED:19161228T135248Z
LAST-MODIFIED:20161228T135933Z
UID:10001048-1483819200-1483819200@www.bcmagazine.net
SUMMARY:San San Arts Association of Macau
DESCRIPTION:San San Arts Association of Macau\nDate: 8pm\, 7 January\, 2017\nVenue: Macau Cultural Centre\, Small Auditorium\nTickets: $120
URL:https://www.bcmagazine.net/event/san-san-arts-association-of-macau-07-01-2017/
LOCATION:Macao Cultural Centre\, Small Auditorium\, Macau
CATEGORIES:2017,Concert,Macau,Music,Performing Arts
END:VEVENT
BEGIN:VEVENT
DTSTART;TZID=Asia/Hong_Kong:20170104T200000
DTEND;TZID=Asia/Hong_Kong:20170104T200000
DTSTAMP:20260426T030257
CREATED:19161228T135248Z
LAST-MODIFIED:20161228T140156Z
UID:10001049-1483560000-1483560000@www.bcmagazine.net
SUMMARY:The Art Of Magic 4.0
DESCRIPTION:The Art Of Magic 4.0\nMacau International Magician Association\nDate: 8pm\, 4 January\, 2017\nVenue: Macau Cultural Centre\, Small Auditorium\nTickets: $80
URL:https://www.bcmagazine.net/event/the-art-of-magic-4-0/
LOCATION:Macao Cultural Centre\, Small Auditorium\, Macau
CATEGORIES:2017,Macau,Performing Arts
END:VEVENT
BEGIN:VEVENT
DTSTART;TZID=Asia/Hong_Kong:20170101T170000
DTEND;TZID=Asia/Hong_Kong:20170101T170000
DTSTAMP:20260426T030257
CREATED:19161228T135248Z
LAST-MODIFIED:20161228T140754Z
UID:10001056-1483290000-1483290000@www.bcmagazine.net
SUMMARY:Three Colours
DESCRIPTION:Three Colours\nNorwich Puppet Theatre\nDate: 30 December – 1 January\, 2017\nVenue: Macau Cultural Centre\, Small Auditorium\nTickets: $180\nMore info:\n30 Dec – 5pm\, 7:30pm\n31 Dec-1 Jan – 11am\, 3pm\, 5pm\,
URL:https://www.bcmagazine.net/event/three-colours-norwich-puppet-theatre/2017-01-01/
LOCATION:Macao Cultural Centre\, Small Auditorium\, Macau
CATEGORIES:2017,Macau,Performing Arts,Theatre
END:VEVENT
BEGIN:VEVENT
DTSTART;TZID=Asia/Hong_Kong:20161231T170000
DTEND;TZID=Asia/Hong_Kong:20161231T170000
DTSTAMP:20260426T030257
CREATED:19161228T135248Z
LAST-MODIFIED:20161228T140754Z
UID:10001055-1483203600-1483203600@www.bcmagazine.net
SUMMARY:Three Colours
DESCRIPTION:Three Colours\nNorwich Puppet Theatre\nDate: 30 December – 1 January\, 2017\nVenue: Macau Cultural Centre\, Small Auditorium\nTickets: $180\nMore info:\n30 Dec – 5pm\, 7:30pm\n31 Dec-1 Jan – 11am\, 3pm\, 5pm\,
URL:https://www.bcmagazine.net/event/three-colours-norwich-puppet-theatre/2016-12-31/
LOCATION:Macao Cultural Centre\, Small Auditorium\, Macau
CATEGORIES:2017,Macau,Performing Arts,Theatre
END:VEVENT
BEGIN:VEVENT
DTSTART;TZID=Asia/Hong_Kong:20161230T170000
DTEND;TZID=Asia/Hong_Kong:20161230T170000
DTSTAMP:20260426T030257
CREATED:19161228T135248Z
LAST-MODIFIED:20161228T140754Z
UID:10001054-1483117200-1483117200@www.bcmagazine.net
SUMMARY:Three Colours
DESCRIPTION:Three Colours\nNorwich Puppet Theatre\nDate: 30 December – 1 January\, 2017\nVenue: Macau Cultural Centre\, Small Auditorium\nTickets: $180\nMore info:\n30 Dec – 5pm\, 7:30pm\n31 Dec-1 Jan – 11am\, 3pm\, 5pm\,
URL:https://www.bcmagazine.net/event/three-colours-norwich-puppet-theatre/2016-12-30/
LOCATION:Macao Cultural Centre\, Small Auditorium\, Macau
CATEGORIES:2017,Macau,Performing Arts,Theatre
END:VEVENT
BEGIN:VEVENT
DTSTART;TZID=Asia/Hong_Kong:20161203T200000
DTEND;TZID=Asia/Hong_Kong:20161203T200000
DTSTAMP:20260426T030257
CREATED:19161119T144056Z
LAST-MODIFIED:20161119T145146Z
UID:10000988-1480795200-1480795200@www.bcmagazine.net
SUMMARY:Picnic in the Cemetery
DESCRIPTION:A picnic in a cemetery? Perhaps not the most obvious choice. But why not? We are all heading there eventually anyway. Though by then\, whether we can actually enjoy a picnic remains the greatest mystery\, so why not enjoy it now? \nAt once romantic\, filmic\, visceral\, and nostalgic\, this first-ever Macau original concert-theatre received a five stars review from British Theatre Guide during its run at the Edinburgh Fringe Festival\, citing it as a “must experience” show. This new 2016 version at the Macau Cultural Centre with new staging and additional music promises to offer to the audience another “euphoric assault on the senses”. \nPicnic in the Cemetery\nWhen: 2-3 December\, 2016\nWhere: Macau Cultural Centre\, Small Auditorium\nHow much: $180 from MacauTicket
URL:https://www.bcmagazine.net/event/picnic-in-a-cemetery/2016-12-03/
LOCATION:Macao Cultural Centre\, Small Auditorium\, Macau
CATEGORIES:2016,Macau,Performing Arts,Theatre
END:VEVENT
BEGIN:VEVENT
DTSTART;TZID=Asia/Hong_Kong:20161202T200000
DTEND;TZID=Asia/Hong_Kong:20161202T200000
DTSTAMP:20260426T030257
CREATED:19161119T144056Z
LAST-MODIFIED:20161119T145146Z
UID:10000987-1480708800-1480708800@www.bcmagazine.net
SUMMARY:Picnic in the Cemetery
DESCRIPTION:A picnic in a cemetery? Perhaps not the most obvious choice. But why not? We are all heading there eventually anyway. Though by then\, whether we can actually enjoy a picnic remains the greatest mystery\, so why not enjoy it now? \nAt once romantic\, filmic\, visceral\, and nostalgic\, this first-ever Macau original concert-theatre received a five stars review from British Theatre Guide during its run at the Edinburgh Fringe Festival\, citing it as a “must experience” show. This new 2016 version at the Macau Cultural Centre with new staging and additional music promises to offer to the audience another “euphoric assault on the senses”. \nPicnic in the Cemetery\nWhen: 2-3 December\, 2016\nWhere: Macau Cultural Centre\, Small Auditorium\nHow much: $180 from MacauTicket
URL:https://www.bcmagazine.net/event/picnic-in-a-cemetery/2016-12-02/
LOCATION:Macao Cultural Centre\, Small Auditorium\, Macau
CATEGORIES:2016,Macau,Performing Arts,Theatre
END:VEVENT
BEGIN:VEVENT
DTSTART;TZID=Asia/Hong_Kong:20160220T213000
DTEND;TZID=Asia/Hong_Kong:20160220T213000
DTSTAMP:20260426T030257
CREATED:19151213T123019Z
LAST-MODIFIED:20151213T123433Z
UID:10000930-1456003800-1456003800@www.bcmagazine.net
SUMMARY:Weaving Landscarpe
DESCRIPTION:Open Box: Weaving Landscarpe\nThe Stone Commune\nDate: 9:30pm\, 19-20 February\, 2016\nVenue: Macao Cultural Centre\, Small Auditorium\nTickets: MOP$120 from MacauTicket
URL:https://www.bcmagazine.net/event/weaving-landscarpe/2016-02-20/
LOCATION:Macao Cultural Centre\, Small Auditorium\, Macau
CATEGORIES:2016,Macau,Performing Arts,Theatre
END:VEVENT
BEGIN:VEVENT
DTSTART;TZID=Asia/Hong_Kong:20160219T213000
DTEND;TZID=Asia/Hong_Kong:20160219T213000
DTSTAMP:20260426T030257
CREATED:19151213T123019Z
LAST-MODIFIED:20151213T123433Z
UID:10000929-1455917400-1455917400@www.bcmagazine.net
SUMMARY:Weaving Landscarpe
DESCRIPTION:Open Box: Weaving Landscarpe\nThe Stone Commune\nDate: 9:30pm\, 19-20 February\, 2016\nVenue: Macao Cultural Centre\, Small Auditorium\nTickets: MOP$120 from MacauTicket
URL:https://www.bcmagazine.net/event/weaving-landscarpe/2016-02-19/
LOCATION:Macao Cultural Centre\, Small Auditorium\, Macau
CATEGORIES:2016,Macau,Performing Arts,Theatre
END:VEVENT
BEGIN:VEVENT
DTSTART;TZID=Asia/Hong_Kong:20160115T193000
DTEND;TZID=Asia/Hong_Kong:20160115T193000
DTSTAMP:20260426T030257
CREATED:19151213T124243Z
LAST-MODIFIED:20151213T125200Z
UID:10000238-1452886200-1452886200@www.bcmagazine.net
SUMMARY:Farfalle
DESCRIPTION:Farfalle\nTeatro di Piazza o d’Occasione\nDate: 15-17 January\, 2016\nVenue: Macao Cultural Centre\, Small Auditorium\nTickets: MOP$180 from MacauTicket
URL:https://www.bcmagazine.net/event/farfalle-2016/2016-01-15/
LOCATION:Macao Cultural Centre\, Small Auditorium\, Macau
CATEGORIES:2016,Macau,Performing Arts,Theatre
END:VEVENT
BEGIN:VEVENT
DTSTART;TZID=Asia/Hong_Kong:20151215T200000
DTEND;TZID=Asia/Hong_Kong:20151215T200000
DTSTAMP:20260426T030257
CREATED:19151213T125924Z
LAST-MODIFIED:20151213T130149Z
UID:10000235-1450209600-1450209600@www.bcmagazine.net
SUMMARY:Macau Youth Symphonic Band
DESCRIPTION:Macau Youth Symphonic Band\nDate: 8pm\, 15 December\, 2015\nVenue: Macao Cultural Centre\, Small Auditorium\nTickets: MOP$100
URL:https://www.bcmagazine.net/event/macau-youth-symphonic-band/
LOCATION:Macao Cultural Centre\, Small Auditorium\, Macau
CATEGORIES:2015,Concert,concert,Macau,Music,Performing Arts
END:VEVENT
BEGIN:VEVENT
DTSTART;TZID=Asia/Hong_Kong:20151129T200000
DTEND;TZID=Asia/Hong_Kong:20151129T200000
DTSTAMP:20260426T030257
CREATED:19151021T215201Z
LAST-MODIFIED:20151021T215420Z
UID:10000113-1448827200-1448827200@www.bcmagazine.net
SUMMARY:Musical Premiere
DESCRIPTION:Musical Premiere\nMacao Young Musicians Competition Winners\nDate: 8pm\, 29 November\, 2015\nVenue: Macao Cultural Centre\, Small Auditorium\nTickets: MOP$100 from MacauTicket
URL:https://www.bcmagazine.net/event/musical-premiere/
LOCATION:Macao Cultural Centre\, Small Auditorium\, Macau
CATEGORIES:2015,Concert,Macau,Music
END:VEVENT
BEGIN:VEVENT
DTSTART;VALUE=DATE:20151106
DTEND;VALUE=DATE:20151109
DTSTAMP:20260426T030257
CREATED:19151021T230204Z
LAST-MODIFIED:20151021T230524Z
UID:10000559-1446768000-1447027199@www.bcmagazine.net
SUMMARY:Embraces
DESCRIPTION:Embraces\nDate: 6-8 November\, 2015\nVenue: Macao Cultural Centre\, Small Auditorium\nTickets: MOP$120 from MacauTicket\nMore info:\n6-8 November – 8pm\n7-8 November – 3pm
URL:https://www.bcmagazine.net/event/embraces/
LOCATION:Macao Cultural Centre\, Small Auditorium\, Macau
CATEGORIES:2015,Macau,Performing Arts,Theatre
END:VEVENT
BEGIN:VEVENT
DTSTART;VALUE=DATE:20150512
DTEND;VALUE=DATE:20150517
DTSTAMP:20260426T030257
CREATED:20150423T082139Z
LAST-MODIFIED:20150502T082918Z
UID:10005771-1431388800-1431820799@www.bcmagazine.net
SUMMARY:Macao International Film and Video Festival 2015 – “Macao Indies” - 12-16 May\, 2015
DESCRIPTION:Watching a movie is like embarking on a trip. Through the big silver screen\, you can enjoy the most exotic atmospheres and experience local cultures. In its 9th edition\, the Macao International Film and Video Festival features a wide panoply of films from around the world. \nThe vibrant “Macao Indies” offer an in-depth tour of the city exploring its stories\, letting the audience trace the filmmakers’ steps to discover hidden secrets. \nProgramme: \n\n\n\n\n12.05\nTue\n\n\n19:30\n\n\nMacao Indies 1\n1.          Fallen\n2.          Thief\n3.          Sojourner\n4.          Nuclear Empire\n\nIn Cantonese with Chinese and English subtitles\n\n\nMacao\n\n\n2014/\n2015\n\n\n122’\n\n\n\n\n13.05\nWed\n\n\n19:30\n\n\nMacao Indies 2\n1.          Chanted Poetry\n2.          Shimmering Warmth\n3.          Mio Pang Fei\n4.          The Other Half\n\nIn Cantonese with Chinese and English subtitles\n\n\nMacao\n\n\n2014/\n2015\n\n\n131’\n\n\n\n\n14.05\nThu\n\n\n19:30\n\n\nMacao Indies 3\n1.          Ugly Before\n2.          The Neighbor\n3.          Iec Long\n4.          Do It for Yourself\n\nIn Cantonese with Chinese and English subtitles\n\n\nMacao\n\n\n2014/\n2015\n\n\n119’\n\n\n\n\n15.05\nFri\n\n\n21:30\n\n\nMacao Indies 4\n1.          Sit-up\n2.          Champion Step\n3.          Tricycle Thief\n4.          Do the Right Thing\n5.          Olympic Mr. Macao\n\nIn Cantonese with Chinese and English subtitles\n\n\nMacao\n\n\n2014/\n2015\n\n\n110’\n\n\n\n\n16.05\nSat\n\n\n16:30\n\n\nMacao Indies 5\n1.          C-La in Macao\n2.          In Memory of Her\n3.          Caged\n4.          We Are The Same\n5.          Yesterday once more\n\nIn Cantonese with Chinese and English subtitles\n\n\nMacao\n\n\n2014/\n2015\n\n\n120’\n\n\n\n\n21:30\n\n\nMacao Indies 6\n1.          Cul-de-sac?\n2.          Absurd World\n3.          A Boy’s Prayer\n4.          Fonting the City\n\nIn Cantonese with Chinese and English subtitles\n\n\nMacao\n\n\n2014/\n2015\n\n\n105’\n\n\n\n\nMacao International Film and Video Festival 2015 – “Macao Indies”\nDate: 12-16 May\, 2015\nVenue: Macao Cultural Centre\, Small Auditorium\nTickets: MOP$60 from MacauTicket
URL:https://www.bcmagazine.net/event/macao-international-film-and-video-festival-2015-macao-indies-12-16-may-2015/
LOCATION:Macao Cultural Centre\, Small Auditorium\, Macau
CATEGORIES:Film,Macau
END:VEVENT
END:VCALENDAR