BEGIN:VCALENDAR
VERSION:2.0
PRODID:-//bc magazine - ECPv6.15.20//NONSGML v1.0//EN
CALSCALE:GREGORIAN
METHOD:PUBLISH
X-ORIGINAL-URL:https://www.bcmagazine.net
X-WR-CALDESC:Events for bc magazine
REFRESH-INTERVAL;VALUE=DURATION:PT1H
X-Robots-Tag:noindex
X-PUBLISHED-TTL:PT1H
BEGIN:VTIMEZONE
TZID:Asia/Hong_Kong
BEGIN:STANDARD
TZOFFSETFROM:+0800
TZOFFSETTO:+0800
TZNAME:HKT
DTSTART:20170101T000000
END:STANDARD
END:VTIMEZONE
BEGIN:VEVENT
DTSTART;TZID=Asia/Hong_Kong:20231110T193000
DTEND;TZID=Asia/Hong_Kong:20231110T193000
DTSTAMP:20260425T021920
CREATED:19231020T085402Z
LAST-MODIFIED:20231102T085957Z
UID:10009373-1699644600-1699644600@www.bcmagazine.net
SUMMARY:Yuki Kajiura
DESCRIPTION:Yuki Kajiura – The Parade Goes On\nDate: 7:30pm\, 10-11 November\, 2023\nVenue: MacPherson Stadium\nTickets: $1\,390\, $1\,090\, $890
URL:https://www.bcmagazine.net/event/yuki-kajiura-2023/2023-11-10/
LOCATION:MacPherson Stadium\, 38 Nelson Street\, Mongkok\, Hong Kong
CATEGORIES:2023,Concert,Music,Nightlife,Performing Arts
ATTACH;FMTTYPE=image/jpeg:https://www.bcmagazine.net/wp-content/uploads/2023/10/Yuki-Kajiura-HK-2023.jpeg
GEO:22.3188457;114.1728403
X-APPLE-STRUCTURED-LOCATION;VALUE=URI;X-ADDRESS=MacPherson Stadium 38 Nelson Street Mongkok Hong Kong;X-APPLE-RADIUS=500;X-TITLE=38 Nelson Street:geo:114.1728403,22.3188457
END:VEVENT
BEGIN:VEVENT
DTSTART;TZID=Asia/Hong_Kong:20231012T200000
DTEND;TZID=Asia/Hong_Kong:20231012T200000
DTSTAMP:20260425T021920
CREATED:20230305T004202Z
LAST-MODIFIED:20230310T155032Z
UID:10006783-1697140800-1697140800@www.bcmagazine.net
SUMMARY:Against the Current
DESCRIPTION:Against the Current – Nightmares & Daydreams\nDate: 8pm\, 12 October\, 2023\nVenue: MacPherson Stadium\nTickets: $1\,099\, $699\, $599 from Cityline
URL:https://www.bcmagazine.net/event/against-the-current/
LOCATION:MacPherson Stadium\, 38 Nelson Street\, Mongkok\, Hong Kong
CATEGORIES:2023,Concert,Music,Performing Arts
ATTACH;FMTTYPE=image/jpeg:https://www.bcmagazine.net/wp-content/uploads/1923/02/Against-the-Current-2023.jpeg
GEO:22.3188457;114.1728403
X-APPLE-STRUCTURED-LOCATION;VALUE=URI;X-ADDRESS=MacPherson Stadium 38 Nelson Street Mongkok Hong Kong;X-APPLE-RADIUS=500;X-TITLE=38 Nelson Street:geo:114.1728403,22.3188457
END:VEVENT
BEGIN:VEVENT
DTSTART;TZID=Asia/Hong_Kong:20231005T200000
DTEND;TZID=Asia/Hong_Kong:20231005T200000
DTSTAMP:20260425T021920
CREATED:19181213T044512Z
LAST-MODIFIED:20230822T012909Z
UID:10008367-1696536000-1696536000@www.bcmagazine.net
SUMMARY:Jeong Eun Ji
DESCRIPTION:Jeong Eun Ji – Encore\nDate: 8pm\, 4-5 October\, 2023\nVenue: MacPherson Stadium\nTickets: $1\,588\, $1\,188\, $888
URL:https://www.bcmagazine.net/event/jeong-eun-ji-2023/2023-10-05/
LOCATION:MacPherson Stadium\, 38 Nelson Street\, Mongkok\, Hong Kong
CATEGORIES:2023,Concert,Music,Performing Arts
ATTACH;FMTTYPE=image/jpeg:https://www.bcmagazine.net/wp-content/uploads/1918/12/Jeong-Eun-Ji-2023.jpg
GEO:22.3188457;114.1728403
X-APPLE-STRUCTURED-LOCATION;VALUE=URI;X-ADDRESS=MacPherson Stadium 38 Nelson Street Mongkok Hong Kong;X-APPLE-RADIUS=500;X-TITLE=38 Nelson Street:geo:114.1728403,22.3188457
END:VEVENT
BEGIN:VEVENT
DTSTART;TZID=Asia/Hong_Kong:20231004T200000
DTEND;TZID=Asia/Hong_Kong:20231004T200000
DTSTAMP:20260425T021920
CREATED:19181213T044512Z
LAST-MODIFIED:20230822T012909Z
UID:10008366-1696449600-1696449600@www.bcmagazine.net
SUMMARY:Jeong Eun Ji
DESCRIPTION:Jeong Eun Ji – Encore\nDate: 8pm\, 4-5 October\, 2023\nVenue: MacPherson Stadium\nTickets: $1\,588\, $1\,188\, $888
URL:https://www.bcmagazine.net/event/jeong-eun-ji-2023/2023-10-04/
LOCATION:MacPherson Stadium\, 38 Nelson Street\, Mongkok\, Hong Kong
CATEGORIES:2023,Concert,Music,Performing Arts
ATTACH;FMTTYPE=image/jpeg:https://www.bcmagazine.net/wp-content/uploads/1918/12/Jeong-Eun-Ji-2023.jpg
GEO:22.3188457;114.1728403
X-APPLE-STRUCTURED-LOCATION;VALUE=URI;X-ADDRESS=MacPherson Stadium 38 Nelson Street Mongkok Hong Kong;X-APPLE-RADIUS=500;X-TITLE=38 Nelson Street:geo:114.1728403,22.3188457
END:VEVENT
BEGIN:VEVENT
DTSTART;TZID=Asia/Hong_Kong:20230820T153000
DTEND;TZID=Asia/Hong_Kong:20230820T153000
DTSTAMP:20260425T021920
CREATED:20230708T004237Z
LAST-MODIFIED:20230804T012518Z
UID:10007973-1692545400-1692545400@www.bcmagazine.net
SUMMARY:Gin Lee
DESCRIPTION:Gin Lee\nDate: 3:30pm\, 20 August 2023\nVenue: MacPherson Stadium\nTickets: $450\, $350 from Ticketflap
URL:https://www.bcmagazine.net/event/gin-lee-birthday-2023/
LOCATION:MacPherson Stadium\, 38 Nelson Street\, Mongkok\, Hong Kong
CATEGORIES:2023,Concert,Music,Nightlife,Performing Arts
ATTACH;FMTTYPE=image/jpeg:https://www.bcmagazine.net/wp-content/uploads/1923/06/Gin-Lee-2023.jpeg
GEO:22.3188457;114.1728403
X-APPLE-STRUCTURED-LOCATION;VALUE=URI;X-ADDRESS=MacPherson Stadium 38 Nelson Street Mongkok Hong Kong;X-APPLE-RADIUS=500;X-TITLE=38 Nelson Street:geo:114.1728403,22.3188457
END:VEVENT
BEGIN:VEVENT
DTSTART;TZID=Asia/Hong_Kong:20211218T110000
DTEND;TZID=Asia/Hong_Kong:20211218T110000
DTSTAMP:20260425T021920
CREATED:19210930T034537Z
LAST-MODIFIED:20211106T103427Z
UID:10005259-1639825200-1639825200@www.bcmagazine.net
SUMMARY:KB and Friends
DESCRIPTION:KB and Friends Musical Playground\nDate: 11am\, 18 December\, 2021\nVenue: MacPherson Stadium\nTickets: $380\, $280\, $180 from HKTicketing
URL:https://www.bcmagazine.net/event/kb-and-friends-2021/
LOCATION:MacPherson Stadium\, 38 Nelson Street\, Mongkok\, Hong Kong
CATEGORIES:2021,Concert,Music,Nightlife,Performing Arts
ATTACH;FMTTYPE=image/jpeg:https://www.bcmagazine.net/wp-content/uploads/2021/09/KB-and-Friends-2021.jpg
GEO:22.3188457;114.1728403
X-APPLE-STRUCTURED-LOCATION;VALUE=URI;X-ADDRESS=MacPherson Stadium 38 Nelson Street Mongkok Hong Kong;X-APPLE-RADIUS=500;X-TITLE=38 Nelson Street:geo:114.1728403,22.3188457
END:VEVENT
BEGIN:VEVENT
DTSTART;TZID=Asia/Hong_Kong:20210522T201500
DTEND;TZID=Asia/Hong_Kong:20210522T201500
DTSTAMP:20260425T021920
CREATED:20210503T085402Z
LAST-MODIFIED:20210504T150908Z
UID:10006658-1621714500-1621714500@www.bcmagazine.net
SUMMARY:Jason Kui
DESCRIPTION:Jason Kui – B A-Ok Live\nDate: 8:15pm\, 22 May\, 2021\nVenue: MacPherson Stadium\nTickets: $380\, $280 from Cityline
URL:https://www.bcmagazine.net/event/jason-kui-2021/
LOCATION:MacPherson Stadium\, 38 Nelson Street\, Mongkok\, Hong Kong
CATEGORIES:2021,Cantopop,Concert,Music,Performing Arts
ATTACH;FMTTYPE=image/jpeg:https://www.bcmagazine.net/wp-content/uploads/2020/07/Jason-Kui-B-A-Ok-Live-2021.jpeg
GEO:22.3188457;114.1728403
X-APPLE-STRUCTURED-LOCATION;VALUE=URI;X-ADDRESS=MacPherson Stadium 38 Nelson Street Mongkok Hong Kong;X-APPLE-RADIUS=500;X-TITLE=38 Nelson Street:geo:114.1728403,22.3188457
END:VEVENT
BEGIN:VEVENT
DTSTART;TZID=Asia/Hong_Kong:20210506T201500
DTEND;TZID=Asia/Hong_Kong:20210506T201500
DTSTAMP:20260425T021920
CREATED:19210403T085402Z
LAST-MODIFIED:20210504T151642Z
UID:10005096-1620332100-1620332100@www.bcmagazine.net
SUMMARY:The Eyes of You
DESCRIPTION:The Eyes of You\n彭家麗 Angela Pang\, 陳明憙 Jocelyn Chan\, 陳凱彤 Lillian Chan\, Kimman\, Wong 黃劍文\, Sam Lau\, 藍杰 Raymond Lam\, Joe Junior\nDate: 8:15pm\, 5-6 May\, 2021\nVenue: MacPherson Stadium\nTickets: $980\, $680\, $480\, $380 from Cityline
URL:https://www.bcmagazine.net/event/the-eyes-of-you-2021/2021-05-06/
LOCATION:MacPherson Stadium\, 38 Nelson Street\, Mongkok\, Hong Kong
CATEGORIES:2021,Cantopop,Concert,Music,Performing Arts
ATTACH;FMTTYPE=image/jpeg:https://www.bcmagazine.net/wp-content/uploads/2021/05/the-eyes-of-you-2021.jpeg
GEO:22.3188457;114.1728403
X-APPLE-STRUCTURED-LOCATION;VALUE=URI;X-ADDRESS=MacPherson Stadium 38 Nelson Street Mongkok Hong Kong;X-APPLE-RADIUS=500;X-TITLE=38 Nelson Street:geo:114.1728403,22.3188457
END:VEVENT
BEGIN:VEVENT
DTSTART;TZID=Asia/Hong_Kong:20210505T201500
DTEND;TZID=Asia/Hong_Kong:20210505T201500
DTSTAMP:20260425T021920
CREATED:19210403T085402Z
LAST-MODIFIED:20210504T151642Z
UID:10005095-1620245700-1620245700@www.bcmagazine.net
SUMMARY:The Eyes of You
DESCRIPTION:The Eyes of You\n彭家麗 Angela Pang\, 陳明憙 Jocelyn Chan\, 陳凱彤 Lillian Chan\, Kimman\, Wong 黃劍文\, Sam Lau\, 藍杰 Raymond Lam\, Joe Junior\nDate: 8:15pm\, 5-6 May\, 2021\nVenue: MacPherson Stadium\nTickets: $980\, $680\, $480\, $380 from Cityline
URL:https://www.bcmagazine.net/event/the-eyes-of-you-2021/2021-05-05/
LOCATION:MacPherson Stadium\, 38 Nelson Street\, Mongkok\, Hong Kong
CATEGORIES:2021,Cantopop,Concert,Music,Performing Arts
ATTACH;FMTTYPE=image/jpeg:https://www.bcmagazine.net/wp-content/uploads/2021/05/the-eyes-of-you-2021.jpeg
GEO:22.3188457;114.1728403
X-APPLE-STRUCTURED-LOCATION;VALUE=URI;X-ADDRESS=MacPherson Stadium 38 Nelson Street Mongkok Hong Kong;X-APPLE-RADIUS=500;X-TITLE=38 Nelson Street:geo:114.1728403,22.3188457
END:VEVENT
BEGIN:VEVENT
DTSTART;TZID=Asia/Hong_Kong:20200325T194500
DTEND;TZID=Asia/Hong_Kong:20200325T200000
DTSTAMP:20260425T021920
CREATED:19180802T094055Z
LAST-MODIFIED:20191231T054652Z
UID:10004387-1585165500-1585166400@www.bcmagazine.net
SUMMARY:We Are With You
DESCRIPTION:We Are With You – Hearing is Healing\nDate: 7:45pm\, 24-25 March\, 2020\nVenue: MacPherson Stadium\nTickets: $980\, $380\, $180 from Cityline
URL:https://www.bcmagazine.net/event/we-are-with-you-25-03-2020-hk/
LOCATION:MacPherson Stadium\, 38 Nelson Street\, Mongkok\, Hong Kong
CATEGORIES:2020,Concert,Music,Performing Arts
GEO:22.3188457;114.1728403
X-APPLE-STRUCTURED-LOCATION;VALUE=URI;X-ADDRESS=MacPherson Stadium 38 Nelson Street Mongkok Hong Kong;X-APPLE-RADIUS=500;X-TITLE=38 Nelson Street:geo:114.1728403,22.3188457
END:VEVENT
BEGIN:VEVENT
DTSTART;TZID=Asia/Hong_Kong:20200324T194500
DTEND;TZID=Asia/Hong_Kong:20200324T200000
DTSTAMP:20260425T021920
CREATED:19180802T094055Z
LAST-MODIFIED:20191231T054627Z
UID:10004385-1585079100-1585080000@www.bcmagazine.net
SUMMARY:We Are With You
DESCRIPTION:We Are With You – Hearing is Healing\nDate: 7:45pm\, 24-25 March\, 2020\nVenue: MacPherson Stadium\nTickets: $980\, $380\, $180 from Cityline
URL:https://www.bcmagazine.net/event/we-are-with-you-24-03-2020-hk/
LOCATION:MacPherson Stadium\, 38 Nelson Street\, Mongkok\, Hong Kong
CATEGORIES:2020,Concert,Music,Performing Arts
GEO:22.3188457;114.1728403
X-APPLE-STRUCTURED-LOCATION;VALUE=URI;X-ADDRESS=MacPherson Stadium 38 Nelson Street Mongkok Hong Kong;X-APPLE-RADIUS=500;X-TITLE=38 Nelson Street:geo:114.1728403,22.3188457
END:VEVENT
BEGIN:VEVENT
DTSTART;TZID=Asia/Hong_Kong:20200114T200000
DTEND;TZID=Asia/Hong_Kong:20200114T200000
DTSTAMP:20260425T021920
CREATED:19191120T024216Z
LAST-MODIFIED:20191120T123346Z
UID:10004901-1579032000-1579032000@www.bcmagazine.net
SUMMARY:Of Monsters and Men
DESCRIPTION:Of Monsters and Men\nDate: 8pm\, 14 January\, 2020\nVenue: MacPherson Stadium\, 2020\nTickets: $595\, $550
URL:https://www.bcmagazine.net/event/of-monsters-and-men-hk-2020/
LOCATION:MacPherson Stadium\, 38 Nelson Street\, Mongkok\, Hong Kong
CATEGORIES:2020,Concert,Music,Performing Arts
GEO:22.3188457;114.1728403
X-APPLE-STRUCTURED-LOCATION;VALUE=URI;X-ADDRESS=MacPherson Stadium 38 Nelson Street Mongkok Hong Kong;X-APPLE-RADIUS=500;X-TITLE=38 Nelson Street:geo:114.1728403,22.3188457
END:VEVENT
BEGIN:VEVENT
DTSTART;TZID=Asia/Hong_Kong:20200112T193000
DTEND;TZID=Asia/Hong_Kong:20200112T193000
DTSTAMP:20260425T021920
CREATED:19190711T044512Z
LAST-MODIFIED:20191219T012752Z
UID:10004858-1578857400-1578857400@www.bcmagazine.net
SUMMARY:Lewis Capaldi
DESCRIPTION:Lewis Capaldi\nDate: 7:30pm\, 12 January\, 2020\nVenue: MacPherson Stadium\nTickets: $520\, $490 from Ticketflap
URL:https://www.bcmagazine.net/event/lewis-capaldi-hk-2020/
LOCATION:MacPherson Stadium\, 38 Nelson Street\, Mongkok\, Hong Kong
CATEGORIES:2020,Concert,Music,Performing Arts
ATTACH;FMTTYPE=image/jpeg:https://www.bcmagazine.net/wp-content/uploads/1919/07/lewis-capaldi-hk-2020.jpg
GEO:22.3188457;114.1728403
X-APPLE-STRUCTURED-LOCATION;VALUE=URI;X-ADDRESS=MacPherson Stadium 38 Nelson Street Mongkok Hong Kong;X-APPLE-RADIUS=500;X-TITLE=38 Nelson Street:geo:114.1728403,22.3188457
END:VEVENT
BEGIN:VEVENT
DTSTART;TZID=Asia/Hong_Kong:20191027T201500
DTEND;TZID=Asia/Hong_Kong:20191027T201500
DTSTAMP:20260425T021920
CREATED:19190409T044512Z
LAST-MODIFIED:20190924T052459Z
UID:10004012-1572207300-1572207300@www.bcmagazine.net
SUMMARY:Louis Yuen
DESCRIPTION:Louis Yuen – King of Dreams\nDate: 8:15pm\, 25-27 October\, 2019\nVenue: MacPherson Stadium\nTickets: $680\, $380 from Cityline
URL:https://www.bcmagazine.net/event/louis-yuen-27-10-2019/
LOCATION:MacPherson Stadium\, 38 Nelson Street\, Mongkok\, Hong Kong
CATEGORIES:2019,Concert,Music,Performing Arts
ATTACH;FMTTYPE=image/jpeg:https://www.bcmagazine.net/wp-content/uploads/1919/04/king-of-dreams.jpg
GEO:22.3188457;114.1728403
X-APPLE-STRUCTURED-LOCATION;VALUE=URI;X-ADDRESS=MacPherson Stadium 38 Nelson Street Mongkok Hong Kong;X-APPLE-RADIUS=500;X-TITLE=38 Nelson Street:geo:114.1728403,22.3188457
END:VEVENT
BEGIN:VEVENT
DTSTART;TZID=Asia/Hong_Kong:20191026T201500
DTEND;TZID=Asia/Hong_Kong:20191026T201500
DTSTAMP:20260425T021920
CREATED:19190409T044512Z
LAST-MODIFIED:20190924T051919Z
UID:10004009-1572120900-1572120900@www.bcmagazine.net
SUMMARY:Louis Yuen
DESCRIPTION:Louis Yuen – King of Dreams\nDate: 8:15pm\, 25-27 October\, 2019\nVenue: MacPherson Stadium\nTickets: $680\, $380 from Cityline
URL:https://www.bcmagazine.net/event/louis-yuen-26-10-2019/
LOCATION:MacPherson Stadium\, 38 Nelson Street\, Mongkok\, Hong Kong
CATEGORIES:2019,Concert,Music,Performing Arts
ATTACH;FMTTYPE=image/jpeg:https://www.bcmagazine.net/wp-content/uploads/1919/04/king-of-dreams.jpg
GEO:22.3188457;114.1728403
X-APPLE-STRUCTURED-LOCATION;VALUE=URI;X-ADDRESS=MacPherson Stadium 38 Nelson Street Mongkok Hong Kong;X-APPLE-RADIUS=500;X-TITLE=38 Nelson Street:geo:114.1728403,22.3188457
END:VEVENT
BEGIN:VEVENT
DTSTART;TZID=Asia/Hong_Kong:20191025T201500
DTEND;TZID=Asia/Hong_Kong:20191025T201500
DTSTAMP:20260425T021920
CREATED:19190409T044512Z
LAST-MODIFIED:20190924T051821Z
UID:10004007-1572034500-1572034500@www.bcmagazine.net
SUMMARY:Louis Yuen
DESCRIPTION:Louis Yuen – King of Dreams\nDate: 8:15pm\, 25-27 October\, 2019\nVenue: MacPherson Stadium\nTickets: $680\, $380 from Cityline
URL:https://www.bcmagazine.net/event/louis-yuen-25-10-2019/
LOCATION:MacPherson Stadium\, 38 Nelson Street\, Mongkok\, Hong Kong
CATEGORIES:2019,Concert,Music,Performing Arts
ATTACH;FMTTYPE=image/jpeg:https://www.bcmagazine.net/wp-content/uploads/1919/04/king-of-dreams.jpg
GEO:22.3188457;114.1728403
X-APPLE-STRUCTURED-LOCATION;VALUE=URI;X-ADDRESS=MacPherson Stadium 38 Nelson Street Mongkok Hong Kong;X-APPLE-RADIUS=500;X-TITLE=38 Nelson Street:geo:114.1728403,22.3188457
END:VEVENT
BEGIN:VEVENT
DTSTART;TZID=Asia/Hong_Kong:20190802T201500
DTEND;TZID=Asia/Hong_Kong:20190802T201500
DTSTAMP:20260425T021920
CREATED:19160919T054156Z
LAST-MODIFIED:20190619T161417Z
UID:10002143-1564776900-1564776900@www.bcmagazine.net
SUMMARY:Jun Kung
DESCRIPTION:Jun Kung – Right Here\, Right Now\nDate: 8:15pm\, 1-2 August\, 2019\nVenue: MacPherson Stadium\nTickets: $680\, $480 from Cityline
URL:https://www.bcmagazine.net/event/jun-kung-02-08-2019/
LOCATION:MacPherson Stadium\, 38 Nelson Street\, Mongkok\, Hong Kong
CATEGORIES:2019,Cantopop,Concert,Music,Performing Arts
GEO:22.3188457;114.1728403
X-APPLE-STRUCTURED-LOCATION;VALUE=URI;X-ADDRESS=MacPherson Stadium 38 Nelson Street Mongkok Hong Kong;X-APPLE-RADIUS=500;X-TITLE=38 Nelson Street:geo:114.1728403,22.3188457
END:VEVENT
BEGIN:VEVENT
DTSTART;TZID=Asia/Hong_Kong:20190801T201500
DTEND;TZID=Asia/Hong_Kong:20190801T201500
DTSTAMP:20260425T021920
CREATED:19160919T054156Z
LAST-MODIFIED:20190619T161002Z
UID:10002142-1564690500-1564690500@www.bcmagazine.net
SUMMARY:Jun Kung
DESCRIPTION:Jun Kung – Right Here\, Right Now\nDate: 8:15pm\, 1-2 August\, 2019\nVenue: MacPherson Stadium\nTickets: $680\, $480 from Cityline
URL:https://www.bcmagazine.net/event/jun-kung-01-08-2019/
LOCATION:MacPherson Stadium\, 38 Nelson Street\, Mongkok\, Hong Kong
CATEGORIES:2019,Cantopop,Concert,Music,Performing Arts
GEO:22.3188457;114.1728403
X-APPLE-STRUCTURED-LOCATION;VALUE=URI;X-ADDRESS=MacPherson Stadium 38 Nelson Street Mongkok Hong Kong;X-APPLE-RADIUS=500;X-TITLE=38 Nelson Street:geo:114.1728403,22.3188457
END:VEVENT
BEGIN:VEVENT
DTSTART;TZID=Asia/Hong_Kong:20190518T190000
DTEND;TZID=Asia/Hong_Kong:20190518T190000
DTSTAMP:20260425T021920
CREATED:19181213T044512Z
LAST-MODIFIED:20190314T135502Z
UID:10004692-1558206000-1558206000@www.bcmagazine.net
SUMMARY:Jeong Eunji
DESCRIPTION:Jeong Eunji\nDate: 7pm\, 18 May\, 2019\nVenue: MacPherson Stadium\nTickets: $1\,488\, $988\, $688 from Cityline
URL:https://www.bcmagazine.net/event/jeong-eunji-hk-2019/
LOCATION:MacPherson Stadium\, 38 Nelson Street\, Mongkok\, Hong Kong
CATEGORIES:2019,Concert,Music,Performing Arts
ATTACH;FMTTYPE=image/jpeg:https://www.bcmagazine.net/wp-content/uploads/1918/12/jeong-junji-2019-hk.jpg
GEO:22.3188457;114.1728403
X-APPLE-STRUCTURED-LOCATION;VALUE=URI;X-ADDRESS=MacPherson Stadium 38 Nelson Street Mongkok Hong Kong;X-APPLE-RADIUS=500;X-TITLE=38 Nelson Street:geo:114.1728403,22.3188457
END:VEVENT
BEGIN:VEVENT
DTSTART;TZID=Asia/Hong_Kong:20190508T200000
DTEND;TZID=Asia/Hong_Kong:20190508T200000
DTSTAMP:20260425T021920
CREATED:20181206T044512Z
LAST-MODIFIED:20181203T104140Z
UID:10006554-1557345600-1557345600@www.bcmagazine.net
SUMMARY:Kyle Dixon & Michael Stein
DESCRIPTION:Kyle Dixon & Michael Stein: Perform the Music of Stranger Things\nDate: 8pm\, 8 May\, 2019\nVenue: MacPherson Stadium\nTickets: $550\, $495\, $450
URL:https://www.bcmagazine.net/event/kyle-dixon-michael-stein-2019/
LOCATION:MacPherson Stadium\, 38 Nelson Street\, Mongkok\, Hong Kong
CATEGORIES:2019,Concert,concert,Music,Performing Arts
ATTACH;FMTTYPE=image/jpeg:https://www.bcmagazine.net/wp-content/uploads/2018/12/stranger-thing-concert-2019.jpg
GEO:22.3188457;114.1728403
X-APPLE-STRUCTURED-LOCATION;VALUE=URI;X-ADDRESS=MacPherson Stadium 38 Nelson Street Mongkok Hong Kong;X-APPLE-RADIUS=500;X-TITLE=38 Nelson Street:geo:114.1728403,22.3188457
END:VEVENT
BEGIN:VEVENT
DTSTART;TZID=Asia/Hong_Kong:20190220T200000
DTEND;TZID=Asia/Hong_Kong:20190220T200000
DTSTAMP:20260425T021920
CREATED:19181115T145036Z
LAST-MODIFIED:20181119T074918Z
UID:10004580-1550692800-1550692800@www.bcmagazine.net
SUMMARY:SID
DESCRIPTION:SID – 15th Anniversary Tour: The Place Where We Love Most\nDate: 8pm\, 20 February\, 2019\nVenue: MacPherson\nTickets: $1\,100\, $890\, $690\, $490\, $390 from Cityline
URL:https://www.bcmagazine.net/event/sid/
LOCATION:MacPherson Stadium\, 38 Nelson Street\, Mongkok\, Hong Kong
CATEGORIES:2019,Concert,Music,Performing Arts
ATTACH;FMTTYPE=image/jpeg:https://www.bcmagazine.net/wp-content/uploads/1918/11/SID-15th-Anniversary-2019-hk.jpg
GEO:22.3188457;114.1728403
X-APPLE-STRUCTURED-LOCATION;VALUE=URI;X-ADDRESS=MacPherson Stadium 38 Nelson Street Mongkok Hong Kong;X-APPLE-RADIUS=500;X-TITLE=38 Nelson Street:geo:114.1728403,22.3188457
END:VEVENT
BEGIN:VEVENT
DTSTART;TZID=Asia/Hong_Kong:20181129T200000
DTEND;TZID=Asia/Hong_Kong:20181129T200000
DTSTAMP:20260425T021920
CREATED:19180720T083647Z
LAST-MODIFIED:20180903T023947Z
UID:10004344-1543521600-1543521600@www.bcmagazine.net
SUMMARY:Against The Current
DESCRIPTION:Against The Current – The Past Lives World Tour\nDate: 8pm\, 29 November\, 2018\nVenue: MacPherson Stadium\nTickets: $688\, $588\, $488 from Cityline
URL:https://www.bcmagazine.net/event/against-the-current-2018/
LOCATION:MacPherson Stadium\, 38 Nelson Street\, Mongkok\, Hong Kong
CATEGORIES:2018,Concert,Music,Performing Arts
GEO:22.3188457;114.1728403
X-APPLE-STRUCTURED-LOCATION;VALUE=URI;X-ADDRESS=MacPherson Stadium 38 Nelson Street Mongkok Hong Kong;X-APPLE-RADIUS=500;X-TITLE=38 Nelson Street:geo:114.1728403,22.3188457
END:VEVENT
BEGIN:VEVENT
DTSTART;TZID=Asia/Hong_Kong:20181031T194500
DTEND;TZID=Asia/Hong_Kong:20181031T194500
DTSTAMP:20260425T021920
CREATED:19180708T094055Z
LAST-MODIFIED:20180728T042734Z
UID:10004272-1541015100-1541015100@www.bcmagazine.net
SUMMARY:We Are With You
DESCRIPTION:We Are With You\nDate: 7:45pm\, 30-31 October\, 2018\nVenue: MacPherson Stadium\nTickets: $1\,000\, $380\, $180 from Cityline
URL:https://www.bcmagazine.net/event/we-are-with-you-31-10-2018/
LOCATION:MacPherson Stadium\, 38 Nelson Street\, Mongkok\, Hong Kong
CATEGORIES:2018,Concert,Music,Performing Arts
ATTACH;FMTTYPE=image/jpeg:https://www.bcmagazine.net/wp-content/uploads/1918/07/We-Are-With-You-2018.jpg
GEO:22.3188457;114.1728403
X-APPLE-STRUCTURED-LOCATION;VALUE=URI;X-ADDRESS=MacPherson Stadium 38 Nelson Street Mongkok Hong Kong;X-APPLE-RADIUS=500;X-TITLE=38 Nelson Street:geo:114.1728403,22.3188457
END:VEVENT
BEGIN:VEVENT
DTSTART;TZID=Asia/Hong_Kong:20181030T194500
DTEND;TZID=Asia/Hong_Kong:20181030T194500
DTSTAMP:20260425T021920
CREATED:19180708T094055Z
LAST-MODIFIED:20180728T042654Z
UID:10004271-1540928700-1540928700@www.bcmagazine.net
SUMMARY:We Are With You
DESCRIPTION:We Are With You\nDate: 7:45pm\, 30-31 October\, 2018\nVenue: MacPherson Stadium\nTickets: $1\,000\, $380\, $180 from Cityline
URL:https://www.bcmagazine.net/event/we-are-with-you-30-10-2018/
LOCATION:MacPherson Stadium\, 38 Nelson Street\, Mongkok\, Hong Kong
CATEGORIES:2018,Concert,Music,Performing Arts
ATTACH;FMTTYPE=image/jpeg:https://www.bcmagazine.net/wp-content/uploads/1918/07/We-Are-With-You-2018.jpg
GEO:22.3188457;114.1728403
X-APPLE-STRUCTURED-LOCATION;VALUE=URI;X-ADDRESS=MacPherson Stadium 38 Nelson Street Mongkok Hong Kong;X-APPLE-RADIUS=500;X-TITLE=38 Nelson Street:geo:114.1728403,22.3188457
END:VEVENT
BEGIN:VEVENT
DTSTART;TZID=Asia/Hong_Kong:20180908T193000
DTEND;TZID=Asia/Hong_Kong:20180908T193000
DTSTAMP:20260425T021920
CREATED:19180708T094055Z
LAST-MODIFIED:20180728T043209Z
UID:10004273-1536435000-1536435000@www.bcmagazine.net
SUMMARY:BeDREX Showcase 2018
DESCRIPTION:BeDREX Showcase 2018\nDate: 7:30pm\, 8 September\, 2018\nVenue: MacPherson Stadium\nTickets: $200\, $170\, $150 from Cityline
URL:https://www.bcmagazine.net/event/bedrex-showcase-2018/
LOCATION:MacPherson Stadium\, 38 Nelson Street\, Mongkok\, Hong Kong
CATEGORIES:2018,Dance,Performing Arts
ATTACH;FMTTYPE=image/jpeg:https://www.bcmagazine.net/wp-content/uploads/1918/07/BeDREX-Showcase-2018.jpg
GEO:22.3188457;114.1728403
X-APPLE-STRUCTURED-LOCATION;VALUE=URI;X-ADDRESS=MacPherson Stadium 38 Nelson Street Mongkok Hong Kong;X-APPLE-RADIUS=500;X-TITLE=38 Nelson Street:geo:114.1728403,22.3188457
END:VEVENT
BEGIN:VEVENT
DTSTART;TZID=Asia/Hong_Kong:20180831T201500
DTEND;TZID=Asia/Hong_Kong:20180831T201500
DTSTAMP:20260425T021920
CREATED:19180708T094055Z
LAST-MODIFIED:20180728T042316Z
UID:10004270-1535746500-1535746500@www.bcmagazine.net
SUMMARY:Ivana
DESCRIPTION:Ivana\nDate: 8:15pm\, 30-31 August\, 2018\nVenue: MacPherson Stadium\nTickets: $680\, $450 from Cityline
URL:https://www.bcmagazine.net/event/ivana-31-08-2018/
LOCATION:MacPherson Stadium\, 38 Nelson Street\, Mongkok\, Hong Kong
CATEGORIES:2018,Concert,Music,Performing Arts
ATTACH;FMTTYPE=image/jpeg:https://www.bcmagazine.net/wp-content/uploads/1918/07/ivana-2018.jpg
GEO:22.3188457;114.1728403
X-APPLE-STRUCTURED-LOCATION;VALUE=URI;X-ADDRESS=MacPherson Stadium 38 Nelson Street Mongkok Hong Kong;X-APPLE-RADIUS=500;X-TITLE=38 Nelson Street:geo:114.1728403,22.3188457
END:VEVENT
BEGIN:VEVENT
DTSTART;TZID=Asia/Hong_Kong:20180830T201500
DTEND;TZID=Asia/Hong_Kong:20180830T201500
DTSTAMP:20260425T021920
CREATED:19180708T094055Z
LAST-MODIFIED:20180728T042247Z
UID:10004269-1535660100-1535660100@www.bcmagazine.net
SUMMARY:Ivana
DESCRIPTION:Ivana\nDate: 8:15pm\, 30-31 August\, 2018\nVenue: MacPherson Stadium\nTickets: $680\, $450 from Cityline
URL:https://www.bcmagazine.net/event/ivana-30-08-2018/
LOCATION:MacPherson Stadium\, 38 Nelson Street\, Mongkok\, Hong Kong
CATEGORIES:2018,Concert,Music,Performing Arts
ATTACH;FMTTYPE=image/jpeg:https://www.bcmagazine.net/wp-content/uploads/1918/07/ivana-2018.jpg
GEO:22.3188457;114.1728403
X-APPLE-STRUCTURED-LOCATION;VALUE=URI;X-ADDRESS=MacPherson Stadium 38 Nelson Street Mongkok Hong Kong;X-APPLE-RADIUS=500;X-TITLE=38 Nelson Street:geo:114.1728403,22.3188457
END:VEVENT
BEGIN:VEVENT
DTSTART;TZID=Asia/Hong_Kong:20180826T150000
DTEND;TZID=Asia/Hong_Kong:20180826T150000
DTSTAMP:20260425T021920
CREATED:19180708T094055Z
LAST-MODIFIED:20180728T041655Z
UID:10004268-1535295600-1535295600@www.bcmagazine.net
SUMMARY:Frances Yip
DESCRIPTION:Frances Yip\nDate: 25-26 August\, 2018\nVenue: MacPherson Stadium\nTickets: $680\, $480 from Cityline
URL:https://www.bcmagazine.net/event/frances-yip-26-08-2018/
LOCATION:MacPherson Stadium\, 38 Nelson Street\, Mongkok\, Hong Kong
CATEGORIES:2018,Concert,Music,Performing Arts
GEO:22.3188457;114.1728403
X-APPLE-STRUCTURED-LOCATION;VALUE=URI;X-ADDRESS=MacPherson Stadium 38 Nelson Street Mongkok Hong Kong;X-APPLE-RADIUS=500;X-TITLE=38 Nelson Street:geo:114.1728403,22.3188457
END:VEVENT
BEGIN:VEVENT
DTSTART;TZID=Asia/Hong_Kong:20180825T200000
DTEND;TZID=Asia/Hong_Kong:20180825T200000
DTSTAMP:20260425T021920
CREATED:19180708T094055Z
LAST-MODIFIED:20180728T041603Z
UID:10004267-1535227200-1535227200@www.bcmagazine.net
SUMMARY:Frances Yip
DESCRIPTION:Frances Yip\nDate: 25-26 August\, 2018\nVenue: MacPherson Stadium\nTickets: $680\, $480 from Cityline
URL:https://www.bcmagazine.net/event/frances-yip-25-08-2018/
LOCATION:MacPherson Stadium\, 38 Nelson Street\, Mongkok\, Hong Kong
CATEGORIES:2018,Concert,Music,Performing Arts
GEO:22.3188457;114.1728403
X-APPLE-STRUCTURED-LOCATION;VALUE=URI;X-ADDRESS=MacPherson Stadium 38 Nelson Street Mongkok Hong Kong;X-APPLE-RADIUS=500;X-TITLE=38 Nelson Street:geo:114.1728403,22.3188457
END:VEVENT
BEGIN:VEVENT
DTSTART;TZID=Asia/Hong_Kong:20180811T200000
DTEND;TZID=Asia/Hong_Kong:20180811T200000
DTSTAMP:20260425T021920
CREATED:19180708T094055Z
LAST-MODIFIED:20180728T041010Z
UID:10004265-1534017600-1534017600@www.bcmagazine.net
SUMMARY:Lisa
DESCRIPTION:Lisa – LiVE is Smile Always ～ASiA TOUR 2018\nDate: 8pm\, 11 August\, 2018\nVenue: MacPherson Stadium\nTickets: $790\, $690\, $490\, $390 from Cityline
URL:https://www.bcmagazine.net/event/lisa-2018/
LOCATION:MacPherson Stadium\, 38 Nelson Street\, Mongkok\, Hong Kong
CATEGORIES:2018,Concert,Music,Performing Arts
ATTACH;FMTTYPE=image/jpeg:https://www.bcmagazine.net/wp-content/uploads/1918/07/Lisa-LiVE-is-Smile-Always-～ASiA-TOUR-2018.jpg
GEO:22.3188457;114.1728403
X-APPLE-STRUCTURED-LOCATION;VALUE=URI;X-ADDRESS=MacPherson Stadium 38 Nelson Street Mongkok Hong Kong;X-APPLE-RADIUS=500;X-TITLE=38 Nelson Street:geo:114.1728403,22.3188457
END:VEVENT
END:VCALENDAR