BEGIN:VCALENDAR
VERSION:2.0
PRODID:-//bc magazine - ECPv6.15.20//NONSGML v1.0//EN
CALSCALE:GREGORIAN
METHOD:PUBLISH
X-WR-CALNAME:bc magazine
X-ORIGINAL-URL:https://www.bcmagazine.net
X-WR-CALDESC:Events for bc magazine
REFRESH-INTERVAL;VALUE=DURATION:PT1H
X-Robots-Tag:noindex
X-PUBLISHED-TTL:PT1H
BEGIN:VTIMEZONE
TZID:Asia/Hong_Kong
BEGIN:STANDARD
TZOFFSETFROM:+0800
TZOFFSETTO:+0800
TZNAME:HKT
DTSTART:20170101T000000
END:STANDARD
END:VTIMEZONE
BEGIN:VEVENT
DTSTART;TZID=Asia/Hong_Kong:20180512T120000
DTEND;TZID=Asia/Hong_Kong:20180512T235900
DTSTAMP:20260421T050652
CREATED:19170720T083647Z
LAST-MODIFIED:20180412T175556Z
UID:10003036-1526126400-1526169540@www.bcmagazine.net
SUMMARY:Goldie
DESCRIPTION:Goldie\nDarren Mac\, DJ Orawan\, Magnetic Soul\, DJ Fu\, Steve Ellul\, Immuno B2B Just Bee\, Bang Bang!\nDate: 12pm\, 12 May\, 2018\nVenue: Mavericks\nTickets: $280 from Ticketflap
URL:https://www.bcmagazine.net/event/goldie-mavericks-2018/
LOCATION:Mavericks\, Pui O Beach\, Lantau\, Hong Kong
CATEGORIES:2018,DJ,Music,Nightlife,Performing Arts
ATTACH;FMTTYPE=image/jpeg:https://www.bcmagazine.net/wp-content/uploads/1917/07/Goldie-at-Mavericks-2018.jpg
GEO:22.2397114;113.9768132
X-APPLE-STRUCTURED-LOCATION;VALUE=URI;X-ADDRESS=Mavericks Pui O Beach Lantau Hong Kong;X-APPLE-RADIUS=500;X-TITLE=Pui O Beach:geo:113.9768132,22.2397114
END:VEVENT
END:VCALENDAR