BEGIN:VCALENDAR
VERSION:2.0
PRODID:-//bc magazine - ECPv6.15.20//NONSGML v1.0//EN
CALSCALE:GREGORIAN
METHOD:PUBLISH
X-ORIGINAL-URL:https://www.bcmagazine.net
X-WR-CALDESC:Events for bc magazine
REFRESH-INTERVAL;VALUE=DURATION:PT1H
X-Robots-Tag:noindex
X-PUBLISHED-TTL:PT1H
BEGIN:VTIMEZONE
TZID:Asia/Hong_Kong
BEGIN:STANDARD
TZOFFSETFROM:+0800
TZOFFSETTO:+0800
TZNAME:HKT
DTSTART:20160101T000000
END:STANDARD
END:VTIMEZONE
BEGIN:VEVENT
DTSTART;TZID=Asia/Hong_Kong:20171208T220000
DTEND;TZID=Asia/Hong_Kong:20171208T220000
DTSTAMP:20260423T212817
CREATED:19171104T033116Z
LAST-MODIFIED:20171104T033515Z
UID:10003575-1512770400-1512770400@www.bcmagazine.net
SUMMARY:Zed Bias
DESCRIPTION:Zed Bias\nDate: 10pm\, 8 December\, 2017\nVenue: Mazu\nTickets: $250\, $180
URL:https://www.bcmagazine.net/event/zed-bias-2017/
LOCATION:Mazu\, 8-11 Lan Kwai Fong\, Central\, Hong Kong
CATEGORIES:2017,DJ,Music
GEO:22.280673;114.1557097
X-APPLE-STRUCTURED-LOCATION;VALUE=URI;X-ADDRESS=Mazu 8-11 Lan Kwai Fong Central Hong Kong;X-APPLE-RADIUS=500;X-TITLE=8-11 Lan Kwai Fong:geo:114.1557097,22.280673
END:VEVENT
END:VCALENDAR