BEGIN:VCALENDAR
VERSION:2.0
PRODID:-//bc magazine - ECPv6.15.20//NONSGML v1.0//EN
CALSCALE:GREGORIAN
METHOD:PUBLISH
X-WR-CALNAME:bc magazine
X-ORIGINAL-URL:https://www.bcmagazine.net
X-WR-CALDESC:Events for bc magazine
REFRESH-INTERVAL;VALUE=DURATION:PT1H
X-Robots-Tag:noindex
X-PUBLISHED-TTL:PT1H
BEGIN:VTIMEZONE
TZID:Asia/Hong_Kong
BEGIN:STANDARD
TZOFFSETFROM:+0800
TZOFFSETTO:+0800
TZNAME:HKT
DTSTART:20150101T000000
END:STANDARD
END:VTIMEZONE
BEGIN:VEVENT
DTSTART;VALUE=DATE:20190916
DTEND;VALUE=DATE:20191029
DTSTAMP:20260421T074544
CREATED:19160906T150024Z
LAST-MODIFIED:20190809T135314Z
UID:10000789-1568592000-1572307199@www.bcmagazine.net
SUMMARY:MGM Macau Oktoberfest
DESCRIPTION:MGM Macau Oktoberfest\nDate: 16 September – 28 October\, 2019\nVenue: MGM Macau\nTickets: $18o
URL:https://www.bcmagazine.net/event/mgm-macau-oktoberfest-2019/
LOCATION:MGM Macau\, Avenida Dr. Sun Yat Sen\, Macau
CATEGORIES:2019,Food,Macau,Nightlife
GEO:22.1854455;113.5488817
X-APPLE-STRUCTURED-LOCATION;VALUE=URI;X-ADDRESS=MGM Macau Avenida Dr. Sun Yat Sen Macau;X-APPLE-RADIUS=500;X-TITLE=Avenida Dr. Sun Yat Sen:geo:113.5488817,22.1854455
END:VEVENT
BEGIN:VEVENT
DTSTART;TZID=Asia/Hong_Kong:20161023T130000
DTEND;TZID=Asia/Hong_Kong:20161023T200000
DTSTAMP:20260421T074544
CREATED:19160906T150024Z
LAST-MODIFIED:20160909T024627Z
UID:10000788-1477227600-1477252800@www.bcmagazine.net
SUMMARY:MGM Macau Oktoberfest
DESCRIPTION:MGM Macau Oktoberfest\nDate: 1-8pm\, 12 September – 23 October\, 2016\nVenue: MGM Macau\nTickets: $16o
URL:https://www.bcmagazine.net/event/mgm-macau-oktoberfest-2016/2016-10-23/
LOCATION:Hong Kong
CATEGORIES:2016,Food,Macau,Nightlife
END:VEVENT
BEGIN:VEVENT
DTSTART;TZID=Asia/Hong_Kong:20161022T130000
DTEND;TZID=Asia/Hong_Kong:20161022T200000
DTSTAMP:20260421T074544
CREATED:19160906T150024Z
LAST-MODIFIED:20160909T024627Z
UID:10000787-1477141200-1477166400@www.bcmagazine.net
SUMMARY:MGM Macau Oktoberfest
DESCRIPTION:MGM Macau Oktoberfest\nDate: 1-8pm\, 12 September – 23 October\, 2016\nVenue: MGM Macau\nTickets: $16o
URL:https://www.bcmagazine.net/event/mgm-macau-oktoberfest-2016/2016-10-22/
LOCATION:Hong Kong
CATEGORIES:2016,Food,Macau,Nightlife
END:VEVENT
BEGIN:VEVENT
DTSTART;TZID=Asia/Hong_Kong:20161021T130000
DTEND;TZID=Asia/Hong_Kong:20161021T200000
DTSTAMP:20260421T074544
CREATED:19160906T150024Z
LAST-MODIFIED:20160909T024627Z
UID:10000786-1477054800-1477080000@www.bcmagazine.net
SUMMARY:MGM Macau Oktoberfest
DESCRIPTION:MGM Macau Oktoberfest\nDate: 1-8pm\, 12 September – 23 October\, 2016\nVenue: MGM Macau\nTickets: $16o
URL:https://www.bcmagazine.net/event/mgm-macau-oktoberfest-2016/2016-10-21/
LOCATION:Hong Kong
CATEGORIES:2016,Food,Macau,Nightlife
END:VEVENT
BEGIN:VEVENT
DTSTART;TZID=Asia/Hong_Kong:20161020T130000
DTEND;TZID=Asia/Hong_Kong:20161020T200000
DTSTAMP:20260421T074544
CREATED:19160906T150024Z
LAST-MODIFIED:20160909T024627Z
UID:10000785-1476968400-1476993600@www.bcmagazine.net
SUMMARY:MGM Macau Oktoberfest
DESCRIPTION:MGM Macau Oktoberfest\nDate: 1-8pm\, 12 September – 23 October\, 2016\nVenue: MGM Macau\nTickets: $16o
URL:https://www.bcmagazine.net/event/mgm-macau-oktoberfest-2016/2016-10-20/
LOCATION:Hong Kong
CATEGORIES:2016,Food,Macau,Nightlife
END:VEVENT
BEGIN:VEVENT
DTSTART;TZID=Asia/Hong_Kong:20161019T130000
DTEND;TZID=Asia/Hong_Kong:20161019T200000
DTSTAMP:20260421T074544
CREATED:19160906T150024Z
LAST-MODIFIED:20160909T024627Z
UID:10000784-1476882000-1476907200@www.bcmagazine.net
SUMMARY:MGM Macau Oktoberfest
DESCRIPTION:MGM Macau Oktoberfest\nDate: 1-8pm\, 12 September – 23 October\, 2016\nVenue: MGM Macau\nTickets: $16o
URL:https://www.bcmagazine.net/event/mgm-macau-oktoberfest-2016/2016-10-19/
LOCATION:Hong Kong
CATEGORIES:2016,Food,Macau,Nightlife
END:VEVENT
BEGIN:VEVENT
DTSTART;TZID=Asia/Hong_Kong:20161018T130000
DTEND;TZID=Asia/Hong_Kong:20161018T200000
DTSTAMP:20260421T074544
CREATED:19160906T150024Z
LAST-MODIFIED:20160909T024627Z
UID:10000783-1476795600-1476820800@www.bcmagazine.net
SUMMARY:MGM Macau Oktoberfest
DESCRIPTION:MGM Macau Oktoberfest\nDate: 1-8pm\, 12 September – 23 October\, 2016\nVenue: MGM Macau\nTickets: $16o
URL:https://www.bcmagazine.net/event/mgm-macau-oktoberfest-2016/2016-10-18/
LOCATION:Hong Kong
CATEGORIES:2016,Food,Macau,Nightlife
END:VEVENT
BEGIN:VEVENT
DTSTART;TZID=Asia/Hong_Kong:20161017T130000
DTEND;TZID=Asia/Hong_Kong:20161017T200000
DTSTAMP:20260421T074544
CREATED:19160906T150024Z
LAST-MODIFIED:20160909T024627Z
UID:10000782-1476709200-1476734400@www.bcmagazine.net
SUMMARY:MGM Macau Oktoberfest
DESCRIPTION:MGM Macau Oktoberfest\nDate: 1-8pm\, 12 September – 23 October\, 2016\nVenue: MGM Macau\nTickets: $16o
URL:https://www.bcmagazine.net/event/mgm-macau-oktoberfest-2016/2016-10-17/
LOCATION:Hong Kong
CATEGORIES:2016,Food,Macau,Nightlife
END:VEVENT
BEGIN:VEVENT
DTSTART;TZID=Asia/Hong_Kong:20161016T130000
DTEND;TZID=Asia/Hong_Kong:20161016T200000
DTSTAMP:20260421T074544
CREATED:19160906T150024Z
LAST-MODIFIED:20160909T024627Z
UID:10000781-1476622800-1476648000@www.bcmagazine.net
SUMMARY:MGM Macau Oktoberfest
DESCRIPTION:MGM Macau Oktoberfest\nDate: 1-8pm\, 12 September – 23 October\, 2016\nVenue: MGM Macau\nTickets: $16o
URL:https://www.bcmagazine.net/event/mgm-macau-oktoberfest-2016/2016-10-16/
LOCATION:Hong Kong
CATEGORIES:2016,Food,Macau,Nightlife
END:VEVENT
BEGIN:VEVENT
DTSTART;TZID=Asia/Hong_Kong:20161015T130000
DTEND;TZID=Asia/Hong_Kong:20161015T200000
DTSTAMP:20260421T074544
CREATED:19160906T150024Z
LAST-MODIFIED:20160909T024627Z
UID:10000780-1476536400-1476561600@www.bcmagazine.net
SUMMARY:MGM Macau Oktoberfest
DESCRIPTION:MGM Macau Oktoberfest\nDate: 1-8pm\, 12 September – 23 October\, 2016\nVenue: MGM Macau\nTickets: $16o
URL:https://www.bcmagazine.net/event/mgm-macau-oktoberfest-2016/2016-10-15/
LOCATION:Hong Kong
CATEGORIES:2016,Food,Macau,Nightlife
END:VEVENT
BEGIN:VEVENT
DTSTART;TZID=Asia/Hong_Kong:20161014T130000
DTEND;TZID=Asia/Hong_Kong:20161014T200000
DTSTAMP:20260421T074544
CREATED:19160906T150024Z
LAST-MODIFIED:20160909T024627Z
UID:10000779-1476450000-1476475200@www.bcmagazine.net
SUMMARY:MGM Macau Oktoberfest
DESCRIPTION:MGM Macau Oktoberfest\nDate: 1-8pm\, 12 September – 23 October\, 2016\nVenue: MGM Macau\nTickets: $16o
URL:https://www.bcmagazine.net/event/mgm-macau-oktoberfest-2016/2016-10-14/
LOCATION:Hong Kong
CATEGORIES:2016,Food,Macau,Nightlife
END:VEVENT
BEGIN:VEVENT
DTSTART;TZID=Asia/Hong_Kong:20161013T130000
DTEND;TZID=Asia/Hong_Kong:20161013T200000
DTSTAMP:20260421T074544
CREATED:19160906T150024Z
LAST-MODIFIED:20160909T024627Z
UID:10000778-1476363600-1476388800@www.bcmagazine.net
SUMMARY:MGM Macau Oktoberfest
DESCRIPTION:MGM Macau Oktoberfest\nDate: 1-8pm\, 12 September – 23 October\, 2016\nVenue: MGM Macau\nTickets: $16o
URL:https://www.bcmagazine.net/event/mgm-macau-oktoberfest-2016/2016-10-13/
LOCATION:Hong Kong
CATEGORIES:2016,Food,Macau,Nightlife
END:VEVENT
BEGIN:VEVENT
DTSTART;TZID=Asia/Hong_Kong:20161012T130000
DTEND;TZID=Asia/Hong_Kong:20161012T200000
DTSTAMP:20260421T074544
CREATED:19160906T150024Z
LAST-MODIFIED:20160909T024627Z
UID:10000777-1476277200-1476302400@www.bcmagazine.net
SUMMARY:MGM Macau Oktoberfest
DESCRIPTION:MGM Macau Oktoberfest\nDate: 1-8pm\, 12 September – 23 October\, 2016\nVenue: MGM Macau\nTickets: $16o
URL:https://www.bcmagazine.net/event/mgm-macau-oktoberfest-2016/2016-10-12/
LOCATION:Hong Kong
CATEGORIES:2016,Food,Macau,Nightlife
END:VEVENT
BEGIN:VEVENT
DTSTART;TZID=Asia/Hong_Kong:20161011T130000
DTEND;TZID=Asia/Hong_Kong:20161011T200000
DTSTAMP:20260421T074544
CREATED:19160906T150024Z
LAST-MODIFIED:20160909T024627Z
UID:10000776-1476190800-1476216000@www.bcmagazine.net
SUMMARY:MGM Macau Oktoberfest
DESCRIPTION:MGM Macau Oktoberfest\nDate: 1-8pm\, 12 September – 23 October\, 2016\nVenue: MGM Macau\nTickets: $16o
URL:https://www.bcmagazine.net/event/mgm-macau-oktoberfest-2016/2016-10-11/
LOCATION:Hong Kong
CATEGORIES:2016,Food,Macau,Nightlife
END:VEVENT
BEGIN:VEVENT
DTSTART;TZID=Asia/Hong_Kong:20161010T130000
DTEND;TZID=Asia/Hong_Kong:20161010T200000
DTSTAMP:20260421T074544
CREATED:19160906T150024Z
LAST-MODIFIED:20160909T024627Z
UID:10000775-1476104400-1476129600@www.bcmagazine.net
SUMMARY:MGM Macau Oktoberfest
DESCRIPTION:MGM Macau Oktoberfest\nDate: 1-8pm\, 12 September – 23 October\, 2016\nVenue: MGM Macau\nTickets: $16o
URL:https://www.bcmagazine.net/event/mgm-macau-oktoberfest-2016/2016-10-10/
LOCATION:Hong Kong
CATEGORIES:2016,Food,Macau,Nightlife
END:VEVENT
BEGIN:VEVENT
DTSTART;TZID=Asia/Hong_Kong:20161009T130000
DTEND;TZID=Asia/Hong_Kong:20161009T200000
DTSTAMP:20260421T074544
CREATED:19160906T150024Z
LAST-MODIFIED:20160909T024627Z
UID:10000774-1476018000-1476043200@www.bcmagazine.net
SUMMARY:MGM Macau Oktoberfest
DESCRIPTION:MGM Macau Oktoberfest\nDate: 1-8pm\, 12 September – 23 October\, 2016\nVenue: MGM Macau\nTickets: $16o
URL:https://www.bcmagazine.net/event/mgm-macau-oktoberfest-2016/2016-10-09/
LOCATION:Hong Kong
CATEGORIES:2016,Food,Macau,Nightlife
END:VEVENT
BEGIN:VEVENT
DTSTART;TZID=Asia/Hong_Kong:20161008T130000
DTEND;TZID=Asia/Hong_Kong:20161008T200000
DTSTAMP:20260421T074544
CREATED:19160906T150024Z
LAST-MODIFIED:20160909T024627Z
UID:10000773-1475931600-1475956800@www.bcmagazine.net
SUMMARY:MGM Macau Oktoberfest
DESCRIPTION:MGM Macau Oktoberfest\nDate: 1-8pm\, 12 September – 23 October\, 2016\nVenue: MGM Macau\nTickets: $16o
URL:https://www.bcmagazine.net/event/mgm-macau-oktoberfest-2016/2016-10-08/
LOCATION:Hong Kong
CATEGORIES:2016,Food,Macau,Nightlife
END:VEVENT
BEGIN:VEVENT
DTSTART;TZID=Asia/Hong_Kong:20161007T130000
DTEND;TZID=Asia/Hong_Kong:20161007T200000
DTSTAMP:20260421T074544
CREATED:19160906T150024Z
LAST-MODIFIED:20160909T024627Z
UID:10000772-1475845200-1475870400@www.bcmagazine.net
SUMMARY:MGM Macau Oktoberfest
DESCRIPTION:MGM Macau Oktoberfest\nDate: 1-8pm\, 12 September – 23 October\, 2016\nVenue: MGM Macau\nTickets: $16o
URL:https://www.bcmagazine.net/event/mgm-macau-oktoberfest-2016/2016-10-07/
LOCATION:Hong Kong
CATEGORIES:2016,Food,Macau,Nightlife
END:VEVENT
BEGIN:VEVENT
DTSTART;TZID=Asia/Hong_Kong:20161006T130000
DTEND;TZID=Asia/Hong_Kong:20161006T200000
DTSTAMP:20260421T074544
CREATED:19160906T150024Z
LAST-MODIFIED:20160909T024627Z
UID:10000771-1475758800-1475784000@www.bcmagazine.net
SUMMARY:MGM Macau Oktoberfest
DESCRIPTION:MGM Macau Oktoberfest\nDate: 1-8pm\, 12 September – 23 October\, 2016\nVenue: MGM Macau\nTickets: $16o
URL:https://www.bcmagazine.net/event/mgm-macau-oktoberfest-2016/2016-10-06/
LOCATION:Hong Kong
CATEGORIES:2016,Food,Macau,Nightlife
END:VEVENT
BEGIN:VEVENT
DTSTART;TZID=Asia/Hong_Kong:20161005T130000
DTEND;TZID=Asia/Hong_Kong:20161005T200000
DTSTAMP:20260421T074544
CREATED:19160906T150024Z
LAST-MODIFIED:20160909T024627Z
UID:10000770-1475672400-1475697600@www.bcmagazine.net
SUMMARY:MGM Macau Oktoberfest
DESCRIPTION:MGM Macau Oktoberfest\nDate: 1-8pm\, 12 September – 23 October\, 2016\nVenue: MGM Macau\nTickets: $16o
URL:https://www.bcmagazine.net/event/mgm-macau-oktoberfest-2016/2016-10-05/
LOCATION:Hong Kong
CATEGORIES:2016,Food,Macau,Nightlife
END:VEVENT
BEGIN:VEVENT
DTSTART;TZID=Asia/Hong_Kong:20161004T130000
DTEND;TZID=Asia/Hong_Kong:20161004T200000
DTSTAMP:20260421T074544
CREATED:19160906T150024Z
LAST-MODIFIED:20160909T024627Z
UID:10000769-1475586000-1475611200@www.bcmagazine.net
SUMMARY:MGM Macau Oktoberfest
DESCRIPTION:MGM Macau Oktoberfest\nDate: 1-8pm\, 12 September – 23 October\, 2016\nVenue: MGM Macau\nTickets: $16o
URL:https://www.bcmagazine.net/event/mgm-macau-oktoberfest-2016/2016-10-04/
LOCATION:Hong Kong
CATEGORIES:2016,Food,Macau,Nightlife
END:VEVENT
BEGIN:VEVENT
DTSTART;TZID=Asia/Hong_Kong:20161003T130000
DTEND;TZID=Asia/Hong_Kong:20161003T200000
DTSTAMP:20260421T074544
CREATED:19160906T150024Z
LAST-MODIFIED:20160909T024627Z
UID:10000768-1475499600-1475524800@www.bcmagazine.net
SUMMARY:MGM Macau Oktoberfest
DESCRIPTION:MGM Macau Oktoberfest\nDate: 1-8pm\, 12 September – 23 October\, 2016\nVenue: MGM Macau\nTickets: $16o
URL:https://www.bcmagazine.net/event/mgm-macau-oktoberfest-2016/2016-10-03/
LOCATION:Hong Kong
CATEGORIES:2016,Food,Macau,Nightlife
END:VEVENT
BEGIN:VEVENT
DTSTART;TZID=Asia/Hong_Kong:20161002T130000
DTEND;TZID=Asia/Hong_Kong:20161002T200000
DTSTAMP:20260421T074544
CREATED:19160906T150024Z
LAST-MODIFIED:20160909T024627Z
UID:10000767-1475413200-1475438400@www.bcmagazine.net
SUMMARY:MGM Macau Oktoberfest
DESCRIPTION:MGM Macau Oktoberfest\nDate: 1-8pm\, 12 September – 23 October\, 2016\nVenue: MGM Macau\nTickets: $16o
URL:https://www.bcmagazine.net/event/mgm-macau-oktoberfest-2016/2016-10-02/
LOCATION:Hong Kong
CATEGORIES:2016,Food,Macau,Nightlife
END:VEVENT
BEGIN:VEVENT
DTSTART;TZID=Asia/Hong_Kong:20161001T130000
DTEND;TZID=Asia/Hong_Kong:20161001T200000
DTSTAMP:20260421T074544
CREATED:19160906T150024Z
LAST-MODIFIED:20160909T024627Z
UID:10000766-1475326800-1475352000@www.bcmagazine.net
SUMMARY:MGM Macau Oktoberfest
DESCRIPTION:MGM Macau Oktoberfest\nDate: 1-8pm\, 12 September – 23 October\, 2016\nVenue: MGM Macau\nTickets: $16o
URL:https://www.bcmagazine.net/event/mgm-macau-oktoberfest-2016/2016-10-01/
LOCATION:Hong Kong
CATEGORIES:2016,Food,Macau,Nightlife
END:VEVENT
BEGIN:VEVENT
DTSTART;TZID=Asia/Hong_Kong:20160930T130000
DTEND;TZID=Asia/Hong_Kong:20160930T200000
DTSTAMP:20260421T074544
CREATED:19160906T150024Z
LAST-MODIFIED:20160909T024627Z
UID:10000765-1475240400-1475265600@www.bcmagazine.net
SUMMARY:MGM Macau Oktoberfest
DESCRIPTION:MGM Macau Oktoberfest\nDate: 1-8pm\, 12 September – 23 October\, 2016\nVenue: MGM Macau\nTickets: $16o
URL:https://www.bcmagazine.net/event/mgm-macau-oktoberfest-2016/2016-09-30/
LOCATION:Hong Kong
CATEGORIES:2016,Food,Macau,Nightlife
END:VEVENT
BEGIN:VEVENT
DTSTART;TZID=Asia/Hong_Kong:20160929T130000
DTEND;TZID=Asia/Hong_Kong:20160929T200000
DTSTAMP:20260421T074544
CREATED:19160906T150024Z
LAST-MODIFIED:20160909T024627Z
UID:10000764-1475154000-1475179200@www.bcmagazine.net
SUMMARY:MGM Macau Oktoberfest
DESCRIPTION:MGM Macau Oktoberfest\nDate: 1-8pm\, 12 September – 23 October\, 2016\nVenue: MGM Macau\nTickets: $16o
URL:https://www.bcmagazine.net/event/mgm-macau-oktoberfest-2016/2016-09-29/
LOCATION:Hong Kong
CATEGORIES:2016,Food,Macau,Nightlife
END:VEVENT
BEGIN:VEVENT
DTSTART;TZID=Asia/Hong_Kong:20160928T130000
DTEND;TZID=Asia/Hong_Kong:20160928T200000
DTSTAMP:20260421T074544
CREATED:19160906T150024Z
LAST-MODIFIED:20160909T024627Z
UID:10000763-1475067600-1475092800@www.bcmagazine.net
SUMMARY:MGM Macau Oktoberfest
DESCRIPTION:MGM Macau Oktoberfest\nDate: 1-8pm\, 12 September – 23 October\, 2016\nVenue: MGM Macau\nTickets: $16o
URL:https://www.bcmagazine.net/event/mgm-macau-oktoberfest-2016/2016-09-28/
LOCATION:Hong Kong
CATEGORIES:2016,Food,Macau,Nightlife
END:VEVENT
BEGIN:VEVENT
DTSTART;TZID=Asia/Hong_Kong:20160927T130000
DTEND;TZID=Asia/Hong_Kong:20160927T200000
DTSTAMP:20260421T074544
CREATED:19160906T150024Z
LAST-MODIFIED:20160909T024627Z
UID:10000762-1474981200-1475006400@www.bcmagazine.net
SUMMARY:MGM Macau Oktoberfest
DESCRIPTION:MGM Macau Oktoberfest\nDate: 1-8pm\, 12 September – 23 October\, 2016\nVenue: MGM Macau\nTickets: $16o
URL:https://www.bcmagazine.net/event/mgm-macau-oktoberfest-2016/2016-09-27/
LOCATION:Hong Kong
CATEGORIES:2016,Food,Macau,Nightlife
END:VEVENT
BEGIN:VEVENT
DTSTART;TZID=Asia/Hong_Kong:20160926T130000
DTEND;TZID=Asia/Hong_Kong:20160926T200000
DTSTAMP:20260421T074544
CREATED:19160906T150024Z
LAST-MODIFIED:20160909T024627Z
UID:10000761-1474894800-1474920000@www.bcmagazine.net
SUMMARY:MGM Macau Oktoberfest
DESCRIPTION:MGM Macau Oktoberfest\nDate: 1-8pm\, 12 September – 23 October\, 2016\nVenue: MGM Macau\nTickets: $16o
URL:https://www.bcmagazine.net/event/mgm-macau-oktoberfest-2016/2016-09-26/
LOCATION:Hong Kong
CATEGORIES:2016,Food,Macau,Nightlife
END:VEVENT
BEGIN:VEVENT
DTSTART;TZID=Asia/Hong_Kong:20160925T130000
DTEND;TZID=Asia/Hong_Kong:20160925T200000
DTSTAMP:20260421T074544
CREATED:19160906T150024Z
LAST-MODIFIED:20160909T024627Z
UID:10000760-1474808400-1474833600@www.bcmagazine.net
SUMMARY:MGM Macau Oktoberfest
DESCRIPTION:MGM Macau Oktoberfest\nDate: 1-8pm\, 12 September – 23 October\, 2016\nVenue: MGM Macau\nTickets: $16o
URL:https://www.bcmagazine.net/event/mgm-macau-oktoberfest-2016/2016-09-25/
LOCATION:Hong Kong
CATEGORIES:2016,Food,Macau,Nightlife
END:VEVENT
END:VCALENDAR