BEGIN:VCALENDAR
VERSION:2.0
PRODID:-//bc magazine - ECPv6.15.20//NONSGML v1.0//EN
CALSCALE:GREGORIAN
METHOD:PUBLISH
X-WR-CALNAME:bc magazine
X-ORIGINAL-URL:https://www.bcmagazine.net
X-WR-CALDESC:Events for bc magazine
REFRESH-INTERVAL;VALUE=DURATION:PT1H
X-Robots-Tag:noindex
X-PUBLISHED-TTL:PT1H
BEGIN:VTIMEZONE
TZID:Asia/Hong_Kong
BEGIN:STANDARD
TZOFFSETFROM:+0800
TZOFFSETTO:+0800
TZNAME:HKT
DTSTART:20180101T000000
END:STANDARD
END:VTIMEZONE
BEGIN:VEVENT
DTSTART;TZID=Asia/Hong_Kong:20191001T200000
DTEND;TZID=Asia/Hong_Kong:20191001T200000
DTSTAMP:20260424T120313
CREATED:19190409T044512Z
LAST-MODIFIED:20190924T045824Z
UID:10004000-1569960000-1569960000@www.bcmagazine.net
SUMMARY:Rap Theatre
DESCRIPTION:Rap Theatre – Hong Kong Love\nDate: 8pm\, 29 September & 1 October\, 2019\nVenue: Kitec\, Music Zone@E-Max\nTickets: $1\,000\, $500\, $300\, $200
URL:https://www.bcmagazine.net/event/rap-theatre-01-10-2019/
LOCATION:KITEC\, Music Zone@E-Max\, KITEC\,‎ 1 Trademart Drive\, Kowloon Bay\, Hong Kong
CATEGORIES:2019,Concert,Music,Performing Arts
ATTACH;FMTTYPE=image/jpeg:https://www.bcmagazine.net/wp-content/uploads/1919/04/hk-love-2019-e1569301011489.jpg
GEO:22.3239575;114.2037608
X-APPLE-STRUCTURED-LOCATION;VALUE=URI;X-ADDRESS=KITEC Music Zone@E-Max KITEC‎ 1 Trademart Drive Kowloon Bay Hong Kong;X-APPLE-RADIUS=500;X-TITLE=KITEC\,‎ 1 Trademart Drive:geo:114.2037608,22.3239575
END:VEVENT
BEGIN:VEVENT
DTSTART;TZID=Asia/Hong_Kong:20190929T200000
DTEND;TZID=Asia/Hong_Kong:20190929T200000
DTSTAMP:20260424T120313
CREATED:19190409T044512Z
LAST-MODIFIED:20190924T045739Z
UID:10003996-1569787200-1569787200@www.bcmagazine.net
SUMMARY:Rap Theatre
DESCRIPTION:Rap Theatre – Hong Kong Love\nDate: 8pm\, 29 September & 1 October\, 2019\nVenue: Kitec\, Music Zone@E-Max\nTickets: $1\,000\, $500\, $300\, $200
URL:https://www.bcmagazine.net/event/rap-theatre-29-09-2019/
LOCATION:KITEC\, Music Zone@E-Max\, KITEC\,‎ 1 Trademart Drive\, Kowloon Bay\, Hong Kong
CATEGORIES:2019,Concert,Music,Performing Arts
ATTACH;FMTTYPE=image/jpeg:https://www.bcmagazine.net/wp-content/uploads/1919/04/hk-love-2019-e1569301011489.jpg
GEO:22.3239575;114.2037608
X-APPLE-STRUCTURED-LOCATION;VALUE=URI;X-ADDRESS=KITEC Music Zone@E-Max KITEC‎ 1 Trademart Drive Kowloon Bay Hong Kong;X-APPLE-RADIUS=500;X-TITLE=KITEC\,‎ 1 Trademart Drive:geo:114.2037608,22.3239575
END:VEVENT
BEGIN:VEVENT
DTSTART;TZID=Asia/Hong_Kong:20190926T194500
DTEND;TZID=Asia/Hong_Kong:20190926T194500
DTSTAMP:20260424T120313
CREATED:19190409T044512Z
LAST-MODIFIED:20190924T051220Z
UID:10004005-1569527100-1569527100@www.bcmagazine.net
SUMMARY:Stacey Long Ting
DESCRIPTION:Stacey Long Ting\nDate: 7:45pm\, 26 September\, 2019\nVenue: Kitec\, Music Zone@E-Max\nTickets: $988\, $688\, $388 from Cityline
URL:https://www.bcmagazine.net/event/stacey-long-ting-2019/
LOCATION:KITEC\, Music Zone@E-Max\, KITEC\,‎ 1 Trademart Drive\, Kowloon Bay\, Hong Kong
CATEGORIES:2019,Concert,Music,Performing Arts
ATTACH;FMTTYPE=image/jpeg:https://www.bcmagazine.net/wp-content/uploads/1919/04/Stacey-Long-Ting-2019.jpg
GEO:22.3239575;114.2037608
X-APPLE-STRUCTURED-LOCATION;VALUE=URI;X-ADDRESS=KITEC Music Zone@E-Max KITEC‎ 1 Trademart Drive Kowloon Bay Hong Kong;X-APPLE-RADIUS=500;X-TITLE=KITEC\,‎ 1 Trademart Drive:geo:114.2037608,22.3239575
END:VEVENT
BEGIN:VEVENT
DTSTART;TZID=Asia/Hong_Kong:20190924T193000
DTEND;TZID=Asia/Hong_Kong:20190924T193000
DTSTAMP:20260424T120313
CREATED:19190409T044512Z
LAST-MODIFIED:20190924T034912Z
UID:10004753-1569353400-1569353400@www.bcmagazine.net
SUMMARY:Texas - Cancelled
DESCRIPTION:Texas\nDate: 7:30pm\, 24 September\, 2019\nVenue: Kitec\, Music Zone@E-Max\nTickets: $490 from Ticketflap
URL:https://www.bcmagazine.net/event/texas-2019/
LOCATION:KITEC\, Music Zone@E-Max\, KITEC\,‎ 1 Trademart Drive\, Kowloon Bay\, Hong Kong
CATEGORIES:2019,Cancelled,Concert,Music,Performing Arts
ATTACH;FMTTYPE=image/jpeg:https://www.bcmagazine.net/wp-content/uploads/1919/04/Texas-2019.jpg
GEO:22.3239575;114.2037608
X-APPLE-STRUCTURED-LOCATION;VALUE=URI;X-ADDRESS=KITEC Music Zone@E-Max KITEC‎ 1 Trademart Drive Kowloon Bay Hong Kong;X-APPLE-RADIUS=500;X-TITLE=KITEC\,‎ 1 Trademart Drive:geo:114.2037608,22.3239575
END:VEVENT
BEGIN:VEVENT
DTSTART;TZID=Asia/Hong_Kong:20190803T200000
DTEND;TZID=Asia/Hong_Kong:20190803T200000
DTSTAMP:20260424T120313
CREATED:19190711T044512Z
LAST-MODIFIED:20190717T044835Z
UID:10004850-1564862400-1564862400@www.bcmagazine.net
SUMMARY:Seasons For Change
DESCRIPTION:Seasons For Change – Petals of Tomorrow\nDate: 8pm\, 3 August\, 2019\nVenue: Kitec\, Music Zone@E-Max\nTickets: $280
URL:https://www.bcmagazine.net/event/seasons-for-change-2019/
LOCATION:KITEC\, Music Zone@E-Max\, KITEC\,‎ 1 Trademart Drive\, Kowloon Bay\, Hong Kong
CATEGORIES:2019,Concert,Music,Performing Arts
ATTACH;FMTTYPE=image/jpeg:https://www.bcmagazine.net/wp-content/uploads/1919/07/Seasons-For-Change-2019.jpg
GEO:22.3239575;114.2037608
X-APPLE-STRUCTURED-LOCATION;VALUE=URI;X-ADDRESS=KITEC Music Zone@E-Max KITEC‎ 1 Trademart Drive Kowloon Bay Hong Kong;X-APPLE-RADIUS=500;X-TITLE=KITEC\,‎ 1 Trademart Drive:geo:114.2037608,22.3239575
END:VEVENT
BEGIN:VEVENT
DTSTART;TZID=Asia/Hong_Kong:20190728T160000
DTEND;TZID=Asia/Hong_Kong:20190728T160000
DTSTAMP:20260424T120313
CREATED:19181023T145036Z
LAST-MODIFIED:20190627T024622Z
UID:10004540-1564329600-1564329600@www.bcmagazine.net
SUMMARY:Sing To
DESCRIPTION:Sing To – Fan Meeting\nDate: 4pm\, 28 July\, 2019\nVenue: Kitec\, Music Zone@E-Max\nTickets: $1\,480\, $1\,280 from Cityline
URL:https://www.bcmagazine.net/event/sing-to-2019/
LOCATION:KITEC\, Music Zone@E-Max\, KITEC\,‎ 1 Trademart Drive\, Kowloon Bay\, Hong Kong
CATEGORIES:2019,Concert,Fan Meeting,Music,Performing Arts
ATTACH;FMTTYPE=image/jpeg:https://www.bcmagazine.net/wp-content/uploads/1918/10/singto-hk-2019.jpg
GEO:22.3239575;114.2037608
X-APPLE-STRUCTURED-LOCATION;VALUE=URI;X-ADDRESS=KITEC Music Zone@E-Max KITEC‎ 1 Trademart Drive Kowloon Bay Hong Kong;X-APPLE-RADIUS=500;X-TITLE=KITEC\,‎ 1 Trademart Drive:geo:114.2037608,22.3239575
END:VEVENT
BEGIN:VEVENT
DTSTART;TZID=Asia/Hong_Kong:20190721T200000
DTEND;TZID=Asia/Hong_Kong:20190721T200000
DTSTAMP:20260424T120313
CREATED:19181023T145036Z
LAST-MODIFIED:20190627T024832Z
UID:10004541-1563739200-1563739200@www.bcmagazine.net
SUMMARY:Bazzi
DESCRIPTION:Bazzi\nDate: 8pm\, 21 July\, 2019\nVenue: Kitec\, Music Zone@E-Max\nTickets: $588 from Cityline
URL:https://www.bcmagazine.net/event/bazzi-2019/
LOCATION:KITEC\, Music Zone@E-Max\, KITEC\,‎ 1 Trademart Drive\, Kowloon Bay\, Hong Kong
CATEGORIES:2019,Concert,Music,Performing Arts
GEO:22.3239575;114.2037608
X-APPLE-STRUCTURED-LOCATION;VALUE=URI;X-ADDRESS=KITEC Music Zone@E-Max KITEC‎ 1 Trademart Drive Kowloon Bay Hong Kong;X-APPLE-RADIUS=500;X-TITLE=KITEC\,‎ 1 Trademart Drive:geo:114.2037608,22.3239575
END:VEVENT
BEGIN:VEVENT
DTSTART;TZID=Asia/Hong_Kong:20190719T200000
DTEND;TZID=Asia/Hong_Kong:20190719T200000
DTSTAMP:20260424T120313
CREATED:19181023T145036Z
LAST-MODIFIED:20190627T025104Z
UID:10004542-1563566400-1563566400@www.bcmagazine.net
SUMMARY:Tri-A-Gain
DESCRIPTION:Tri-A-Gain\nDate: 8pm\, 19 July\, 2019\nVenue: Kitec\, Music Zone@E-Max\nTickets: $580\, $480
URL:https://www.bcmagazine.net/event/tri-a-gain-2019/
LOCATION:KITEC\, Music Zone@E-Max\, KITEC\,‎ 1 Trademart Drive\, Kowloon Bay\, Hong Kong
CATEGORIES:2019,Concert,Music,Performing Arts
ATTACH;FMTTYPE=image/jpeg:https://www.bcmagazine.net/wp-content/uploads/1918/10/TRI-A-GAIN.jpg
GEO:22.3239575;114.2037608
X-APPLE-STRUCTURED-LOCATION;VALUE=URI;X-ADDRESS=KITEC Music Zone@E-Max KITEC‎ 1 Trademart Drive Kowloon Bay Hong Kong;X-APPLE-RADIUS=500;X-TITLE=KITEC\,‎ 1 Trademart Drive:geo:114.2037608,22.3239575
END:VEVENT
BEGIN:VEVENT
DTSTART;TZID=Asia/Hong_Kong:20190718T200000
DTEND;TZID=Asia/Hong_Kong:20190718T200000
DTSTAMP:20260424T120313
CREATED:19181023T145036Z
LAST-MODIFIED:20190627T025444Z
UID:10004543-1563480000-1563480000@www.bcmagazine.net
SUMMARY:IN147
DESCRIPTION:IN147 – Leo\nJacqueline\, Chrissy\, Pong Pong\, Esther\nDate: 8pm\, 18 July\, 2019\nVenue: Kitec\, Music Zone@E-Max\nTickets: $200
URL:https://www.bcmagazine.net/event/in147-leo-2019/
LOCATION:KITEC\, Music Zone@E-Max\, KITEC\,‎ 1 Trademart Drive\, Kowloon Bay\, Hong Kong
CATEGORIES:2019,Concert,Music,Performing Arts
ATTACH;FMTTYPE=image/jpeg:https://www.bcmagazine.net/wp-content/uploads/1918/10/IN147-leo-2019.jpg
GEO:22.3239575;114.2037608
X-APPLE-STRUCTURED-LOCATION;VALUE=URI;X-ADDRESS=KITEC Music Zone@E-Max KITEC‎ 1 Trademart Drive Kowloon Bay Hong Kong;X-APPLE-RADIUS=500;X-TITLE=KITEC\,‎ 1 Trademart Drive:geo:114.2037608,22.3239575
END:VEVENT
BEGIN:VEVENT
DTSTART;TZID=Asia/Hong_Kong:20190713T200000
DTEND;TZID=Asia/Hong_Kong:20190713T200000
DTSTAMP:20260424T120313
CREATED:19181023T145036Z
LAST-MODIFIED:20190627T025709Z
UID:10004544-1563048000-1563048000@www.bcmagazine.net
SUMMARY:Noriko Sakai
DESCRIPTION:Noriko Sakai – Miss You\nDate: 8pm\, 13 July\, 2019\nVenue: Kitec\, Music Zone@E-Max\nTickets: $988\, $688 from Cityline
URL:https://www.bcmagazine.net/event/noriko-sakai-hk-2019/
LOCATION:KITEC\, Music Zone@E-Max\, KITEC\,‎ 1 Trademart Drive\, Kowloon Bay\, Hong Kong
CATEGORIES:2019,Concert,Music,Performing Arts
ATTACH;FMTTYPE=image/jpeg:https://www.bcmagazine.net/wp-content/uploads/1918/10/Noriko-Sakai.jpg
GEO:22.3239575;114.2037608
X-APPLE-STRUCTURED-LOCATION;VALUE=URI;X-ADDRESS=KITEC Music Zone@E-Max KITEC‎ 1 Trademart Drive Kowloon Bay Hong Kong;X-APPLE-RADIUS=500;X-TITLE=KITEC\,‎ 1 Trademart Drive:geo:114.2037608,22.3239575
END:VEVENT
BEGIN:VEVENT
DTSTART;TZID=Asia/Hong_Kong:20190713T200000
DTEND;TZID=Asia/Hong_Kong:20190713T200000
DTSTAMP:20260424T120313
CREATED:19181023T145036Z
LAST-MODIFIED:20190702T144147Z
UID:10004545-1563048000-1563048000@www.bcmagazine.net
SUMMARY:Nomad Nomad - Cancelled
DESCRIPTION:Nomad Nomad\nClave\, Came Slowly\, Foster Studio\, Mukzi 木子 & The Island\, Teenage Riot\, Matt Force + Grymeman\, 鬥牛梗 \nDate: 1pm\, 30 June\, 2019\nVenue: This Town Needs\nTickets: $120
URL:https://www.bcmagazine.net/event/nomad-nomad-2019/
LOCATION:KITEC\, Music Zone@E-Max\, KITEC\,‎ 1 Trademart Drive\, Kowloon Bay\, Hong Kong
CATEGORIES:2019,Concert,Music,Performing Arts
GEO:22.3239575;114.2037608
X-APPLE-STRUCTURED-LOCATION;VALUE=URI;X-ADDRESS=KITEC Music Zone@E-Max KITEC‎ 1 Trademart Drive Kowloon Bay Hong Kong;X-APPLE-RADIUS=500;X-TITLE=KITEC\,‎ 1 Trademart Drive:geo:114.2037608,22.3239575
END:VEVENT
BEGIN:VEVENT
DTSTART;TZID=Asia/Hong_Kong:20190712T193000
DTEND;TZID=Asia/Hong_Kong:20190712T193000
DTSTAMP:20260424T120313
CREATED:19181023T145036Z
LAST-MODIFIED:20190627T023230Z
UID:10004538-1562959800-1562959800@www.bcmagazine.net
SUMMARY:Keung To
DESCRIPTION:Keung To Seed #1 Mini Concert\nDate: 7:30pm\, 11-12 July\, 2019\nVenue: Kitec\, Music Zone@E-Max\nTickets: $680 from Cityline
URL:https://www.bcmagazine.net/event/keung-to-12-07-2019/
LOCATION:KITEC\, Music Zone@E-Max\, KITEC\,‎ 1 Trademart Drive\, Kowloon Bay\, Hong Kong
CATEGORIES:2019,Concert,Music,Performing Arts
ATTACH;FMTTYPE=image/jpeg:https://www.bcmagazine.net/wp-content/uploads/1918/10/Keung-To-HK-2019.jpg
GEO:22.3239575;114.2037608
X-APPLE-STRUCTURED-LOCATION;VALUE=URI;X-ADDRESS=KITEC Music Zone@E-Max KITEC‎ 1 Trademart Drive Kowloon Bay Hong Kong;X-APPLE-RADIUS=500;X-TITLE=KITEC\,‎ 1 Trademart Drive:geo:114.2037608,22.3239575
END:VEVENT
BEGIN:VEVENT
DTSTART;TZID=Asia/Hong_Kong:20190711T193000
DTEND;TZID=Asia/Hong_Kong:20190711T193000
DTSTAMP:20260424T120313
CREATED:19181023T145036Z
LAST-MODIFIED:20190627T023241Z
UID:10004537-1562873400-1562873400@www.bcmagazine.net
SUMMARY:Keung To
DESCRIPTION:Keung To Seed #1 Mini Concert\nDate: 7:30pm\, 11-12 July\, 2019\nVenue: Kitec\, Music Zone@E-Max\nTickets: $680 from Cityline
URL:https://www.bcmagazine.net/event/keung-to-11-07-2019/
LOCATION:KITEC\, Music Zone@E-Max\, KITEC\,‎ 1 Trademart Drive\, Kowloon Bay\, Hong Kong
CATEGORIES:2019,Concert,Music,Performing Arts
ATTACH;FMTTYPE=image/jpeg:https://www.bcmagazine.net/wp-content/uploads/1918/10/Keung-To-HK-2019.jpg
GEO:22.3239575;114.2037608
X-APPLE-STRUCTURED-LOCATION;VALUE=URI;X-ADDRESS=KITEC Music Zone@E-Max KITEC‎ 1 Trademart Drive Kowloon Bay Hong Kong;X-APPLE-RADIUS=500;X-TITLE=KITEC\,‎ 1 Trademart Drive:geo:114.2037608,22.3239575
END:VEVENT
BEGIN:VEVENT
DTSTART;TZID=Asia/Hong_Kong:20190705T200000
DTEND;TZID=Asia/Hong_Kong:20190705T200000
DTSTAMP:20260424T120313
CREATED:19181023T145036Z
LAST-MODIFIED:20190627T023559Z
UID:10004539-1562356800-1562356800@www.bcmagazine.net
SUMMARY:Alexandros
DESCRIPTION:Alexandros – Sleepless in Hong Kong\nDate: 8pm\, 5 July\, 2019\nVenue: Kitec\, Music Zone@E-Max\nTickets: $890\, $590 from Cityline
URL:https://www.bcmagazine.net/event/alexandros-2019/
LOCATION:KITEC\, Music Zone@E-Max\, KITEC\,‎ 1 Trademart Drive\, Kowloon Bay\, Hong Kong
CATEGORIES:2019,Concert,Music,Performing Arts
ATTACH;FMTTYPE=image/jpeg:https://www.bcmagazine.net/wp-content/uploads/1918/10/ALEXANDROS-hk-2019.jpg
GEO:22.3239575;114.2037608
X-APPLE-STRUCTURED-LOCATION;VALUE=URI;X-ADDRESS=KITEC Music Zone@E-Max KITEC‎ 1 Trademart Drive Kowloon Bay Hong Kong;X-APPLE-RADIUS=500;X-TITLE=KITEC\,‎ 1 Trademart Drive:geo:114.2037608,22.3239575
END:VEVENT
BEGIN:VEVENT
DTSTART;TZID=Asia/Hong_Kong:20190613T200000
DTEND;TZID=Asia/Hong_Kong:20190613T200000
DTSTAMP:20260424T120313
CREATED:19181213T044512Z
LAST-MODIFIED:20190314T145807Z
UID:10004699-1560456000-1560456000@www.bcmagazine.net
SUMMARY:Iliza Shlesinger
DESCRIPTION:Iliza Shlesinger\nDate: 8pm\, 13 June\, 2019\nVenue: Kitec\, Music Zone@E-Max\nTickets: $688\, $488
URL:https://www.bcmagazine.net/event/iliza-shlesinger-hk-2019/
LOCATION:KITEC\, Music Zone@E-Max\, KITEC\,‎ 1 Trademart Drive\, Kowloon Bay\, Hong Kong
CATEGORIES:2019,Comedy,Performing Arts
GEO:22.3239575;114.2037608
X-APPLE-STRUCTURED-LOCATION;VALUE=URI;X-ADDRESS=KITEC Music Zone@E-Max KITEC‎ 1 Trademart Drive Kowloon Bay Hong Kong;X-APPLE-RADIUS=500;X-TITLE=KITEC\,‎ 1 Trademart Drive:geo:114.2037608,22.3239575
END:VEVENT
BEGIN:VEVENT
DTSTART;TZID=Asia/Hong_Kong:20190602T200000
DTEND;TZID=Asia/Hong_Kong:20190602T200000
DTSTAMP:20260424T120313
CREATED:19190411T044512Z
LAST-MODIFIED:20190414T003054Z
UID:10004758-1559505600-1559505600@www.bcmagazine.net
SUMMARY:Suchmos
DESCRIPTION:Suchmos\nDate: 8pm\, 2 June\, 2019\nVenue: Kitec\, Music Zone@E-Max\nTickets: $650
URL:https://www.bcmagazine.net/event/suchmos-hk-2019/
LOCATION:KITEC\, Music Zone@E-Max\, KITEC\,‎ 1 Trademart Drive\, Kowloon Bay\, Hong Kong
CATEGORIES:2019,Concert,Music,Performing Arts
ATTACH;FMTTYPE=image/jpeg:https://www.bcmagazine.net/wp-content/uploads/2019/04/Suchmos-hk-2019.jpg
GEO:22.3239575;114.2037608
X-APPLE-STRUCTURED-LOCATION;VALUE=URI;X-ADDRESS=KITEC Music Zone@E-Max KITEC‎ 1 Trademart Drive Kowloon Bay Hong Kong;X-APPLE-RADIUS=500;X-TITLE=KITEC\,‎ 1 Trademart Drive:geo:114.2037608,22.3239575
END:VEVENT
BEGIN:VEVENT
DTSTART;TZID=Asia/Hong_Kong:20190528T193000
DTEND;TZID=Asia/Hong_Kong:20190528T193000
DTSTAMP:20260424T120313
CREATED:20190411T044512Z
LAST-MODIFIED:20190414T002226Z
UID:10006578-1559071800-1559071800@www.bcmagazine.net
SUMMARY:The Jesus and Mary Chain
DESCRIPTION:The Jesus and Mary Chain\nDate: 7:30pm\, 28 May\, 2019\nVenue: Kitec\, Music Zone@E-Max\nTickets: $540 from Ticketflap
URL:https://www.bcmagazine.net/event/the-jesus-and-mary-chain-hk-2019/
LOCATION:KITEC\, Music Zone@E-Max\, KITEC\,‎ 1 Trademart Drive\, Kowloon Bay\, Hong Kong
CATEGORIES:2019,Concert,Music,Performing Arts
ATTACH;FMTTYPE=image/jpeg:https://www.bcmagazine.net/wp-content/uploads/1919/04/The-Jesus-and-Mary-Chain-hk-2019.jpg
GEO:22.3239575;114.2037608
X-APPLE-STRUCTURED-LOCATION;VALUE=URI;X-ADDRESS=KITEC Music Zone@E-Max KITEC‎ 1 Trademart Drive Kowloon Bay Hong Kong;X-APPLE-RADIUS=500;X-TITLE=KITEC\,‎ 1 Trademart Drive:geo:114.2037608,22.3239575
END:VEVENT
BEGIN:VEVENT
DTSTART;TZID=Asia/Hong_Kong:20190518T190000
DTEND;TZID=Asia/Hong_Kong:20190518T190000
DTSTAMP:20260424T120313
CREATED:19190111T045612Z
LAST-MODIFIED:20190225T170033Z
UID:10003973-1558206000-1558206000@www.bcmagazine.net
SUMMARY:Yanaginagi
DESCRIPTION:Yanaginagi – Library & Museum Live in Hong Kong\nDate: 7pm\, 18 May\, 2019\nVenue: Kitec\, Music Zone@E-Max\nTickets: $790\, $590 from Cityline
URL:https://www.bcmagazine.net/event/yanaginagi-2019/
LOCATION:KITEC\, Music Zone@E-Max\, KITEC\,‎ 1 Trademart Drive\, Kowloon Bay\, Hong Kong
CATEGORIES:2019,Concert,Music,Performing Arts
ATTACH;FMTTYPE=image/jpeg:https://www.bcmagazine.net/wp-content/uploads/1919/01/yanaginagi-hk-2019.jpg
GEO:22.3239575;114.2037608
X-APPLE-STRUCTURED-LOCATION;VALUE=URI;X-ADDRESS=KITEC Music Zone@E-Max KITEC‎ 1 Trademart Drive Kowloon Bay Hong Kong;X-APPLE-RADIUS=500;X-TITLE=KITEC\,‎ 1 Trademart Drive:geo:114.2037608,22.3239575
END:VEVENT
BEGIN:VEVENT
DTSTART;TZID=Asia/Hong_Kong:20190517T200000
DTEND;TZID=Asia/Hong_Kong:20190517T200000
DTSTAMP:20260424T120313
CREATED:19190411T044512Z
LAST-MODIFIED:20190414T003333Z
UID:10004759-1558123200-1558123200@www.bcmagazine.net
SUMMARY:Elephant Gym
DESCRIPTION:Elephant Gym – Underwater\nDate: 8pm\, 17 May\, 2019\nVenue: Kitec\, Music Zone@E-Max\nTickets: $420\, $350 (advance)
URL:https://www.bcmagazine.net/event/elephant-gym-hk-2019/
LOCATION:KITEC\, Music Zone@E-Max\, KITEC\,‎ 1 Trademart Drive\, Kowloon Bay\, Hong Kong
CATEGORIES:2019,Concert,Music,Performing Arts
ATTACH;FMTTYPE=image/jpeg:https://www.bcmagazine.net/wp-content/uploads/1919/04/Elephant-Gym-hk-2019.jpg
GEO:22.3239575;114.2037608
X-APPLE-STRUCTURED-LOCATION;VALUE=URI;X-ADDRESS=KITEC Music Zone@E-Max KITEC‎ 1 Trademart Drive Kowloon Bay Hong Kong;X-APPLE-RADIUS=500;X-TITLE=KITEC\,‎ 1 Trademart Drive:geo:114.2037608,22.3239575
END:VEVENT
BEGIN:VEVENT
DTSTART;TZID=Asia/Hong_Kong:20190420T200000
DTEND;TZID=Asia/Hong_Kong:20190420T200000
DTSTAMP:20260424T120313
CREATED:19181213T044512Z
LAST-MODIFIED:20190115T040239Z
UID:10004592-1555790400-1555790400@www.bcmagazine.net
SUMMARY:Dean Fujioka
DESCRIPTION:Dean Fujioka – Born to Make History\nDate: 8pm\, 20 April\, 2019\nVenue: Kitec\, Music Zone@E-Max\nTickets: $888\, $688 from Cityline
URL:https://www.bcmagazine.net/event/dean-fujioka-hk-2019/
LOCATION:KITEC\, Music Zone@E-Max\, KITEC\,‎ 1 Trademart Drive\, Kowloon Bay\, Hong Kong
CATEGORIES:2019,Concert,Music,Performing Arts
ATTACH;FMTTYPE=image/jpeg:https://www.bcmagazine.net/wp-content/uploads/1918/12/Dean-Fujioka-Born-to-Make-History-2019.jpg
GEO:22.3239575;114.2037608
X-APPLE-STRUCTURED-LOCATION;VALUE=URI;X-ADDRESS=KITEC Music Zone@E-Max KITEC‎ 1 Trademart Drive Kowloon Bay Hong Kong;X-APPLE-RADIUS=500;X-TITLE=KITEC\,‎ 1 Trademart Drive:geo:114.2037608,22.3239575
END:VEVENT
BEGIN:VEVENT
DTSTART;TZID=Asia/Hong_Kong:20190414T200000
DTEND;TZID=Asia/Hong_Kong:20190414T203000
DTSTAMP:20260424T120313
CREATED:19190111T045612Z
LAST-MODIFIED:20190225T074348Z
UID:10003971-1555272000-1555273800@www.bcmagazine.net
SUMMARY:Toe
DESCRIPTION:Toe – Our Latest Number Asia Tour\nDate: 8pm\, 14 April\, 2019\nVenue: Kitec\, Music Zone@E-Max\nTickets: $500\, $450 (advance)
URL:https://www.bcmagazine.net/event/toe-hk-2019/
LOCATION:KITEC\, Music Zone@E-Max\, KITEC\,‎ 1 Trademart Drive\, Kowloon Bay\, Hong Kong
CATEGORIES:2019,Concert,Music,Performing Arts
ATTACH;FMTTYPE=image/jpeg:https://www.bcmagazine.net/wp-content/uploads/1919/01/toe-hk-2019.jpg
GEO:22.3239575;114.2037608
X-APPLE-STRUCTURED-LOCATION;VALUE=URI;X-ADDRESS=KITEC Music Zone@E-Max KITEC‎ 1 Trademart Drive Kowloon Bay Hong Kong;X-APPLE-RADIUS=500;X-TITLE=KITEC\,‎ 1 Trademart Drive:geo:114.2037608,22.3239575
END:VEVENT
BEGIN:VEVENT
DTSTART;TZID=Asia/Hong_Kong:20190406T193000
DTEND;TZID=Asia/Hong_Kong:20190406T193000
DTSTAMP:20260424T120313
CREATED:19181213T044512Z
LAST-MODIFIED:20190118T081021Z
UID:10004609-1554579000-1554579000@www.bcmagazine.net
SUMMARY:Kala\, Fina Night
DESCRIPTION:Kala\, Fina Night\nDate: 7:30pm\, 6 April 2019\nVenue: Kitec\, Music Zone@E-Max\nTickets: $280\, $250 (advance)
URL:https://www.bcmagazine.net/event/kala-fina-night/
LOCATION:KITEC\, Music Zone@E-Max\, KITEC\,‎ 1 Trademart Drive\, Kowloon Bay\, Hong Kong
CATEGORIES:2019,Concert,Music,Performing Arts
ATTACH;FMTTYPE=image/jpeg:https://www.bcmagazine.net/wp-content/uploads/1918/12/kala-fina-night.jpg
GEO:22.3239575;114.2037608
X-APPLE-STRUCTURED-LOCATION;VALUE=URI;X-ADDRESS=KITEC Music Zone@E-Max KITEC‎ 1 Trademart Drive Kowloon Bay Hong Kong;X-APPLE-RADIUS=500;X-TITLE=KITEC\,‎ 1 Trademart Drive:geo:114.2037608,22.3239575
END:VEVENT
BEGIN:VEVENT
DTSTART;TZID=Asia/Hong_Kong:20190329T200000
DTEND;TZID=Asia/Hong_Kong:20190329T200000
DTSTAMP:20260424T120313
CREATED:19190111T045612Z
LAST-MODIFIED:20190225T170526Z
UID:10004721-1553889600-1553889600@www.bcmagazine.net
SUMMARY:On/Off
DESCRIPTION:On/Off – We Must Love Asia Tour\nDate: 8pm\, 29 March\, 2019\nVenue: Kitec\, Music Zone@E-Max\nTickets: $980 from Cityline
URL:https://www.bcmagazine.net/event/onf-hk-2019/
LOCATION:KITEC\, Music Zone@E-Max\, KITEC\,‎ 1 Trademart Drive\, Kowloon Bay\, Hong Kong
CATEGORIES:2019,Concert,Music,Performing Arts
ATTACH;FMTTYPE=image/jpeg:https://www.bcmagazine.net/wp-content/uploads/1919/01/ONF-WE-MUST-LOVE.jpg
GEO:22.3239575;114.2037608
X-APPLE-STRUCTURED-LOCATION;VALUE=URI;X-ADDRESS=KITEC Music Zone@E-Max KITEC‎ 1 Trademart Drive Kowloon Bay Hong Kong;X-APPLE-RADIUS=500;X-TITLE=KITEC\,‎ 1 Trademart Drive:geo:114.2037608,22.3239575
END:VEVENT
BEGIN:VEVENT
DTSTART;TZID=Asia/Hong_Kong:20190325T200000
DTEND;TZID=Asia/Hong_Kong:20190325T200000
DTSTAMP:20260424T120313
CREATED:19181213T044512Z
LAST-MODIFIED:20190129T125916Z
UID:10004689-1553544000-1553544000@www.bcmagazine.net
SUMMARY:Tom Odell
DESCRIPTION:Tom Odell\nDate: 8pm\, 25 March\, 2019\nVenue: Kitec\, Music Zone@E-Max\nTickets: $590
URL:https://www.bcmagazine.net/event/tom-odell-hk-2019/
LOCATION:KITEC\, Music Zone@E-Max\, KITEC\,‎ 1 Trademart Drive\, Kowloon Bay\, Hong Kong
CATEGORIES:2019,Concert,Music,Performing Arts
GEO:22.3239575;114.2037608
X-APPLE-STRUCTURED-LOCATION;VALUE=URI;X-ADDRESS=KITEC Music Zone@E-Max KITEC‎ 1 Trademart Drive Kowloon Bay Hong Kong;X-APPLE-RADIUS=500;X-TITLE=KITEC\,‎ 1 Trademart Drive:geo:114.2037608,22.3239575
END:VEVENT
BEGIN:VEVENT
DTSTART;TZID=Asia/Hong_Kong:20190322T200000
DTEND;TZID=Asia/Hong_Kong:20190322T200000
DTSTAMP:20260424T120313
CREATED:19181213T044512Z
LAST-MODIFIED:20190122T031547Z
UID:10004669-1553284800-1553284800@www.bcmagazine.net
SUMMARY:Ruel
DESCRIPTION:Ruel\nDate: 8pm\, 22 March\, 2019\nVenue: Kitec\, Music Zone@E-Max\nTickets: $448 from Ticketflap
URL:https://www.bcmagazine.net/event/ruel-hk-2019/
LOCATION:KITEC\, Music Zone@E-Max\, KITEC\,‎ 1 Trademart Drive\, Kowloon Bay\, Hong Kong
CATEGORIES:2019,Concert,Music,Performing Arts
ATTACH;FMTTYPE=image/jpeg:https://www.bcmagazine.net/wp-content/uploads/2018/12/ruel-hk-2019.jpg
GEO:22.3239575;114.2037608
X-APPLE-STRUCTURED-LOCATION;VALUE=URI;X-ADDRESS=KITEC Music Zone@E-Max KITEC‎ 1 Trademart Drive Kowloon Bay Hong Kong;X-APPLE-RADIUS=500;X-TITLE=KITEC\,‎ 1 Trademart Drive:geo:114.2037608,22.3239575
END:VEVENT
BEGIN:VEVENT
DTSTART;TZID=Asia/Hong_Kong:20190310T200000
DTEND;TZID=Asia/Hong_Kong:20190310T200000
DTSTAMP:20260424T120313
CREATED:19180113T044512Z
LAST-MODIFIED:20190131T161945Z
UID:10003734-1552248000-1552248000@www.bcmagazine.net
SUMMARY:Chongtalanta
DESCRIPTION:Chongtalanta World Tour 2019\nDate: 8pm\, 10 March\, 2019\nVenue: Kitec\, Music Zone@E-Max\nTickets: tbc
URL:https://www.bcmagazine.net/event/chongtalanta-hk-2019/
LOCATION:KITEC\, Music Zone@E-Max\, KITEC\,‎ 1 Trademart Drive\, Kowloon Bay\, Hong Kong
CATEGORIES:2019,Concert,Music,Performing Arts
ATTACH;FMTTYPE=image/jpeg:https://www.bcmagazine.net/wp-content/uploads/1918/01/Chongtalanta-hk-2019.jpg
GEO:22.3239575;114.2037608
X-APPLE-STRUCTURED-LOCATION;VALUE=URI;X-ADDRESS=KITEC Music Zone@E-Max KITEC‎ 1 Trademart Drive Kowloon Bay Hong Kong;X-APPLE-RADIUS=500;X-TITLE=KITEC\,‎ 1 Trademart Drive:geo:114.2037608,22.3239575
END:VEVENT
BEGIN:VEVENT
DTSTART;TZID=Asia/Hong_Kong:20190309T193000
DTEND;TZID=Asia/Hong_Kong:20190309T193000
DTSTAMP:20260424T120313
CREATED:19190111T045612Z
LAST-MODIFIED:20190225T171108Z
UID:10004722-1552159800-1552159800@www.bcmagazine.net
SUMMARY:Instinct of Sight
DESCRIPTION:Instinct of Sight – Blended Abstract CD Release Show\nDate: 7:30pm\, 9 March\, 2019\nVenue: Kitec\, Music Zone@E-Max\nTickets: $400\, $320\, $280
URL:https://www.bcmagazine.net/event/instinct-of-sight/
LOCATION:KITEC\, Music Zone@E-Max\, KITEC\,‎ 1 Trademart Drive\, Kowloon Bay\, Hong Kong
CATEGORIES:2019,Concert,Music,Performing Arts
ATTACH;FMTTYPE=image/jpeg:https://www.bcmagazine.net/wp-content/uploads/1919/01/Instinct-of-Sight.jpeg
GEO:22.3239575;114.2037608
X-APPLE-STRUCTURED-LOCATION;VALUE=URI;X-ADDRESS=KITEC Music Zone@E-Max KITEC‎ 1 Trademart Drive Kowloon Bay Hong Kong;X-APPLE-RADIUS=500;X-TITLE=KITEC\,‎ 1 Trademart Drive:geo:114.2037608,22.3239575
END:VEVENT
BEGIN:VEVENT
DTSTART;TZID=Asia/Hong_Kong:20190308T200000
DTEND;TZID=Asia/Hong_Kong:20190308T200000
DTSTAMP:20260424T120313
CREATED:19190111T045612Z
LAST-MODIFIED:20190225T171601Z
UID:10004723-1552075200-1552075200@www.bcmagazine.net
SUMMARY:Yes Culture
DESCRIPTION:Yes Culture\nDate: 8pm\, 8 March\, 2019\nVenue: Kitec\, Music Zone@E-Max\nTickets: tbc
URL:https://www.bcmagazine.net/event/yes-culture-2019/
LOCATION:KITEC\, Music Zone@E-Max\, KITEC\,‎ 1 Trademart Drive\, Kowloon Bay\, Hong Kong
CATEGORIES:2019,Concert,Music,Performing Arts
ATTACH;FMTTYPE=image/jpeg:https://www.bcmagazine.net/wp-content/uploads/1919/01/yes-culture-2019.jpg
GEO:22.3239575;114.2037608
X-APPLE-STRUCTURED-LOCATION;VALUE=URI;X-ADDRESS=KITEC Music Zone@E-Max KITEC‎ 1 Trademart Drive Kowloon Bay Hong Kong;X-APPLE-RADIUS=500;X-TITLE=KITEC\,‎ 1 Trademart Drive:geo:114.2037608,22.3239575
END:VEVENT
BEGIN:VEVENT
DTSTART;TZID=Asia/Hong_Kong:20190303T150000
DTEND;TZID=Asia/Hong_Kong:20190303T150000
DTSTAMP:20260424T120313
CREATED:19190111T045612Z
LAST-MODIFIED:20190225T171814Z
UID:10004724-1551625200-1551625200@www.bcmagazine.net
SUMMARY:@Jam x Tale
DESCRIPTION:@Jam x Tale\nDate: 3pm\, 3 March\, 2019\nVenue: Kitec\, Music Zone@E-Max\nTickets: $880\, $580
URL:https://www.bcmagazine.net/event/jam-x-tale-hk-2019/
LOCATION:KITEC\, Music Zone@E-Max\, KITEC\,‎ 1 Trademart Drive\, Kowloon Bay\, Hong Kong
CATEGORIES:2019,Concert,Music,Performing Arts
GEO:22.3239575;114.2037608
X-APPLE-STRUCTURED-LOCATION;VALUE=URI;X-ADDRESS=KITEC Music Zone@E-Max KITEC‎ 1 Trademart Drive Kowloon Bay Hong Kong;X-APPLE-RADIUS=500;X-TITLE=KITEC\,‎ 1 Trademart Drive:geo:114.2037608,22.3239575
END:VEVENT
BEGIN:VEVENT
DTSTART;TZID=Asia/Hong_Kong:20190220T200000
DTEND;TZID=Asia/Hong_Kong:20190220T200000
DTSTAMP:20260424T120313
CREATED:19181213T044512Z
LAST-MODIFIED:20190115T083058Z
UID:10004601-1550692800-1550692800@www.bcmagazine.net
SUMMARY:Glades
DESCRIPTION:Glades – To Love You Tour\nDate: 8pm\, 20 February\, 2019\nVenue: MOM Livehouse\nTickets: $320\, $280 (advance) from Ticketflap
URL:https://www.bcmagazine.net/event/glades-hk-2019/
LOCATION:KITEC\, Music Zone@E-Max\, KITEC\,‎ 1 Trademart Drive\, Kowloon Bay\, Hong Kong
CATEGORIES:2019,Concert,Music,Performing Arts
ATTACH;FMTTYPE=image/jpeg:https://www.bcmagazine.net/wp-content/uploads/1918/12/glades-hk-2019.jpg
GEO:22.3239575;114.2037608
X-APPLE-STRUCTURED-LOCATION;VALUE=URI;X-ADDRESS=KITEC Music Zone@E-Max KITEC‎ 1 Trademart Drive Kowloon Bay Hong Kong;X-APPLE-RADIUS=500;X-TITLE=KITEC\,‎ 1 Trademart Drive:geo:114.2037608,22.3239575
END:VEVENT
END:VCALENDAR