BEGIN:VCALENDAR
VERSION:2.0
PRODID:-//bc magazine - ECPv6.15.20//NONSGML v1.0//EN
CALSCALE:GREGORIAN
METHOD:PUBLISH
X-WR-CALNAME:bc magazine
X-ORIGINAL-URL:https://www.bcmagazine.net
X-WR-CALDESC:Events for bc magazine
REFRESH-INTERVAL;VALUE=DURATION:PT1H
X-Robots-Tag:noindex
X-PUBLISHED-TTL:PT1H
BEGIN:VTIMEZONE
TZID:Asia/Hong_Kong
BEGIN:STANDARD
TZOFFSETFROM:+0800
TZOFFSETTO:+0800
TZNAME:HKT
DTSTART:20160101T000000
END:STANDARD
END:VTIMEZONE
BEGIN:VEVENT
DTSTART;TZID=Asia/Hong_Kong:20170713T200000
DTEND;TZID=Asia/Hong_Kong:20170713T200000
DTSTAMP:20260423T033821
CREATED:19170702T035650Z
LAST-MODIFIED:20170702T041139Z
UID:10002922-1499976000-1499976000@www.bcmagazine.net
SUMMARY:Nirvenue
DESCRIPTION:Nirvenue World Premiere\nPuff Festival\, Kal Ng\nDate: 8pm\, 13 July\, 2017\nVenue: Mustard Seed by EEG\, 2/F\, Emperor Group Building\, 288 Hennessy Road\, Wanchai.\nTickets: Free
URL:https://www.bcmagazine.net/event/nirvenue-world-premiere/
LOCATION:Mustard Seed by EEG\, 2/F\, Emperor Group Building\, 288 Hennessy Road\, Wanchai\, Hong Kong
CATEGORIES:2017,Film,Free
GEO:22.277496;114.176857
X-APPLE-STRUCTURED-LOCATION;VALUE=URI;X-ADDRESS=Mustard Seed by EEG 2/F Emperor Group Building 288 Hennessy Road Wanchai Hong Kong;X-APPLE-RADIUS=500;X-TITLE=2/F\, Emperor Group Building\, 288 Hennessy Road:geo:114.176857,22.277496
END:VEVENT
END:VCALENDAR